| Back to Multiple platform build/check report for BioC 3.12 |
|
This page was generated on 2021-05-06 12:33:16 -0400 (Thu, 06 May 2021).
|
To the developers/maintainers of the RiboProfiling package: Please make sure to use the following settings in order to reproduce any error or warning you see on this page. |
| Package 1527/1974 | Hostname | OS / Arch | INSTALL | BUILD | CHECK | BUILD BIN | ||||||||
| RiboProfiling 1.20.0 (landing page) A. Popa
| malbec1 | Linux (Ubuntu 18.04.5 LTS) / x86_64 | OK | OK | WARNINGS | |||||||||
| tokay1 | Windows Server 2012 R2 Standard / x64 | OK | OK | WARNINGS | OK | |||||||||
| merida1 | macOS 10.14.6 Mojave / x86_64 | OK | OK | WARNINGS | OK | |||||||||
| Package: RiboProfiling |
| Version: 1.20.0 |
| Command: C:\cygwin\bin\curl.exe -O http://172.29.0.3/BBS/3.12/bioc/src/contrib/RiboProfiling_1.20.0.tar.gz && rm -rf RiboProfiling.buildbin-libdir && mkdir RiboProfiling.buildbin-libdir && C:\Users\biocbuild\bbs-3.12-bioc\R\bin\R.exe CMD INSTALL --merge-multiarch --build --library=RiboProfiling.buildbin-libdir RiboProfiling_1.20.0.tar.gz && C:\Users\biocbuild\bbs-3.12-bioc\R\bin\R.exe CMD INSTALL RiboProfiling_1.20.0.zip && rm RiboProfiling_1.20.0.tar.gz RiboProfiling_1.20.0.zip |
| StartedAt: 2021-05-05 18:37:38 -0400 (Wed, 05 May 2021) |
| EndedAt: 2021-05-05 18:39:14 -0400 (Wed, 05 May 2021) |
| EllapsedTime: 96.1 seconds |
| RetCode: 0 |
| Status: OK |
##############################################################################
##############################################################################
###
### Running command:
###
### C:\cygwin\bin\curl.exe -O http://172.29.0.3/BBS/3.12/bioc/src/contrib/RiboProfiling_1.20.0.tar.gz && rm -rf RiboProfiling.buildbin-libdir && mkdir RiboProfiling.buildbin-libdir && C:\Users\biocbuild\bbs-3.12-bioc\R\bin\R.exe CMD INSTALL --merge-multiarch --build --library=RiboProfiling.buildbin-libdir RiboProfiling_1.20.0.tar.gz && C:\Users\biocbuild\bbs-3.12-bioc\R\bin\R.exe CMD INSTALL RiboProfiling_1.20.0.zip && rm RiboProfiling_1.20.0.tar.gz RiboProfiling_1.20.0.zip
###
##############################################################################
##############################################################################
% Total % Received % Xferd Average Speed Time Time Time Current
Dload Upload Total Spent Left Speed
0 0 0 0 0 0 0 0 --:--:-- --:--:-- --:--:-- 0
100 4318k 100 4318k 0 0 68.7M 0 --:--:-- --:--:-- --:--:-- 70.2M
install for i386
* installing *source* package 'RiboProfiling' ...
** using staged installation
** R
** data
** inst
** byte-compile and prepare package for lazy loading
Warning: replacing previous import 'BiocGenerics::Position' by 'ggplot2::Position' when loading 'RiboProfiling'
** help
*** installing help indices
converting help for package 'RiboProfiling'
finding HTML links ... done
RiboProfiling html
aroundPromoter html
cdsPosTransc html
codonDataCtrl html
codonIndexCovCtrl html
codonInfo html
codonPCA html
countShiftReads html
countsPlot html
ctrlGAlignments html
histMatchLength html
orfRelativePos html
plotSummarizedCov html
printPCA html
readStartCov html
readsToStartOrEnd html
riboSeqFromBAM html
** building package indices
** installing vignettes
** testing if installed package can be loaded from temporary location
Warning: replacing previous import 'BiocGenerics::Position' by 'ggplot2::Position' when loading 'RiboProfiling'
** testing if installed package can be loaded from final location
Warning: replacing previous import 'BiocGenerics::Position' by 'ggplot2::Position' when loading 'RiboProfiling'
** testing if installed package keeps a record of temporary installation path
install for x64
* installing *source* package 'RiboProfiling' ...
** testing if installed package can be loaded
Warning: replacing previous import 'BiocGenerics::Position' by 'ggplot2::Position' when loading 'RiboProfiling'
* MD5 sums
packaged installation of 'RiboProfiling' as RiboProfiling_1.20.0.zip
* DONE (RiboProfiling)
* installing to library 'C:/Users/biocbuild/bbs-3.12-bioc/R/library'
package 'RiboProfiling' successfully unpacked and MD5 sums checked