| Back to Multiple platform build/check report for BioC 3.12 |
|
This page was generated on 2021-05-06 12:33:10 -0400 (Thu, 06 May 2021).
|
To the developers/maintainers of the RegEnrich package: Please make sure to use the following settings in order to reproduce any error or warning you see on this page. |
| Package 1496/1974 | Hostname | OS / Arch | INSTALL | BUILD | CHECK | BUILD BIN | ||||||||
| RegEnrich 1.0.1 (landing page) Weiyang Tao
| malbec1 | Linux (Ubuntu 18.04.5 LTS) / x86_64 | OK | OK | OK | |||||||||
| tokay1 | Windows Server 2012 R2 Standard / x64 | OK | OK | OK | OK | |||||||||
| merida1 | macOS 10.14.6 Mojave / x86_64 | OK | OK | OK | OK | |||||||||
| Package: RegEnrich |
| Version: 1.0.1 |
| Command: rm -rf RegEnrich.buildbin-libdir && mkdir RegEnrich.buildbin-libdir && C:\Users\biocbuild\bbs-3.12-bioc\R\bin\R.exe CMD INSTALL --merge-multiarch --build --library=RegEnrich.buildbin-libdir RegEnrich_1.0.1.tar.gz |
| StartedAt: 2021-05-06 09:54:39 -0400 (Thu, 06 May 2021) |
| EndedAt: 2021-05-06 09:55:32 -0400 (Thu, 06 May 2021) |
| EllapsedTime: 53.9 seconds |
| RetCode: 0 |
| Status: OK |
| PackageFile: RegEnrich_1.0.1.zip |
| PackageFileSize: 1.613 MiB |
##############################################################################
##############################################################################
###
### Running command:
###
### rm -rf RegEnrich.buildbin-libdir && mkdir RegEnrich.buildbin-libdir && C:\Users\biocbuild\bbs-3.12-bioc\R\bin\R.exe CMD INSTALL --merge-multiarch --build --library=RegEnrich.buildbin-libdir RegEnrich_1.0.1.tar.gz
###
##############################################################################
##############################################################################
install for i386
* installing *source* package 'RegEnrich' ...
** using staged installation
** R
** data
** inst
** byte-compile and prepare package for lazy loading
** help
*** installing help indices
converting help for package 'RegEnrich'
finding HTML links ... done
DeaSet-class html
Enrich-class html
Lyme_GSE63085 html
RegenrichSet-class html
RegenrichSet html
finding level-2 HTML links ... done
Score html
TFs html
TopNetwork-class html
dim-TopNetwork-method html
getResultsNames html
headTailScore html
methodsOfShow html
newDeaSet html
newTopNetwork html
plotOrders html
plotRegTarExpr html
plotSoftPower html
plot_Enrich html
print.Score html
reexports html
regenrich_diffExpr html
regenrich_enrich html
regenrich_network html
regenrich_rankScore html
results_expr html
** building package indices
** installing vignettes
** testing if installed package can be loaded from temporary location
** testing if installed package can be loaded from final location
** testing if installed package keeps a record of temporary installation path
install for x64
* installing *source* package 'RegEnrich' ...
** testing if installed package can be loaded
* MD5 sums
packaged installation of 'RegEnrich' as RegEnrich_1.0.1.zip
* DONE (RegEnrich)