| Back to Multiple platform build/check report for BioC 3.12 |
|
This page was generated on 2021-05-06 12:33:07 -0400 (Thu, 06 May 2021).
|
To the developers/maintainers of the Rcade package: Please make sure to use the following settings in order to reproduce any error or warning you see on this page. |
| Package 1464/1974 | Hostname | OS / Arch | INSTALL | BUILD | CHECK | BUILD BIN | ||||||||
| Rcade 1.32.0 (landing page) Jonathan Cairns
| malbec1 | Linux (Ubuntu 18.04.5 LTS) / x86_64 | OK | OK | OK | |||||||||
| tokay1 | Windows Server 2012 R2 Standard / x64 | OK | OK | OK | OK | |||||||||
| merida1 | macOS 10.14.6 Mojave / x86_64 | ERROR | ERROR | skipped | skipped | |||||||||
| Package: Rcade |
| Version: 1.32.0 |
| Command: rm -rf Rcade.buildbin-libdir && mkdir Rcade.buildbin-libdir && C:\Users\biocbuild\bbs-3.12-bioc\R\bin\R.exe CMD INSTALL --merge-multiarch --build --library=Rcade.buildbin-libdir Rcade_1.32.0.tar.gz |
| StartedAt: 2021-05-06 09:52:53 -0400 (Thu, 06 May 2021) |
| EndedAt: 2021-05-06 09:53:40 -0400 (Thu, 06 May 2021) |
| EllapsedTime: 47.0 seconds |
| RetCode: 0 |
| Status: OK |
| PackageFile: Rcade_1.32.0.zip |
| PackageFileSize: 2.131 MiB |
##############################################################################
##############################################################################
###
### Running command:
###
### rm -rf Rcade.buildbin-libdir && mkdir Rcade.buildbin-libdir && C:\Users\biocbuild\bbs-3.12-bioc\R\bin\R.exe CMD INSTALL --merge-multiarch --build --library=Rcade.buildbin-libdir Rcade_1.32.0.tar.gz
###
##############################################################################
##############################################################################
install for i386
* installing *source* package 'Rcade' ...
** using staged installation
** R
** data
** inst
** byte-compile and prepare package for lazy loading
** help
*** installing help indices
converting help for package 'Rcade'
finding HTML links ... done
Rcade-class html
RcadeAnalysis html
RcadeSTAT1 html
RcadeTrack-class html
constructRcadeTable html
countReads html
defineBins html
finding level-2 HTML links ... done
diffCountsBaySeq html
exportRcade-methods html
** building package indices
** installing vignettes
** testing if installed package can be loaded from temporary location
** testing if installed package can be loaded from final location
** testing if installed package keeps a record of temporary installation path
install for x64
* installing *source* package 'Rcade' ...
** testing if installed package can be loaded
* MD5 sums
packaged installation of 'Rcade' as Rcade_1.32.0.zip
* DONE (Rcade)