| Back to Multiple platform build/check report for BioC 3.12 |
|
This page was generated on 2021-05-06 12:33:06 -0400 (Thu, 06 May 2021).
|
To the developers/maintainers of the Rariant package: Please make sure to use the following settings in order to reproduce any error or warning you see on this page. |
| Package 1455/1974 | Hostname | OS / Arch | INSTALL | BUILD | CHECK | BUILD BIN | ||||||||
Julian Gehring
| malbec1 | Linux (Ubuntu 18.04.5 LTS) / x86_64 | ERROR | ERROR | skipped | |||||||||
| tokay1 | Windows Server 2012 R2 Standard / x64 | ERROR | ERROR | skipped | skipped | |||||||||
| merida1 | macOS 10.14.6 Mojave / x86_64 | ERROR | ERROR | skipped | skipped | |||||||||
| Package: Rariant |
| Version: 1.26.0 |
| Command: C:\cygwin\bin\curl.exe -O http://172.29.0.3/BBS/3.12/bioc/src/contrib/Rariant_1.26.0.tar.gz && rm -rf Rariant.buildbin-libdir && mkdir Rariant.buildbin-libdir && C:\Users\biocbuild\bbs-3.12-bioc\R\bin\R.exe CMD INSTALL --merge-multiarch --build --library=Rariant.buildbin-libdir Rariant_1.26.0.tar.gz && C:\Users\biocbuild\bbs-3.12-bioc\R\bin\R.exe CMD INSTALL Rariant_1.26.0.zip && rm Rariant_1.26.0.tar.gz Rariant_1.26.0.zip |
| StartedAt: 2021-05-05 19:01:01 -0400 (Wed, 05 May 2021) |
| EndedAt: 2021-05-05 19:01:26 -0400 (Wed, 05 May 2021) |
| EllapsedTime: 25.4 seconds |
| RetCode: 1 |
| Status: ERROR |
##############################################################################
##############################################################################
###
### Running command:
###
### C:\cygwin\bin\curl.exe -O http://172.29.0.3/BBS/3.12/bioc/src/contrib/Rariant_1.26.0.tar.gz && rm -rf Rariant.buildbin-libdir && mkdir Rariant.buildbin-libdir && C:\Users\biocbuild\bbs-3.12-bioc\R\bin\R.exe CMD INSTALL --merge-multiarch --build --library=Rariant.buildbin-libdir Rariant_1.26.0.tar.gz && C:\Users\biocbuild\bbs-3.12-bioc\R\bin\R.exe CMD INSTALL Rariant_1.26.0.zip && rm Rariant_1.26.0.tar.gz Rariant_1.26.0.zip
###
##############################################################################
##############################################################################
% Total % Received % Xferd Average Speed Time Time Time Current
Dload Upload Total Spent Left Speed
0 0 0 0 0 0 0 0 --:--:-- --:--:-- --:--:-- 0
46 5499k 46 2574k 0 0 28.1M 0 --:--:-- --:--:-- --:--:-- 28.2M
100 5499k 100 5499k 0 0 37.0M 0 --:--:-- --:--:-- --:--:-- 37.0M
install for i386
* installing *source* package 'Rariant' ...
** using staged installation
** R
** inst
** byte-compile and prepare package for lazy loading
Error: object 'rbind_all' is not exported by 'namespace:dplyr'
Execution halted
ERROR: lazy loading failed for package 'Rariant'
* removing 'C:/Users/biocbuild/bbs-3.12-bioc/meat/Rariant.buildbin-libdir/Rariant'