| Back to Multiple platform build/check report for BioC 3.12 |
|
This page was generated on 2021-05-06 12:33:06 -0400 (Thu, 06 May 2021).
|
To the developers/maintainers of the RareVariantVis package: Please make sure to use the following settings in order to reproduce any error or warning you see on this page. |
| Package 1454/1974 | Hostname | OS / Arch | INSTALL | BUILD | CHECK | BUILD BIN | ||||||||
| RareVariantVis 2.18.0 (landing page) Tomasz Stokowy
| malbec1 | Linux (Ubuntu 18.04.5 LTS) / x86_64 | OK | OK | OK | |||||||||
| tokay1 | Windows Server 2012 R2 Standard / x64 | OK | OK | OK | OK | |||||||||
| merida1 | macOS 10.14.6 Mojave / x86_64 | OK | OK | OK | OK | |||||||||
| Package: RareVariantVis |
| Version: 2.18.0 |
| Command: C:\cygwin\bin\curl.exe -O http://172.29.0.3/BBS/3.12/bioc/src/contrib/RareVariantVis_2.18.0.tar.gz && rm -rf RareVariantVis.buildbin-libdir && mkdir RareVariantVis.buildbin-libdir && C:\Users\biocbuild\bbs-3.12-bioc\R\bin\R.exe CMD INSTALL --merge-multiarch --build --library=RareVariantVis.buildbin-libdir RareVariantVis_2.18.0.tar.gz && C:\Users\biocbuild\bbs-3.12-bioc\R\bin\R.exe CMD INSTALL RareVariantVis_2.18.0.zip && rm RareVariantVis_2.18.0.tar.gz RareVariantVis_2.18.0.zip |
| StartedAt: 2021-05-05 18:22:18 -0400 (Wed, 05 May 2021) |
| EndedAt: 2021-05-05 18:25:08 -0400 (Wed, 05 May 2021) |
| EllapsedTime: 170.7 seconds |
| RetCode: 0 |
| Status: OK |
##############################################################################
##############################################################################
###
### Running command:
###
### C:\cygwin\bin\curl.exe -O http://172.29.0.3/BBS/3.12/bioc/src/contrib/RareVariantVis_2.18.0.tar.gz && rm -rf RareVariantVis.buildbin-libdir && mkdir RareVariantVis.buildbin-libdir && C:\Users\biocbuild\bbs-3.12-bioc\R\bin\R.exe CMD INSTALL --merge-multiarch --build --library=RareVariantVis.buildbin-libdir RareVariantVis_2.18.0.tar.gz && C:\Users\biocbuild\bbs-3.12-bioc\R\bin\R.exe CMD INSTALL RareVariantVis_2.18.0.zip && rm RareVariantVis_2.18.0.tar.gz RareVariantVis_2.18.0.zip
###
##############################################################################
##############################################################################
% Total % Received % Xferd Average Speed Time Time Time Current
Dload Upload Total Spent Left Speed
0 0 0 0 0 0 0 0 --:--:-- --:--:-- --:--:-- 0
100 2632k 100 2632k 0 0 25.9M 0 --:--:-- --:--:-- --:--:-- 26.2M
install for i386
* installing *source* package 'RareVariantVis' ...
** using staged installation
** R
** inst
** byte-compile and prepare package for lazy loading
Creating a generic function for 'toJSON' from package 'jsonlite' in package 'googleVis'
** help
*** installing help indices
converting help for package 'RareVariantVis'
finding HTML links ... done
callHomozygous html
chromosomeVis html
getCrisprGuides html
movingAverage html
multipleVis html
rareVariantVis html
** building package indices
** installing vignettes
** testing if installed package can be loaded from temporary location
Creating a generic function for 'toJSON' from package 'jsonlite' in package 'googleVis'
** testing if installed package can be loaded from final location
Creating a generic function for 'toJSON' from package 'jsonlite' in package 'googleVis'
** testing if installed package keeps a record of temporary installation path
install for x64
* installing *source* package 'RareVariantVis' ...
** testing if installed package can be loaded
Creating a generic function for 'toJSON' from package 'jsonlite' in package 'googleVis'
* MD5 sums
packaged installation of 'RareVariantVis' as RareVariantVis_2.18.0.zip
* DONE (RareVariantVis)
* installing to library 'C:/Users/biocbuild/bbs-3.12-bioc/R/library'
package 'RareVariantVis' successfully unpacked and MD5 sums checked