| Back to Multiple platform build/check report for BioC 3.12 |
|
This page was generated on 2021-05-06 12:33:06 -0400 (Thu, 06 May 2021).
|
To the developers/maintainers of the RandomWalkRestartMH package: Please make sure to use the following settings in order to reproduce any error or warning you see on this page. |
| Package 1450/1974 | Hostname | OS / Arch | INSTALL | BUILD | CHECK | BUILD BIN | ||||||||
| RandomWalkRestartMH 1.10.0 (landing page) Alberto Valdeolivas Urbelz
| malbec1 | Linux (Ubuntu 18.04.5 LTS) / x86_64 | OK | OK | OK | |||||||||
| tokay1 | Windows Server 2012 R2 Standard / x64 | OK | OK | OK | OK | |||||||||
| merida1 | macOS 10.14.6 Mojave / x86_64 | OK | OK | OK | OK | |||||||||
| Package: RandomWalkRestartMH |
| Version: 1.10.0 |
| Command: rm -rf RandomWalkRestartMH.buildbin-libdir && mkdir RandomWalkRestartMH.buildbin-libdir && C:\Users\biocbuild\bbs-3.12-bioc\R\bin\R.exe CMD INSTALL --merge-multiarch --build --library=RandomWalkRestartMH.buildbin-libdir RandomWalkRestartMH_1.10.0.tar.gz |
| StartedAt: 2021-05-06 09:52:04 -0400 (Thu, 06 May 2021) |
| EndedAt: 2021-05-06 09:52:24 -0400 (Thu, 06 May 2021) |
| EllapsedTime: 20.9 seconds |
| RetCode: 0 |
| Status: OK |
| PackageFile: RandomWalkRestartMH_1.10.0.zip |
| PackageFileSize: 1.017 MiB |
##############################################################################
##############################################################################
###
### Running command:
###
### rm -rf RandomWalkRestartMH.buildbin-libdir && mkdir RandomWalkRestartMH.buildbin-libdir && C:\Users\biocbuild\bbs-3.12-bioc\R\bin\R.exe CMD INSTALL --merge-multiarch --build --library=RandomWalkRestartMH.buildbin-libdir RandomWalkRestartMH_1.10.0.tar.gz
###
##############################################################################
##############################################################################
install for i386
* installing *source* package 'RandomWalkRestartMH' ...
** using staged installation
** R
** data
*** moving datasets to lazyload DB
** inst
** byte-compile and prepare package for lazy loading
** help
*** installing help indices
converting help for package 'RandomWalkRestartMH'
finding HTML links ... done
Disease_Network html
GeneDiseaseRelations html
PPI_Network html
Pathway_Network html
Random.Walk.Restart.Multiplex html
Random.Walk.Restart.MultiplexHet html
compute.adjacency.matrix html
compute.transition.matrix html
create.multiplex html
create.multiplexHet html
create.multiplexHetNetwork.topResults html
create.multiplexNetwork.topResults html
isMultiplex html
isMultiplexHet html
isRWRMH_Results html
isRWRM_Results html
normalize.multiplex.adjacency html
** building package indices
** installing vignettes
** testing if installed package can be loaded from temporary location
** testing if installed package can be loaded from final location
** testing if installed package keeps a record of temporary installation path
install for x64
* installing *source* package 'RandomWalkRestartMH' ...
** testing if installed package can be loaded
* MD5 sums
packaged installation of 'RandomWalkRestartMH' as RandomWalkRestartMH_1.10.0.zip
* DONE (RandomWalkRestartMH)