| Back to Multiple platform build/check report for BioC 3.12 |
|
This page was generated on 2021-05-06 12:33:06 -0400 (Thu, 06 May 2021).
|
To the developers/maintainers of the RaggedExperiment package: Please make sure to use the following settings in order to reproduce any error or warning you see on this page. |
| Package 1446/1974 | Hostname | OS / Arch | INSTALL | BUILD | CHECK | BUILD BIN | ||||||||
| RaggedExperiment 1.14.2 (landing page) Martin Morgan
| malbec1 | Linux (Ubuntu 18.04.5 LTS) / x86_64 | OK | OK | OK | |||||||||
| tokay1 | Windows Server 2012 R2 Standard / x64 | OK | OK | WARNINGS | OK | |||||||||
| merida1 | macOS 10.14.6 Mojave / x86_64 | OK | OK | OK | OK | |||||||||
| Package: RaggedExperiment |
| Version: 1.14.2 |
| Command: rm -rf RaggedExperiment.buildbin-libdir && mkdir RaggedExperiment.buildbin-libdir && C:\Users\biocbuild\bbs-3.12-bioc\R\bin\R.exe CMD INSTALL --merge-multiarch --build --library=RaggedExperiment.buildbin-libdir RaggedExperiment_1.14.2.tar.gz |
| StartedAt: 2021-05-06 09:51:50 -0400 (Thu, 06 May 2021) |
| EndedAt: 2021-05-06 09:52:47 -0400 (Thu, 06 May 2021) |
| EllapsedTime: 56.9 seconds |
| RetCode: 0 |
| Status: OK |
| PackageFile: RaggedExperiment_1.14.2.zip |
| PackageFileSize: 909 KiB |
##############################################################################
##############################################################################
###
### Running command:
###
### rm -rf RaggedExperiment.buildbin-libdir && mkdir RaggedExperiment.buildbin-libdir && C:\Users\biocbuild\bbs-3.12-bioc\R\bin\R.exe CMD INSTALL --merge-multiarch --build --library=RaggedExperiment.buildbin-libdir RaggedExperiment_1.14.2.tar.gz
###
##############################################################################
##############################################################################
install for i386
* installing *source* package 'RaggedExperiment' ...
** using staged installation
** R
** inst
** byte-compile and prepare package for lazy loading
** help
*** installing help indices
converting help for package 'RaggedExperiment'
finding HTML links ... done
RaggedExperiment-class html
finding level-2 HTML links ... done
Rd warning: C:/Users/biocbuild/bbs-3.12-bioc/tmpdir/RtmpsVY0pr/R.INSTALL446c162126f0/RaggedExperiment/man/RaggedExperiment-class.Rd:117: file link 'GRanges' in package 'GenomicRanges' does not exist and so has been treated as a topic
Rd warning: C:/Users/biocbuild/bbs-3.12-bioc/tmpdir/RtmpsVY0pr/R.INSTALL446c162126f0/RaggedExperiment/man/RaggedExperiment-class.Rd:141: file link 'GRangesList' in package 'GenomicRanges' does not exist and so has been treated as a topic
Rd warning: C:/Users/biocbuild/bbs-3.12-bioc/tmpdir/RtmpsVY0pr/R.INSTALL446c162126f0/RaggedExperiment/man/RaggedExperiment-class.Rd:142: file link 'GAlignmentPairs' in package 'GenomicAlignments' does not exist and so has been treated as a topic
Rd warning: C:/Users/biocbuild/bbs-3.12-bioc/tmpdir/RtmpsVY0pr/R.INSTALL446c162126f0/RaggedExperiment/man/RaggedExperiment-class.Rd:143: file link 'GAlignmentsList' in package 'GenomicAlignments' does not exist and so has been treated as a topic
Rd warning: C:/Users/biocbuild/bbs-3.12-bioc/tmpdir/RtmpsVY0pr/R.INSTALL446c162126f0/RaggedExperiment/man/RaggedExperiment-class.Rd:152: file link 'GRangesList' in package 'GenomicRanges' does not exist and so has been treated as a topic
Rd warning: C:/Users/biocbuild/bbs-3.12-bioc/tmpdir/RtmpsVY0pr/R.INSTALL446c162126f0/RaggedExperiment/man/RaggedExperiment-class.Rd:154: file link 'exonsBy' in package 'GenomicFeatures' does not exist and so has been treated as a topic
Rd warning: C:/Users/biocbuild/bbs-3.12-bioc/tmpdir/RtmpsVY0pr/R.INSTALL446c162126f0/RaggedExperiment/man/RaggedExperiment-class.Rd:167: file link 'GRangesList' in package 'GenomicRanges' does not exist and so has been treated as a topic
Rd warning: C:/Users/biocbuild/bbs-3.12-bioc/tmpdir/RtmpsVY0pr/R.INSTALL446c162126f0/RaggedExperiment/man/RaggedExperiment-class.Rd:172: file link 'GRanges' in package 'GenomicRanges' does not exist and so has been treated as a topic
Rd warning: C:/Users/biocbuild/bbs-3.12-bioc/tmpdir/RtmpsVY0pr/R.INSTALL446c162126f0/RaggedExperiment/man/RaggedExperiment-class.Rd:173: file link 'GAlignments' in package 'GenomicAlignments' does not exist and so has been treated as a topic
Rd warning: C:/Users/biocbuild/bbs-3.12-bioc/tmpdir/RtmpsVY0pr/R.INSTALL446c162126f0/RaggedExperiment/man/RaggedExperiment-class.Rd:182: file link 'DataFrame' in package 'S4Vectors' does not exist and so has been treated as a topic
Rd warning: C:/Users/biocbuild/bbs-3.12-bioc/tmpdir/RtmpsVY0pr/R.INSTALL446c162126f0/RaggedExperiment/man/RaggedExperiment-class.Rd:206: file link 'IntegerRanges' in package 'IRanges' does not exist and so has been treated as a topic
Rd warning: C:/Users/biocbuild/bbs-3.12-bioc/tmpdir/RtmpsVY0pr/R.INSTALL446c162126f0/RaggedExperiment/man/RaggedExperiment-class.Rd:206: file link 'IRanges' in package 'IRanges' does not exist and so has been treated as a topic
Rd warning: C:/Users/biocbuild/bbs-3.12-bioc/tmpdir/RtmpsVY0pr/R.INSTALL446c162126f0/RaggedExperiment/man/RaggedExperiment-class.Rd:207: file link 'Views' in package 'IRanges' does not exist and so has been treated as a topic
Rd warning: C:/Users/biocbuild/bbs-3.12-bioc/tmpdir/RtmpsVY0pr/R.INSTALL446c162126f0/RaggedExperiment/man/RaggedExperiment-class.Rd:207: file link 'IntegerRangesList' in package 'IRanges' does not exist and so has been treated as a topic
Rd warning: C:/Users/biocbuild/bbs-3.12-bioc/tmpdir/RtmpsVY0pr/R.INSTALL446c162126f0/RaggedExperiment/man/RaggedExperiment-class.Rd:207: file link 'IRangesList' in package 'IRanges' does not exist and so has been treated as a topic
Rd warning: C:/Users/biocbuild/bbs-3.12-bioc/tmpdir/RtmpsVY0pr/R.INSTALL446c162126f0/RaggedExperiment/man/RaggedExperiment-class.Rd:208: file link 'ViewsList' in package 'IRanges' does not exist and so has been treated as a topic
Rd warning: C:/Users/biocbuild/bbs-3.12-bioc/tmpdir/RtmpsVY0pr/R.INSTALL446c162126f0/RaggedExperiment/man/RaggedExperiment-class.Rd:209: file link 'IntegerRanges' in package 'IRanges' does not exist and so has been treated as a topic
Rd warning: C:/Users/biocbuild/bbs-3.12-bioc/tmpdir/RtmpsVY0pr/R.INSTALL446c162126f0/RaggedExperiment/man/RaggedExperiment-class.Rd:213: file link 'IntegerRangesList' in package 'IRanges' does not exist and so has been treated as a topic
Rd warning: C:/Users/biocbuild/bbs-3.12-bioc/tmpdir/RtmpsVY0pr/R.INSTALL446c162126f0/RaggedExperiment/man/RaggedExperiment-class.Rd:215: file link 'IntegerRangesList' in package 'IRanges' does not exist and so has been treated as a topic
Rd warning: C:/Users/biocbuild/bbs-3.12-bioc/tmpdir/RtmpsVY0pr/R.INSTALL446c162126f0/RaggedExperiment/man/RaggedExperiment-class.Rd:280: file link 'IntegerRanges' in package 'IRanges' does not exist and so has been treated as a topic
Rd warning: C:/Users/biocbuild/bbs-3.12-bioc/tmpdir/RtmpsVY0pr/R.INSTALL446c162126f0/RaggedExperiment/man/RaggedExperiment-class.Rd:280: file link 'IRanges' in package 'IRanges' does not exist and so has been treated as a topic
Rd warning: C:/Users/biocbuild/bbs-3.12-bioc/tmpdir/RtmpsVY0pr/R.INSTALL446c162126f0/RaggedExperiment/man/RaggedExperiment-class.Rd:281: file link 'Views' in package 'IRanges' does not exist and so has been treated as a topic
Rd warning: C:/Users/biocbuild/bbs-3.12-bioc/tmpdir/RtmpsVY0pr/R.INSTALL446c162126f0/RaggedExperiment/man/RaggedExperiment-class.Rd:281: file link 'IntegerRangesList' in package 'IRanges' does not exist and so has been treated as a topic
Rd warning: C:/Users/biocbuild/bbs-3.12-bioc/tmpdir/RtmpsVY0pr/R.INSTALL446c162126f0/RaggedExperiment/man/RaggedExperiment-class.Rd:281: file link 'IRangesList' in package 'IRanges' does not exist and so has been treated as a topic
Rd warning: C:/Users/biocbuild/bbs-3.12-bioc/tmpdir/RtmpsVY0pr/R.INSTALL446c162126f0/RaggedExperiment/man/RaggedExperiment-class.Rd:282: file link 'ViewsList' in package 'IRanges' does not exist and so has been treated as a topic
Rd warning: C:/Users/biocbuild/bbs-3.12-bioc/tmpdir/RtmpsVY0pr/R.INSTALL446c162126f0/RaggedExperiment/man/RaggedExperiment-class.Rd:283: file link 'IntegerRanges' in package 'IRanges' does not exist and so has been treated as a topic
Rd warning: C:/Users/biocbuild/bbs-3.12-bioc/tmpdir/RtmpsVY0pr/R.INSTALL446c162126f0/RaggedExperiment/man/RaggedExperiment-class.Rd:287: file link 'IntegerRangesList' in package 'IRanges' does not exist and so has been treated as a topic
Rd warning: C:/Users/biocbuild/bbs-3.12-bioc/tmpdir/RtmpsVY0pr/R.INSTALL446c162126f0/RaggedExperiment/man/RaggedExperiment-class.Rd:289: file link 'IntegerRangesList' in package 'IRanges' does not exist and so has been treated as a topic
Rd warning: C:/Users/biocbuild/bbs-3.12-bioc/tmpdir/RtmpsVY0pr/R.INSTALL446c162126f0/RaggedExperiment/man/RaggedExperiment-class.Rd:415: file link 'SimpleList' in package 'S4Vectors' does not exist and so has been treated as a topic
Rd warning: C:/Users/biocbuild/bbs-3.12-bioc/tmpdir/RtmpsVY0pr/R.INSTALL446c162126f0/RaggedExperiment/man/RaggedExperiment-class.Rd:429: file link 'DataFrame' in package 'S4Vectors' does not exist and so has been treated as a topic
RaggedExperiment-package html
assay-functions html
coerce-functions html
** building package indices
** installing vignettes
** testing if installed package can be loaded from temporary location
** testing if installed package can be loaded from final location
** testing if installed package keeps a record of temporary installation path
install for x64
* installing *source* package 'RaggedExperiment' ...
** testing if installed package can be loaded
* MD5 sums
packaged installation of 'RaggedExperiment' as RaggedExperiment_1.14.2.zip
* DONE (RaggedExperiment)