| Back to Multiple platform build/check report for BioC 3.12 |
|
This page was generated on 2021-05-06 12:28:43 -0400 (Thu, 06 May 2021).
|
To the developers/maintainers of the RadioGx package: Please make sure to use the following settings in order to reproduce any error or warning you see on this page. |
| Package 1445/1974 | Hostname | OS / Arch | INSTALL | BUILD | CHECK | BUILD BIN | ||||||||
| RadioGx 1.0.0 (landing page) Benjamin Haibe-Kains
| malbec1 | Linux (Ubuntu 18.04.5 LTS) / x86_64 | OK | OK | OK | |||||||||
| tokay1 | Windows Server 2012 R2 Standard / x64 | OK | OK | OK | OK | |||||||||
| merida1 | macOS 10.14.6 Mojave / x86_64 | OK | OK | OK | OK | |||||||||
| Package: RadioGx |
| Version: 1.0.0 |
| Command: /home/biocbuild/bbs-3.12-bioc/R/bin/R CMD build --keep-empty-dirs --no-resave-data RadioGx |
| StartedAt: 2021-05-05 21:14:27 -0400 (Wed, 05 May 2021) |
| EndedAt: 2021-05-05 21:15:17 -0400 (Wed, 05 May 2021) |
| EllapsedTime: 49.8 seconds |
| RetCode: 0 |
| Status: OK |
| PackageFile: RadioGx_1.0.0.tar.gz |
| PackageFileSize: 2.771 MiB |
############################################################################## ############################################################################## ### ### Running command: ### ### /home/biocbuild/bbs-3.12-bioc/R/bin/R CMD build --keep-empty-dirs --no-resave-data RadioGx ### ############################################################################## ############################################################################## * checking for file ‘RadioGx/DESCRIPTION’ ... OK * preparing ‘RadioGx’: * checking DESCRIPTION meta-information ... OK * installing the package to build vignettes * creating vignettes ... OK * checking for LF line-endings in source and make files and shell scripts * checking for empty or unneeded directories * building ‘RadioGx_1.0.0.tar.gz’