| Back to Multiple platform build/check report for BioC 3.12 |
|
This page was generated on 2021-05-06 12:33:24 -0400 (Thu, 06 May 2021).
|
To the developers/maintainers of the RVS package: Please make sure to use the following settings in order to reproduce any error or warning you see on this page. |
| Package 1606/1974 | Hostname | OS / Arch | INSTALL | BUILD | CHECK | BUILD BIN | ||||||||
| RVS 1.12.0 (landing page) Thomas Sherman
| malbec1 | Linux (Ubuntu 18.04.5 LTS) / x86_64 | OK | OK | OK | |||||||||
| tokay1 | Windows Server 2012 R2 Standard / x64 | OK | OK | OK | OK | |||||||||
| merida1 | macOS 10.14.6 Mojave / x86_64 | OK | OK | OK | OK | |||||||||
| Package: RVS |
| Version: 1.12.0 |
| Command: rm -rf RVS.buildbin-libdir && mkdir RVS.buildbin-libdir && C:\Users\biocbuild\bbs-3.12-bioc\R\bin\R.exe CMD INSTALL --merge-multiarch --build --library=RVS.buildbin-libdir RVS_1.12.0.tar.gz |
| StartedAt: 2021-05-06 10:01:45 -0400 (Thu, 06 May 2021) |
| EndedAt: 2021-05-06 10:02:10 -0400 (Thu, 06 May 2021) |
| EllapsedTime: 25.1 seconds |
| RetCode: 0 |
| Status: OK |
| PackageFile: RVS_1.12.0.zip |
| PackageFileSize: 552.1 KiB |
##############################################################################
##############################################################################
###
### Running command:
###
### rm -rf RVS.buildbin-libdir && mkdir RVS.buildbin-libdir && C:\Users\biocbuild\bbs-3.12-bioc\R\bin\R.exe CMD INSTALL --merge-multiarch --build --library=RVS.buildbin-libdir RVS_1.12.0.tar.gz
###
##############################################################################
##############################################################################
install for i386
* installing *source* package 'RVS' ...
** using staged installation
** R
** data
*** moving datasets to lazyload DB
** inst
** byte-compile and prepare package for lazy loading
** help
*** installing help indices
converting help for package 'RVS'
finding HTML links ... done
ComputeKinshipPropCoef-methods html
GeneDrop html
RVS html
RVgene html
RVsharing-methods html
SnpMatrixToCount html
ancestorDistance html
areMating html
checkArgs html
computePFU html
computePhiVec html
convertMatrix html
createNetwork html
denomProb html
enrichmentPValue html
enrichmentPValue_R_Backend html
ex.ped.mat html
exactSharingProb html
extract_carriers html
fam15157.vcf html
fam28003.vcf html
founderOccurence html
get.psubset html
inferNumAlleles html
inferTheta html
isDescendant html
marginalProb html
monteCarloSharingProb html
multipleFamilyPValue html
multipleFamilyPValue_R_Backend html
multipleVariantPValue html
multipleVariantPValue_R_Backend html
numerProb html
oldArgs html
oneFounderSharingProb html
oneFounderSharingProbSplitting html
ped2trio html
processPedigree-methods html
relatedFoundersCorrection html
runMonteCarlo html
samplePedigrees html
simulatePedigree html
snpMat html
twoFounderSharingProb html
** building package indices
** installing vignettes
** testing if installed package can be loaded from temporary location
** testing if installed package can be loaded from final location
** testing if installed package keeps a record of temporary installation path
install for x64
* installing *source* package 'RVS' ...
** testing if installed package can be loaded
* MD5 sums
packaged installation of 'RVS' as RVS_1.12.0.zip
* DONE (RVS)