| Back to Multiple platform build/check report for BioC 3.12 |
|
This page was generated on 2021-05-06 12:28:56 -0400 (Thu, 06 May 2021).
|
To the developers/maintainers of the RTN package: Please make sure to use the following settings in order to reproduce any error or warning you see on this page. |
| Package 1593/1974 | Hostname | OS / Arch | INSTALL | BUILD | CHECK | BUILD BIN | ||||||||
| RTN 2.14.1 (landing page) Mauro Castro
| malbec1 | Linux (Ubuntu 18.04.5 LTS) / x86_64 | OK | OK | OK | |||||||||
| tokay1 | Windows Server 2012 R2 Standard / x64 | OK | OK | OK | OK | |||||||||
| merida1 | macOS 10.14.6 Mojave / x86_64 | OK | OK | OK | OK | |||||||||
| Package: RTN |
| Version: 2.14.1 |
| Command: /home/biocbuild/bbs-3.12-bioc/R/bin/R CMD build --keep-empty-dirs --no-resave-data RTN |
| StartedAt: 2021-05-05 21:36:59 -0400 (Wed, 05 May 2021) |
| EndedAt: 2021-05-05 21:39:45 -0400 (Wed, 05 May 2021) |
| EllapsedTime: 165.8 seconds |
| RetCode: 0 |
| Status: OK |
| PackageFile: RTN_2.14.1.tar.gz |
| PackageFileSize: 10.53 MiB |
############################################################################## ############################################################################## ### ### Running command: ### ### /home/biocbuild/bbs-3.12-bioc/R/bin/R CMD build --keep-empty-dirs --no-resave-data RTN ### ############################################################################## ############################################################################## * checking for file ‘RTN/DESCRIPTION’ ... OK * preparing ‘RTN’: * checking DESCRIPTION meta-information ... OK * installing the package to build vignettes * creating vignettes ... OK * checking for LF line-endings in source and make files and shell scripts * checking for empty or unneeded directories * looking to see if a ‘data/datalist’ file should be added * building ‘RTN_2.14.1.tar.gz’