| Back to Multiple platform build/check report for BioC 3.12 |
|
This page was generated on 2021-05-06 12:36:36 -0400 (Thu, 06 May 2021).
|
To the developers/maintainers of the RTCGAToolbox package: Please make sure to use the following settings in order to reproduce any error or warning you see on this page. |
| Package 1592/1974 | Hostname | OS / Arch | INSTALL | BUILD | CHECK | BUILD BIN | ||||||||
| RTCGAToolbox 2.20.0 (landing page) Marcel Ramos
| malbec1 | Linux (Ubuntu 18.04.5 LTS) / x86_64 | OK | OK | OK | |||||||||
| tokay1 | Windows Server 2012 R2 Standard / x64 | OK | OK | OK | OK | |||||||||
| merida1 | macOS 10.14.6 Mojave / x86_64 | OK | OK | OK | OK | |||||||||
| Package: RTCGAToolbox |
| Version: 2.20.0 |
| Command: /Library/Frameworks/R.framework/Versions/Current/Resources/bin/R CMD check --install=check:RTCGAToolbox.install-out.txt --library=/Library/Frameworks/R.framework/Versions/Current/Resources/library --no-vignettes --timings RTCGAToolbox_2.20.0.tar.gz |
| StartedAt: 2021-05-06 05:44:05 -0400 (Thu, 06 May 2021) |
| EndedAt: 2021-05-06 05:47:55 -0400 (Thu, 06 May 2021) |
| EllapsedTime: 229.6 seconds |
| RetCode: 0 |
| Status: OK |
| CheckDir: RTCGAToolbox.Rcheck |
| Warnings: 0 |
##############################################################################
##############################################################################
###
### Running command:
###
### /Library/Frameworks/R.framework/Versions/Current/Resources/bin/R CMD check --install=check:RTCGAToolbox.install-out.txt --library=/Library/Frameworks/R.framework/Versions/Current/Resources/library --no-vignettes --timings RTCGAToolbox_2.20.0.tar.gz
###
##############################################################################
##############################################################################
* using log directory ‘/Users/biocbuild/bbs-3.12-bioc/meat/RTCGAToolbox.Rcheck’
* using R version 4.0.5 (2021-03-31)
* using platform: x86_64-apple-darwin17.0 (64-bit)
* using session charset: UTF-8
* using option ‘--no-vignettes’
* checking for file ‘RTCGAToolbox/DESCRIPTION’ ... OK
* checking extension type ... Package
* this is package ‘RTCGAToolbox’ version ‘2.20.0’
* package encoding: UTF-8
* checking package namespace information ... OK
* checking package dependencies ... OK
* checking if this is a source package ... OK
* checking if there is a namespace ... OK
* checking for hidden files and directories ... OK
* checking for portable file names ... OK
* checking for sufficient/correct file permissions ... OK
* checking whether package ‘RTCGAToolbox’ can be installed ... OK
* checking installed package size ... OK
* checking package directory ... OK
* checking ‘build’ directory ... OK
* checking DESCRIPTION meta-information ... OK
* checking top-level files ... OK
* checking for left-over files ... OK
* checking index information ... OK
* checking package subdirectories ... OK
* checking R files for non-ASCII characters ... OK
* checking R files for syntax errors ... OK
* checking whether the package can be loaded ... OK
* checking whether the package can be loaded with stated dependencies ... OK
* checking whether the package can be unloaded cleanly ... OK
* checking whether the namespace can be loaded with stated dependencies ... OK
* checking whether the namespace can be unloaded cleanly ... OK
* checking dependencies in R code ... OK
* checking S3 generic/method consistency ... OK
* checking replacement functions ... OK
* checking foreign function calls ... OK
* checking R code for possible problems ... OK
* checking Rd files ... OK
* checking Rd metadata ... OK
* checking Rd cross-references ... OK
* checking for missing documentation entries ... OK
* checking for code/documentation mismatches ... OK
* checking Rd \usage sections ... OK
* checking Rd contents ... OK
* checking for unstated dependencies in examples ... OK
* checking contents of ‘data’ directory ... OK
* checking data for non-ASCII characters ... OK
* checking data for ASCII and uncompressed saves ... OK
* checking files in ‘vignettes’ ... OK
* checking examples ... OK
Examples with CPU (user + system) or elapsed time > 5s
user system elapsed
getGISTICPeaks 8.387 0.633 10.333
biocExtract 7.383 0.272 9.010
* checking for unstated dependencies in vignettes ... OK
* checking package vignettes in ‘inst/doc’ ... OK
* checking running R code from vignettes ... SKIPPED
* checking re-building of vignette outputs ... SKIPPED
* checking PDF version of manual ... OK
* DONE
Status: OK
RTCGAToolbox.Rcheck/00install.out
############################################################################## ############################################################################## ### ### Running command: ### ### /Library/Frameworks/R.framework/Versions/Current/Resources/bin/R CMD INSTALL RTCGAToolbox ### ############################################################################## ############################################################################## * installing to library ‘/Library/Frameworks/R.framework/Versions/4.0/Resources/library’ * installing *source* package ‘RTCGAToolbox’ ... ** using staged installation ** R ** data *** moving datasets to lazyload DB ** inst ** byte-compile and prepare package for lazy loading ** help *** installing help indices ** building package indices ** installing vignettes ** testing if installed package can be loaded from temporary location ** testing if installed package can be loaded from final location ** testing if installed package keeps a record of temporary installation path * DONE (RTCGAToolbox)
RTCGAToolbox.Rcheck/RTCGAToolbox-Ex.timings
| name | user | system | elapsed | |
| biocExtract | 7.383 | 0.272 | 9.010 | |
| getBroadSubtypes | 0.011 | 0.002 | 0.241 | |
| getCNGECorrelation | 0.002 | 0.001 | 0.003 | |
| getData | 0.024 | 0.015 | 0.040 | |
| getDiffExpressedGenes | 0.002 | 0.001 | 0.003 | |
| getFirehoseAnalyzeDates | 0.000 | 0.000 | 0.001 | |
| getFirehoseData | 0.005 | 0.003 | 0.008 | |
| getFirehoseDatasets | 0.000 | 0.001 | 0.001 | |
| getFirehoseRunningDates | 0.001 | 0.001 | 0.001 | |
| getGISTICPeaks | 8.387 | 0.633 | 10.333 | |
| getMutationRate | 0.007 | 0.002 | 0.009 | |
| getReport | 4.018 | 0.145 | 4.278 | |
| getSurvival | 0.005 | 0.002 | 0.007 | |
| showResults-CorResult | 0.001 | 0.001 | 0.002 | |
| showResults-DGEResult | 0.001 | 0.001 | 0.001 | |
| showResults | 0.001 | 0.001 | 0.002 | |