| Back to Multiple platform build/check report for BioC 3.12 |
|
This page was generated on 2021-05-06 12:33:19 -0400 (Thu, 06 May 2021).
|
To the developers/maintainers of the RNAmodR.ML package: Please make sure to use the following settings in order to reproduce any error or warning you see on this page. |
| Package 1551/1974 | Hostname | OS / Arch | INSTALL | BUILD | CHECK | BUILD BIN | ||||||||
| RNAmodR.ML 1.4.0 (landing page) Felix G.M. Ernst
| malbec1 | Linux (Ubuntu 18.04.5 LTS) / x86_64 | OK | OK | OK | |||||||||
| tokay1 | Windows Server 2012 R2 Standard / x64 | OK | OK | OK | OK | |||||||||
| merida1 | macOS 10.14.6 Mojave / x86_64 | OK | OK | OK | OK | |||||||||
| Package: RNAmodR.ML |
| Version: 1.4.0 |
| Command: C:\cygwin\bin\curl.exe -O http://172.29.0.3/BBS/3.12/bioc/src/contrib/RNAmodR.ML_1.4.0.tar.gz && rm -rf RNAmodR.ML.buildbin-libdir && mkdir RNAmodR.ML.buildbin-libdir && C:\Users\biocbuild\bbs-3.12-bioc\R\bin\R.exe CMD INSTALL --merge-multiarch --build --library=RNAmodR.ML.buildbin-libdir RNAmodR.ML_1.4.0.tar.gz && C:\Users\biocbuild\bbs-3.12-bioc\R\bin\R.exe CMD INSTALL RNAmodR.ML_1.4.0.zip && rm RNAmodR.ML_1.4.0.tar.gz RNAmodR.ML_1.4.0.zip |
| StartedAt: 2021-05-05 19:03:51 -0400 (Wed, 05 May 2021) |
| EndedAt: 2021-05-05 19:05:17 -0400 (Wed, 05 May 2021) |
| EllapsedTime: 85.8 seconds |
| RetCode: 0 |
| Status: OK |
##############################################################################
##############################################################################
###
### Running command:
###
### C:\cygwin\bin\curl.exe -O http://172.29.0.3/BBS/3.12/bioc/src/contrib/RNAmodR.ML_1.4.0.tar.gz && rm -rf RNAmodR.ML.buildbin-libdir && mkdir RNAmodR.ML.buildbin-libdir && C:\Users\biocbuild\bbs-3.12-bioc\R\bin\R.exe CMD INSTALL --merge-multiarch --build --library=RNAmodR.ML.buildbin-libdir RNAmodR.ML_1.4.0.tar.gz && C:\Users\biocbuild\bbs-3.12-bioc\R\bin\R.exe CMD INSTALL RNAmodR.ML_1.4.0.zip && rm RNAmodR.ML_1.4.0.tar.gz RNAmodR.ML_1.4.0.zip
###
##############################################################################
##############################################################################
% Total % Received % Xferd Average Speed Time Time Time Current
Dload Upload Total Spent Left Speed
0 0 0 0 0 0 0 0 --:--:-- --:--:-- --:--:-- 0
100 814k 100 814k 0 0 13.5M 0 --:--:-- --:--:-- --:--:-- 13.7M
install for i386
* installing *source* package 'RNAmodR.ML' ...
** using staged installation
** R
** data
** inst
** byte-compile and prepare package for lazy loading
** help
*** installing help indices
converting help for package 'RNAmodR.ML'
finding HTML links ... done
ModifierML-class html
ModifierMLModel-class html
ModifierMLkeras-class html
ModifierMLranger-class html
RNAmodR.ML-datasets html
RNAmodR.ML-example html
RNAmodR.ML html
trainingData html
** building package indices
** installing vignettes
** testing if installed package can be loaded from temporary location
** testing if installed package can be loaded from final location
** testing if installed package keeps a record of temporary installation path
install for x64
* installing *source* package 'RNAmodR.ML' ...
** testing if installed package can be loaded
* MD5 sums
packaged installation of 'RNAmodR.ML' as RNAmodR.ML_1.4.0.zip
* DONE (RNAmodR.ML)
* installing to library 'C:/Users/biocbuild/bbs-3.12-bioc/R/library'
package 'RNAmodR.ML' successfully unpacked and MD5 sums checked