| Back to Multiple platform build/check report for BioC 3.12 |
|
This page was generated on 2021-05-06 12:33:18 -0400 (Thu, 06 May 2021).
|
To the developers/maintainers of the RNAinteract package: Please make sure to use the following settings in order to reproduce any error or warning you see on this page. |
| Package 1547/1974 | Hostname | OS / Arch | INSTALL | BUILD | CHECK | BUILD BIN | ||||||||
| RNAinteract 1.38.0 (landing page) Bernd Fischer
| malbec1 | Linux (Ubuntu 18.04.5 LTS) / x86_64 | OK | OK | OK | |||||||||
| tokay1 | Windows Server 2012 R2 Standard / x64 | OK | OK | OK | OK | |||||||||
| merida1 | macOS 10.14.6 Mojave / x86_64 | OK | OK | OK | OK | |||||||||
| Package: RNAinteract |
| Version: 1.38.0 |
| Command: rm -rf RNAinteract.buildbin-libdir && mkdir RNAinteract.buildbin-libdir && C:\Users\biocbuild\bbs-3.12-bioc\R\bin\R.exe CMD INSTALL --merge-multiarch --build --library=RNAinteract.buildbin-libdir RNAinteract_1.38.0.tar.gz |
| StartedAt: 2021-05-06 09:57:54 -0400 (Thu, 06 May 2021) |
| EndedAt: 2021-05-06 09:58:32 -0400 (Thu, 06 May 2021) |
| EllapsedTime: 37.9 seconds |
| RetCode: 0 |
| Status: OK |
| PackageFile: RNAinteract_1.38.0.zip |
| PackageFileSize: 891.9 KiB |
##############################################################################
##############################################################################
###
### Running command:
###
### rm -rf RNAinteract.buildbin-libdir && mkdir RNAinteract.buildbin-libdir && C:\Users\biocbuild\bbs-3.12-bioc\R\bin\R.exe CMD INSTALL --merge-multiarch --build --library=RNAinteract.buildbin-libdir RNAinteract_1.38.0.tar.gz
###
##############################################################################
##############################################################################
install for i386
* installing *source* package 'RNAinteract' ...
** using staged installation
** R
** data
** inst
** byte-compile and prepare package for lazy loading
** help
*** installing help indices
converting help for package 'RNAinteract'
finding HTML links ... done
RNAinteract-class html
RNAinteract-package html
bindsamples html
computePI html
computePValues html
finding level-2 HTML links ... done
createCellHTSFromFiles html
createRNAinteract html
createRNAinteractFromFiles html
embedPCA html
estimateMainEffect html
getData html
getMain html
getReplicateData html
getSampleNames html
getScale html
grid.doublePerturbation html
grid.sgiHeatmap html
normalizeMainEffectQuery html
normalizeMainEffectTemplate html
normalizePlateEffect html
plotDoublePerturbation html
plotHeatmap html
reportAnnotation html
sgi html
sgisubset html
sgisubsetQueryDesign html
startReport html
summarizeSamples html
swaptree html
** building package indices
** installing vignettes
** testing if installed package can be loaded from temporary location
** testing if installed package can be loaded from final location
** testing if installed package keeps a record of temporary installation path
install for x64
* installing *source* package 'RNAinteract' ...
** testing if installed package can be loaded
* MD5 sums
packaged installation of 'RNAinteract' as RNAinteract_1.38.0.zip
* DONE (RNAinteract)