| Back to Multiple platform build/check report for BioC 3.12 |
|
This page was generated on 2021-05-06 12:28:49 -0400 (Thu, 06 May 2021).
|
To the developers/maintainers of the RGMQL package: Please make sure to use the following settings in order to reproduce any error or warning you see on this page. |
| Package 1515/1974 | Hostname | OS / Arch | INSTALL | BUILD | CHECK | BUILD BIN | ||||||||
| RGMQL 1.10.0 (landing page) Simone Pallotta
| malbec1 | Linux (Ubuntu 18.04.5 LTS) / x86_64 | OK | OK | OK | |||||||||
| tokay1 | Windows Server 2012 R2 Standard / x64 | OK | OK | OK | OK | |||||||||
| merida1 | macOS 10.14.6 Mojave / x86_64 | OK | ERROR | skipped | skipped | |||||||||
| Package: RGMQL |
| Version: 1.10.0 |
| Command: /home/biocbuild/bbs-3.12-bioc/R/bin/R CMD check --install=check:RGMQL.install-out.txt --library=/home/biocbuild/bbs-3.12-bioc/R/library --no-vignettes --timings RGMQL_1.10.0.tar.gz |
| StartedAt: 2021-05-06 05:14:32 -0400 (Thu, 06 May 2021) |
| EndedAt: 2021-05-06 05:18:35 -0400 (Thu, 06 May 2021) |
| EllapsedTime: 242.5 seconds |
| RetCode: 0 |
| Status: OK |
| CheckDir: RGMQL.Rcheck |
| Warnings: 0 |
##############################################################################
##############################################################################
###
### Running command:
###
### /home/biocbuild/bbs-3.12-bioc/R/bin/R CMD check --install=check:RGMQL.install-out.txt --library=/home/biocbuild/bbs-3.12-bioc/R/library --no-vignettes --timings RGMQL_1.10.0.tar.gz
###
##############################################################################
##############################################################################
* using log directory ‘/home/biocbuild/bbs-3.12-bioc/meat/RGMQL.Rcheck’
* using R version 4.0.5 (2021-03-31)
* using platform: x86_64-pc-linux-gnu (64-bit)
* using session charset: UTF-8
* using option ‘--no-vignettes’
* checking for file ‘RGMQL/DESCRIPTION’ ... OK
* checking extension type ... Package
* this is package ‘RGMQL’ version ‘1.10.0’
* package encoding: UTF-8
* checking package namespace information ... OK
* checking package dependencies ... OK
* checking if this is a source package ... OK
* checking if there is a namespace ... OK
* checking for hidden files and directories ... NOTE
Found the following hidden files and directories:
.BBSoptions
These were most likely included in error. See section ‘Package
structure’ in the ‘Writing R Extensions’ manual.
* checking for portable file names ... OK
* checking for sufficient/correct file permissions ... OK
* checking whether package ‘RGMQL’ can be installed ... OK
* checking installed package size ... NOTE
installed size is 20.1Mb
sub-directories of 1Mb or more:
example 19.5Mb
* checking package directory ... OK
* checking ‘build’ directory ... OK
* checking DESCRIPTION meta-information ... OK
* checking top-level files ... OK
* checking for left-over files ... OK
* checking index information ... OK
* checking package subdirectories ... OK
* checking R files for non-ASCII characters ... OK
* checking R files for syntax errors ... OK
* checking whether the package can be loaded ... OK
* checking whether the package can be loaded with stated dependencies ... OK
* checking whether the package can be unloaded cleanly ... OK
* checking whether the namespace can be loaded with stated dependencies ... OK
* checking whether the namespace can be unloaded cleanly ... OK
* checking dependencies in R code ... OK
* checking S3 generic/method consistency ... OK
* checking replacement functions ... OK
* checking foreign function calls ... OK
* checking R code for possible problems ... NOTE
File ‘RGMQL/R/onLoad.R’:
.onLoad calls:
packageStartupMessage("Check if GMQL credentials are expired... \n")
See section ‘Good practice’ in '?.onAttach'.
* checking Rd files ... OK
* checking Rd metadata ... OK
* checking Rd cross-references ... OK
* checking for missing documentation entries ... OK
* checking for code/documentation mismatches ... OK
* checking Rd \usage sections ... OK
* checking Rd contents ... OK
* checking for unstated dependencies in examples ... OK
* checking files in ‘vignettes’ ... OK
* checking examples ... OK
Examples with CPU (user + system) or elapsed time > 5s
user system elapsed
aggr-class 8.144 0.444 5.200
take 5.440 0.232 2.779
compile_query 0.372 0.024 6.917
show_dataset 0.068 0.024 6.110
* checking for unstated dependencies in vignettes ... OK
* checking package vignettes in ‘inst/doc’ ... OK
* checking running R code from vignettes ... SKIPPED
* checking re-building of vignette outputs ... SKIPPED
* checking PDF version of manual ... OK
* DONE
Status: 3 NOTEs
See
‘/home/biocbuild/bbs-3.12-bioc/meat/RGMQL.Rcheck/00check.log’
for details.
RGMQL.Rcheck/00install.out
############################################################################## ############################################################################## ### ### Running command: ### ### /home/biocbuild/bbs-3.12-bioc/R/bin/R CMD INSTALL RGMQL ### ############################################################################## ############################################################################## * installing to library ‘/home/biocbuild/bbs-3.12-bioc/R/library’ * installing *source* package ‘RGMQL’ ... ** using staged installation ** R ** inst ** byte-compile and prepare package for lazy loading ** help *** installing help indices ** building package indices ** installing vignettes ** testing if installed package can be loaded from temporary location ** testing if installed package can be loaded from final location ** testing if installed package keeps a record of temporary installation path * DONE (RGMQL)
RGMQL.Rcheck/RGMQL-Ex.timings
| name | user | system | elapsed | |
| aggr-class | 8.144 | 0.444 | 5.200 | |
| aggregate | 0.040 | 0.000 | 0.035 | |
| arrange | 0.068 | 0.004 | 0.050 | |
| collect | 0.040 | 0.008 | 0.058 | |
| compile_query | 0.372 | 0.024 | 6.917 | |
| cover-param-class | 0.100 | 0.012 | 0.070 | |
| cover | 0.056 | 0.008 | 0.050 | |
| delete_dataset | 0 | 0 | 0 | |
| distal-class | 0.108 | 0.000 | 0.093 | |
| download_dataset | 0 | 0 | 0 | |
| execute | 0.044 | 0.008 | 0.033 | |
| export_gmql | 0.584 | 0.048 | 0.634 | |
| extend | 0.032 | 0.004 | 0.027 | |
| filter | 0.144 | 0.020 | 0.122 | |
| filter_and_extract | 0.764 | 0.012 | 0.791 | |
| group_by | 0.088 | 0.000 | 0.069 | |
| import_gmql | 0.212 | 0.000 | 0.213 | |
| init_gmql | 0.036 | 0.000 | 0.694 | |
| log_job | 0.032 | 0.000 | 0.846 | |
| login_gmql | 0.020 | 0.000 | 0.643 | |
| logout_gmql | 0.048 | 0.000 | 1.695 | |
| map | 0.084 | 0.000 | 0.055 | |
| merge | 0.076 | 0.004 | 0.051 | |
| operator-class | 0.220 | 0.016 | 0.122 | |
| ordering-class | 0.120 | 0.000 | 0.046 | |
| read-function | 0.108 | 0.000 | 0.511 | |
| register_gmql | 0.000 | 0.000 | 0.001 | |
| remote_processing | 0.004 | 0.004 | 0.008 | |
| run_query | 0 | 0 | 0 | |
| sample_metadata | 0.036 | 0.000 | 1.066 | |
| sample_region | 0.000 | 0.000 | 0.001 | |
| save_query | 0.072 | 0.000 | 1.166 | |
| select | 0.060 | 0.008 | 0.051 | |
| semijoin | 0.060 | 0.004 | 0.050 | |
| setdiff | 0.064 | 0.000 | 0.058 | |
| show_dataset | 0.068 | 0.024 | 6.110 | |
| show_jobs_list | 0.036 | 0.000 | 1.459 | |
| show_queries_list | 0.040 | 0.000 | 1.621 | |
| show_samples_list | 0.032 | 0.000 | 0.381 | |
| show_schema | 0.028 | 0.012 | 1.136 | |
| stop_gmql | 0.332 | 0.028 | 0.247 | |
| stop_job | 0 | 0 | 0 | |
| take | 5.440 | 0.232 | 2.779 | |
| union | 0.104 | 0.008 | 0.046 | |
| upload_dataset | 0.000 | 0.000 | 0.001 | |