| Back to Multiple platform build/check report for BioC 3.12 |
|
This page was generated on 2021-05-06 12:33:11 -0400 (Thu, 06 May 2021).
|
To the developers/maintainers of the REMP package: Please make sure to use the following settings in order to reproduce any error or warning you see on this page. |
| Package 1501/1974 | Hostname | OS / Arch | INSTALL | BUILD | CHECK | BUILD BIN | ||||||||
| REMP 1.14.0 (landing page) Yinan Zheng
| malbec1 | Linux (Ubuntu 18.04.5 LTS) / x86_64 | OK | OK | OK | |||||||||
| tokay1 | Windows Server 2012 R2 Standard / x64 | OK | OK | OK | OK | |||||||||
| merida1 | macOS 10.14.6 Mojave / x86_64 | OK | OK | OK | OK | |||||||||
| Package: REMP |
| Version: 1.14.0 |
| Command: rm -rf REMP.buildbin-libdir && mkdir REMP.buildbin-libdir && C:\Users\biocbuild\bbs-3.12-bioc\R\bin\R.exe CMD INSTALL --merge-multiarch --build --library=REMP.buildbin-libdir REMP_1.14.0.tar.gz |
| StartedAt: 2021-05-06 09:54:55 -0400 (Thu, 06 May 2021) |
| EndedAt: 2021-05-06 09:56:19 -0400 (Thu, 06 May 2021) |
| EllapsedTime: 84.1 seconds |
| RetCode: 0 |
| Status: OK |
| PackageFile: REMP_1.14.0.zip |
| PackageFileSize: 765.2 KiB |
##############################################################################
##############################################################################
###
### Running command:
###
### rm -rf REMP.buildbin-libdir && mkdir REMP.buildbin-libdir && C:\Users\biocbuild\bbs-3.12-bioc\R\bin\R.exe CMD INSTALL --merge-multiarch --build --library=REMP.buildbin-libdir REMP_1.14.0.tar.gz
###
##############################################################################
##############################################################################
install for i386
* installing *source* package 'REMP' ...
** using staged installation
** R
** data
*** moving datasets to lazyload DB
** inst
** byte-compile and prepare package for lazy loading
** help
*** installing help indices
converting help for package 'REMP'
finding HTML links ... done
Alu.hg19.demo html
finding level-2 HTML links ... done
Alu.hg38.demo html
GRannot html
REMP-package html
REMParcel-class html
REMProduct-class html
fetchRMSK html
fetchRefSeqGene html
findRECpG html
getBackend html
getGM12878 html
grooMethy html
initREMP html
options html
remp html
rempTemplate html
remprofile html
** building package indices
** installing vignettes
** testing if installed package can be loaded from temporary location
** testing if installed package can be loaded from final location
** testing if installed package keeps a record of temporary installation path
install for x64
* installing *source* package 'REMP' ...
** testing if installed package can be loaded
* MD5 sums
packaged installation of 'REMP' as REMP_1.14.0.zip
* DONE (REMP)