| Back to Multiple platform build/check report for BioC 3.12 |
|
This page was generated on 2021-05-06 12:33:09 -0400 (Thu, 06 May 2021).
|
To the developers/maintainers of the RDAVIDWebService package: Please make sure to use the following settings in order to reproduce any error or warning you see on this page. |
| Package 1477/1974 | Hostname | OS / Arch | INSTALL | BUILD | CHECK | BUILD BIN | ||||||||
| RDAVIDWebService 1.28.0 (landing page) Cristobal Fresno
| malbec1 | Linux (Ubuntu 18.04.5 LTS) / x86_64 | OK | OK | WARNINGS | |||||||||
| tokay1 | Windows Server 2012 R2 Standard / x64 | OK | OK | WARNINGS | OK | |||||||||
| merida1 | macOS 10.14.6 Mojave / x86_64 | OK | OK | WARNINGS | OK | |||||||||
| Package: RDAVIDWebService |
| Version: 1.28.0 |
| Command: C:\Users\biocbuild\bbs-3.12-bioc\R\bin\R.exe --arch x64 CMD INSTALL --no-multiarch RDAVIDWebService |
| StartedAt: 2021-05-05 18:11:38 -0400 (Wed, 05 May 2021) |
| EndedAt: 2021-05-05 18:14:20 -0400 (Wed, 05 May 2021) |
| EllapsedTime: 162.7 seconds |
| RetCode: 0 |
| Status: OK |
##############################################################################
##############################################################################
###
### Running command:
###
### C:\Users\biocbuild\bbs-3.12-bioc\R\bin\R.exe --arch x64 CMD INSTALL --no-multiarch RDAVIDWebService
###
##############################################################################
##############################################################################
* installing to library 'C:/Users/biocbuild/bbs-3.12-bioc/R/library'
* installing *source* package 'RDAVIDWebService' ...
** using staged installation
** R
** data
** inst
** byte-compile and prepare package for lazy loading
** help
*** installing help indices
converting help for package 'RDAVIDWebService'
finding HTML links ... done
DAVIDClasses-categories html
DAVIDClasses-constructor html
DAVIDClasses-genes html
DAVIDClasses-ids html
DAVIDClasses-plot2D html
DAVIDClasses-show html
DAVIDClasses-summary html
DAVIDCluster-class html
DAVIDCluster-methods html
DAVIDFunctionalAnnotationChart-class html
DAVIDFunctionalAnnotationTable-class html
DAVIDFunctionalAnnotationTable-methods
html
DAVIDGODag-class html
DAVIDGODag-methods html
DAVIDGeneCluster-class html
DAVIDGenes-class html
DAVIDGenes-methods html
DAVIDResult-class html
DAVIDResult-getters html
DAVIDTermCluster-class html
DAVIDWebService-accessors html
DAVIDWebService-class html
DAVIDWebService-methods html
DAVIDWebService-package html
DAVIDWebService-reports html
DAVIDdemo-annotationSummary html
DAVIDdemo-annotationTable html
DAVIDdemo-clusterReport html
DAVIDdemo-functionalAnnotationChart html
DAVIDdemo-geneList html
DAVIDdemo-ids html
** building package indices
** installing vignettes
** testing if installed package can be loaded from temporary location
** testing if installed package can be loaded from final location
** testing if installed package keeps a record of temporary installation path
* DONE (RDAVIDWebService)
Making 'packages.html' ... done