| Back to Multiple platform build/check report for BioC 3.12 |
|
This page was generated on 2021-05-06 12:33:08 -0400 (Thu, 06 May 2021).
|
To the developers/maintainers of the RCASPAR package: Please make sure to use the following settings in order to reproduce any error or warning you see on this page. |
| Package 1466/1974 | Hostname | OS / Arch | INSTALL | BUILD | CHECK | BUILD BIN | ||||||||
| RCASPAR 1.36.0 (landing page) Douaa Mugahid
| malbec1 | Linux (Ubuntu 18.04.5 LTS) / x86_64 | OK | OK | OK | |||||||||
| tokay1 | Windows Server 2012 R2 Standard / x64 | OK | OK | OK | OK | |||||||||
| merida1 | macOS 10.14.6 Mojave / x86_64 | OK | OK | OK | OK | |||||||||
| Package: RCASPAR |
| Version: 1.36.0 |
| Command: C:\cygwin\bin\curl.exe -O http://172.29.0.3/BBS/3.12/bioc/src/contrib/RCASPAR_1.36.0.tar.gz && rm -rf RCASPAR.buildbin-libdir && mkdir RCASPAR.buildbin-libdir && C:\Users\biocbuild\bbs-3.12-bioc\R\bin\R.exe CMD INSTALL --merge-multiarch --build --library=RCASPAR.buildbin-libdir RCASPAR_1.36.0.tar.gz && C:\Users\biocbuild\bbs-3.12-bioc\R\bin\R.exe CMD INSTALL RCASPAR_1.36.0.zip && rm RCASPAR_1.36.0.tar.gz RCASPAR_1.36.0.zip |
| StartedAt: 2021-05-05 16:35:55 -0400 (Wed, 05 May 2021) |
| EndedAt: 2021-05-05 16:36:41 -0400 (Wed, 05 May 2021) |
| EllapsedTime: 45.6 seconds |
| RetCode: 0 |
| Status: OK |
##############################################################################
##############################################################################
###
### Running command:
###
### C:\cygwin\bin\curl.exe -O http://172.29.0.3/BBS/3.12/bioc/src/contrib/RCASPAR_1.36.0.tar.gz && rm -rf RCASPAR.buildbin-libdir && mkdir RCASPAR.buildbin-libdir && C:\Users\biocbuild\bbs-3.12-bioc\R\bin\R.exe CMD INSTALL --merge-multiarch --build --library=RCASPAR.buildbin-libdir RCASPAR_1.36.0.tar.gz && C:\Users\biocbuild\bbs-3.12-bioc\R\bin\R.exe CMD INSTALL RCASPAR_1.36.0.zip && rm RCASPAR_1.36.0.tar.gz RCASPAR_1.36.0.zip
###
##############################################################################
##############################################################################
% Total % Received % Xferd Average Speed Time Time Time Current
Dload Upload Total Spent Left Speed
0 0 0 0 0 0 0 0 --:--:-- --:--:-- --:--:-- 0
100 63555 100 63555 0 0 1315k 0 --:--:-- --:--:-- --:--:-- 1379k
install for i386
* installing *source* package 'RCASPAR' ...
** using staged installation
** R
** data
** byte-compile and prepare package for lazy loading
** help
*** installing help indices
converting help for package 'RCASPAR'
finding HTML links ... done
Bergamaschi html
RCASPAR-package html
STpredictor_BLH html
STpredictor_xvBLH html
deriv_weight_estimator_BLH html
deriv_weight_estimator_BLH_noprior html
kmplt html
kmplt_svrl html
logrnk html
pltgamma html
pltprior html
simpson html
survData html
survivAURC html
survivROC html
trapezoid html
weight_estimator_BLH html
weight_estimator_BLH_noprior html
weights_BLH html
weights_xvBLH html
** building package indices
** installing vignettes
** testing if installed package can be loaded from temporary location
** testing if installed package can be loaded from final location
** testing if installed package keeps a record of temporary installation path
install for x64
* installing *source* package 'RCASPAR' ...
** testing if installed package can be loaded
* MD5 sums
packaged installation of 'RCASPAR' as RCASPAR_1.36.0.zip
* DONE (RCASPAR)
* installing to library 'C:/Users/biocbuild/bbs-3.12-bioc/R/library'
package 'RCASPAR' successfully unpacked and MD5 sums checked