| Back to Multiple platform build/check report for BioC 3.12 |
|
This page was generated on 2021-05-06 12:36:14 -0400 (Thu, 06 May 2021).
|
To the developers/maintainers of the Pviz package: Please make sure to use the following settings in order to reproduce any error or warning you see on this page. |
| Package 1417/1974 | Hostname | OS / Arch | INSTALL | BUILD | CHECK | BUILD BIN | ||||||||
| Pviz 1.24.0 (landing page) Renan Sauteraud
| malbec1 | Linux (Ubuntu 18.04.5 LTS) / x86_64 | OK | OK | OK | |||||||||
| tokay1 | Windows Server 2012 R2 Standard / x64 | OK | OK | OK | OK | |||||||||
| merida1 | macOS 10.14.6 Mojave / x86_64 | OK | OK | OK | OK | |||||||||
| Package: Pviz |
| Version: 1.24.0 |
| Command: /Library/Frameworks/R.framework/Versions/Current/Resources/bin/R CMD check --install=check:Pviz.install-out.txt --library=/Library/Frameworks/R.framework/Versions/Current/Resources/library --no-vignettes --timings Pviz_1.24.0.tar.gz |
| StartedAt: 2021-05-06 05:01:58 -0400 (Thu, 06 May 2021) |
| EndedAt: 2021-05-06 05:07:54 -0400 (Thu, 06 May 2021) |
| EllapsedTime: 356.0 seconds |
| RetCode: 0 |
| Status: OK |
| CheckDir: Pviz.Rcheck |
| Warnings: 0 |
##############################################################################
##############################################################################
###
### Running command:
###
### /Library/Frameworks/R.framework/Versions/Current/Resources/bin/R CMD check --install=check:Pviz.install-out.txt --library=/Library/Frameworks/R.framework/Versions/Current/Resources/library --no-vignettes --timings Pviz_1.24.0.tar.gz
###
##############################################################################
##############################################################################
* using log directory ‘/Users/biocbuild/bbs-3.12-bioc/meat/Pviz.Rcheck’
* using R version 4.0.5 (2021-03-31)
* using platform: x86_64-apple-darwin17.0 (64-bit)
* using session charset: UTF-8
* using option ‘--no-vignettes’
* checking for file ‘Pviz/DESCRIPTION’ ... OK
* checking extension type ... Package
* this is package ‘Pviz’ version ‘1.24.0’
* checking package namespace information ... OK
* checking package dependencies ... OK
* checking if this is a source package ... OK
* checking if there is a namespace ... OK
* checking for hidden files and directories ... OK
* checking for portable file names ... OK
* checking for sufficient/correct file permissions ... OK
* checking whether package ‘Pviz’ can be installed ... OK
* checking installed package size ... OK
* checking package directory ... OK
* checking ‘build’ directory ... OK
* checking DESCRIPTION meta-information ... OK
* checking top-level files ... OK
* checking for left-over files ... OK
* checking index information ... OK
* checking package subdirectories ... OK
* checking R files for non-ASCII characters ... OK
* checking R files for syntax errors ... OK
* checking whether the package can be loaded ... OK
* checking whether the package can be loaded with stated dependencies ... OK
* checking whether the package can be unloaded cleanly ... OK
* checking whether the namespace can be loaded with stated dependencies ... OK
* checking whether the namespace can be unloaded cleanly ... OK
* checking dependencies in R code ... OK
* checking S3 generic/method consistency ... OK
* checking replacement functions ... OK
* checking foreign function calls ... OK
* checking R code for possible problems ... NOTE
.makeParMapping: no visible global function definition for
'assignInNamespace'
drawGD,ProbeTrack: no visible global function definition for
'pushViewport'
drawGD,ProbeTrack: no visible global function definition for 'viewport'
drawGD,ProbeTrack: no visible global function definition for
'popViewport'
drawGD,ProbeTrack: no visible global function definition for 'unit'
drawGD,ProbeTrack: no visible global function definition for 'gpar'
drawGD,ProbeTrack: no visible global function definition for
'convertWidth'
drawGD,ProbeTrack: no visible global function definition for
'stringWidth'
drawGD,ProbeTrack: no visible global function definition for
'stringHeight'
drawGD,ProbeTrack: no visible global function definition for
'grid.text'
drawGD,ProbeTrack: no visible global function definition for
'grid.rect'
drawGD,ProbeTrack: no visible global function definition for
'dataViewport'
drawGD,ProbeTrack : <anonymous>: no visible global function definition
for 'grid.rect'
drawGD,ProbeTrack : <anonymous>: no visible global function definition
for 'gpar'
drawGD,ProbeTrack : <anonymous>: no visible global function definition
for 'grid.text'
drawGD,ProteinAxisTrack: no visible global function definition for
'pushViewport'
drawGD,ProteinAxisTrack: no visible global function definition for
'dataViewport'
drawGD,ProteinAxisTrack: no visible global function definition for
'convertHeight'
drawGD,ProteinAxisTrack: no visible global function definition for
'stringHeight'
drawGD,ProteinAxisTrack: no visible global function definition for
'popViewport'
drawGD,ProteinAxisTrack: no visible global function definition for
'.getGapPos'
drawGD,ProteinAxisTrack: no visible global function definition for
'gaps'
drawGD,ProteinAxisTrack: no visible global function definition for
'viewport'
drawGD,ProteinAxisTrack: no visible global function definition for
'grid.segments'
drawGD,ProteinAxisTrack: no visible global function definition for
'gpar'
drawGD,ProteinAxisTrack: no visible global function definition for
'coord2ext'
drawGD,ProteinAxisTrack: no visible global function definition for
'grid.text'
drawGD,ProteinAxisTrack: no visible global function definition for
'convertWidth'
drawGD,ProteinAxisTrack: no visible global function definition for
'stringWidth'
drawGD,ProteinSequenceTrack: no visible global function definition for
'pushViewport'
drawGD,ProteinSequenceTrack: no visible global function definition for
'dataViewport'
drawGD,ProteinSequenceTrack: no visible global function definition for
'gpar'
drawGD,ProteinSequenceTrack: no visible global function definition for
'popViewport'
drawGD,ProteinSequenceTrack: no visible global function definition for
'convertUnit'
drawGD,ProteinSequenceTrack: no visible global function definition for
'stringWidth'
drawGD,ProteinSequenceTrack: no visible global function definition for
'grid.lines'
drawGD,ProteinSequenceTrack: no visible global function definition for
'unit'
drawGD,ProteinSequenceTrack: no visible global function definition for
'grid.text'
drawGD,ProteinSequenceTrack: no visible global function definition for
'grid.rect'
Undefined global functions or variables:
.getGapPos assignInNamespace convertHeight convertUnit convertWidth
coord2ext dataViewport gaps gpar grid.lines grid.rect grid.segments
grid.text popViewport pushViewport stringHeight stringWidth unit
viewport
Consider adding
importFrom("utils", "assignInNamespace")
to your NAMESPACE file.
* checking Rd files ... OK
* checking Rd metadata ... OK
* checking Rd cross-references ... OK
* checking for missing documentation entries ... OK
* checking for code/documentation mismatches ... OK
* checking Rd \usage sections ... OK
* checking Rd contents ... OK
* checking for unstated dependencies in examples ... OK
* checking sizes of PDF files under ‘inst/doc’ ... OK
* checking installed files from ‘inst/doc’ ... OK
* checking files in ‘vignettes’ ... OK
* checking examples ... OK
* checking for unstated dependencies in vignettes ... OK
* checking package vignettes in ‘inst/doc’ ... OK
* checking running R code from vignettes ... SKIPPED
* checking re-building of vignette outputs ... SKIPPED
* checking PDF version of manual ... OK
* DONE
Status: 1 NOTE
See
‘/Users/biocbuild/bbs-3.12-bioc/meat/Pviz.Rcheck/00check.log’
for details.
Pviz.Rcheck/00install.out
############################################################################## ############################################################################## ### ### Running command: ### ### /Library/Frameworks/R.framework/Versions/Current/Resources/bin/R CMD INSTALL Pviz ### ############################################################################## ############################################################################## * installing to library ‘/Library/Frameworks/R.framework/Versions/4.0/Resources/library’ * installing *source* package ‘Pviz’ ... ** using staged installation ** R ** inst ** byte-compile and prepare package for lazy loading ** help *** installing help indices ** building package indices ** installing vignettes ‘Pviz.Rnw’ ** testing if installed package can be loaded from temporary location ** testing if installed package can be loaded from final location ** testing if installed package keeps a record of temporary installation path * DONE (Pviz)
Pviz.Rcheck/Pviz-Ex.timings
| name | user | system | elapsed | |
| ATrack | 3.530 | 0.081 | 3.615 | |
| CladeTrack | 1.179 | 0.040 | 1.222 | |
| DTrack | 0.133 | 0.001 | 0.134 | |
| ProbeTrack | 3.819 | 0.131 | 3.956 | |
| ProteinAxisTrack | 0.643 | 0.004 | 0.649 | |
| ProteinSequenceTrack | 0.302 | 0.006 | 0.311 | |
| plot_clade | 1.722 | 0.019 | 1.743 | |
| plot_inter | 0.953 | 0.014 | 0.969 | |