| Back to Multiple platform build/check report for BioC 3.12 |
|
This page was generated on 2021-05-06 12:32:51 -0400 (Thu, 06 May 2021).
|
To the developers/maintainers of the ProteoMM package: Please make sure to use the following settings in order to reproduce any error or warning you see on this page. |
| Package 1405/1974 | Hostname | OS / Arch | INSTALL | BUILD | CHECK | BUILD BIN | ||||||||
| ProteoMM 1.8.0 (landing page) Yuliya V Karpievitch
| malbec1 | Linux (Ubuntu 18.04.5 LTS) / x86_64 | OK | OK | OK | |||||||||
| tokay1 | Windows Server 2012 R2 Standard / x64 | OK | OK | OK | OK | |||||||||
| merida1 | macOS 10.14.6 Mojave / x86_64 | OK | OK | OK | OK | |||||||||
| Package: ProteoMM |
| Version: 1.8.0 |
| Command: rm -rf ProteoMM.buildbin-libdir && mkdir ProteoMM.buildbin-libdir && C:\Users\biocbuild\bbs-3.12-bioc\R\bin\R.exe CMD INSTALL --merge-multiarch --build --library=ProteoMM.buildbin-libdir ProteoMM_1.8.0.tar.gz |
| StartedAt: 2021-05-06 09:49:26 -0400 (Thu, 06 May 2021) |
| EndedAt: 2021-05-06 09:50:04 -0400 (Thu, 06 May 2021) |
| EllapsedTime: 38.2 seconds |
| RetCode: 0 |
| Status: OK |
| PackageFile: ProteoMM_1.8.0.zip |
| PackageFileSize: 367.6 KiB |
##############################################################################
##############################################################################
###
### Running command:
###
### rm -rf ProteoMM.buildbin-libdir && mkdir ProteoMM.buildbin-libdir && C:\Users\biocbuild\bbs-3.12-bioc\R\bin\R.exe CMD INSTALL --merge-multiarch --build --library=ProteoMM.buildbin-libdir ProteoMM_1.8.0.tar.gz
###
##############################################################################
##############################################################################
install for i386
* installing *source* package 'ProteoMM' ...
** using staged installation
** R
** data
*** moving datasets to lazyload DB
** inst
** byte-compile and prepare package for lazy loading
** help
*** installing help indices
converting help for package 'ProteoMM'
finding HTML links ... done
MBimpute html
convert_log2 html
eig_norm1 html
eig_norm2 html
eigen_pi html
g.test html
get_presAbs_prots html
hs_peptides html
makeLMFormula html
make_intencities html
make_meta html
mm_peptides html
peptideLevel_DE html
peptideLevel_PresAbsDE html
plot_1prot html
plot_3_pep_trends_NOfile html
plot_volcano html
plot_volcano_wLab html
prot_level_multiMat_PresAbs html
prot_level_multi_part html
subset_proteins html
sva.id html
** building package indices
** installing vignettes
** testing if installed package can be loaded from temporary location
** testing if installed package can be loaded from final location
** testing if installed package keeps a record of temporary installation path
install for x64
* installing *source* package 'ProteoMM' ...
** testing if installed package can be loaded
* MD5 sums
packaged installation of 'ProteoMM' as ProteoMM_1.8.0.zip
* DONE (ProteoMM)