| Back to Multiple platform build/check report for BioC 3.12 |
|
This page was generated on 2021-05-06 12:32:51 -0400 (Thu, 06 May 2021).
|
To the developers/maintainers of the ProtGenerics package: Please make sure to use the following settings in order to reproduce any error or warning you see on this page. |
| Package 1406/1974 | Hostname | OS / Arch | INSTALL | BUILD | CHECK | BUILD BIN | ||||||||
| ProtGenerics 1.22.0 (landing page) Laurent Gatto
| malbec1 | Linux (Ubuntu 18.04.5 LTS) / x86_64 | OK | OK | OK | |||||||||
| tokay1 | Windows Server 2012 R2 Standard / x64 | OK | OK | WARNINGS | OK | |||||||||
| merida1 | macOS 10.14.6 Mojave / x86_64 | OK | OK | OK | OK | |||||||||
| Package: ProtGenerics |
| Version: 1.22.0 |
| Command: rm -rf ProtGenerics.buildbin-libdir && mkdir ProtGenerics.buildbin-libdir && C:\Users\biocbuild\bbs-3.12-bioc\R\bin\R.exe CMD INSTALL --merge-multiarch --build --library=ProtGenerics.buildbin-libdir ProtGenerics_1.22.0.tar.gz |
| StartedAt: 2021-05-06 09:49:29 -0400 (Thu, 06 May 2021) |
| EndedAt: 2021-05-06 09:50:08 -0400 (Thu, 06 May 2021) |
| EllapsedTime: 38.1 seconds |
| RetCode: 0 |
| Status: OK |
| PackageFile: ProtGenerics_1.22.0.zip |
| PackageFileSize: 91.03 KiB |
##############################################################################
##############################################################################
###
### Running command:
###
### rm -rf ProtGenerics.buildbin-libdir && mkdir ProtGenerics.buildbin-libdir && C:\Users\biocbuild\bbs-3.12-bioc\R\bin\R.exe CMD INSTALL --merge-multiarch --build --library=ProtGenerics.buildbin-libdir ProtGenerics_1.22.0.tar.gz
###
##############################################################################
##############################################################################
install for i386
* installing *source* package 'ProtGenerics' ...
** using staged installation
** R
** byte-compile and prepare package for lazy loading
Creating a new generic function for 'smooth' in package 'ProtGenerics'
** help
*** installing help indices
converting help for package 'ProtGenerics'
finding HTML links ... done
protgenerics html
Rd warning: C:/Users/biocbuild/bbs-3.12-bioc/tmpdir/RtmpGOU5g0/R.INSTALL2b204d775b26/ProtGenerics/man/protgenerics.Rd:206: file link 'selectMethod' in package 'methods' does not exist and so has been treated as a topic
** building package indices
** testing if installed package can be loaded from temporary location
** testing if installed package can be loaded from final location
** testing if installed package keeps a record of temporary installation path
install for x64
* installing *source* package 'ProtGenerics' ...
** testing if installed package can be loaded
* MD5 sums
packaged installation of 'ProtGenerics' as ProtGenerics_1.22.0.zip
* DONE (ProtGenerics)