| Back to Multiple platform build/check report for BioC 3.12 |
|
This page was generated on 2021-05-06 12:36:12 -0400 (Thu, 06 May 2021).
|
To the developers/maintainers of the Prostar package: Please make sure to use the following settings in order to reproduce any error or warning you see on this page. |
| Package 1402/1974 | Hostname | OS / Arch | INSTALL | BUILD | CHECK | BUILD BIN | ||||||||
| Prostar 1.22.10 (landing page) Samuel Wieczorek
| malbec1 | Linux (Ubuntu 18.04.5 LTS) / x86_64 | OK | OK | OK | |||||||||
| tokay1 | Windows Server 2012 R2 Standard / x64 | OK | OK | OK | OK | |||||||||
| merida1 | macOS 10.14.6 Mojave / x86_64 | OK | OK | OK | OK | |||||||||
| Package: Prostar |
| Version: 1.22.10 |
| Command: /Library/Frameworks/R.framework/Versions/Current/Resources/bin/R CMD build --keep-empty-dirs --no-resave-data Prostar |
| StartedAt: 2021-05-05 21:25:59 -0400 (Wed, 05 May 2021) |
| EndedAt: 2021-05-05 21:26:54 -0400 (Wed, 05 May 2021) |
| EllapsedTime: 54.4 seconds |
| RetCode: 0 |
| Status: OK |
| PackageFile: Prostar_1.22.10.tar.gz |
| PackageFileSize: 5.078 MiB |
############################################################################## ############################################################################## ### ### Running command: ### ### /Library/Frameworks/R.framework/Versions/Current/Resources/bin/R CMD build --keep-empty-dirs --no-resave-data Prostar ### ############################################################################## ############################################################################## * checking for file ‘Prostar/DESCRIPTION’ ... OK * preparing ‘Prostar’: * checking DESCRIPTION meta-information ... OK * installing the package to build vignettes * creating vignettes ... OK * checking for LF line-endings in source and make files and shell scripts * checking for empty or unneeded directories * building ‘Prostar_1.22.10.tar.gz’