| Back to Multiple platform build/check report for BioC 3.12 |
|
This page was generated on 2021-05-06 12:28:37 -0400 (Thu, 06 May 2021).
|
To the developers/maintainers of the Pigengene package: Please make sure to use the following settings in order to reproduce any error or warning you see on this page. |
| Package 1349/1974 | Hostname | OS / Arch | INSTALL | BUILD | CHECK | BUILD BIN | ||||||||
| Pigengene 1.16.0 (landing page) Habil Zare
| malbec1 | Linux (Ubuntu 18.04.5 LTS) / x86_64 | OK | OK | OK | |||||||||
| tokay1 | Windows Server 2012 R2 Standard / x64 | OK | OK | OK | OK | |||||||||
| merida1 | macOS 10.14.6 Mojave / x86_64 | OK | OK | OK | OK | |||||||||
| Package: Pigengene |
| Version: 1.16.0 |
| Command: /home/biocbuild/bbs-3.12-bioc/R/bin/R CMD check --install=check:Pigengene.install-out.txt --library=/home/biocbuild/bbs-3.12-bioc/R/library --no-vignettes --timings Pigengene_1.16.0.tar.gz |
| StartedAt: 2021-05-06 04:31:57 -0400 (Thu, 06 May 2021) |
| EndedAt: 2021-05-06 04:40:12 -0400 (Thu, 06 May 2021) |
| EllapsedTime: 495.1 seconds |
| RetCode: 0 |
| Status: OK |
| CheckDir: Pigengene.Rcheck |
| Warnings: 0 |
##############################################################################
##############################################################################
###
### Running command:
###
### /home/biocbuild/bbs-3.12-bioc/R/bin/R CMD check --install=check:Pigengene.install-out.txt --library=/home/biocbuild/bbs-3.12-bioc/R/library --no-vignettes --timings Pigengene_1.16.0.tar.gz
###
##############################################################################
##############################################################################
* using log directory ‘/home/biocbuild/bbs-3.12-bioc/meat/Pigengene.Rcheck’
* using R version 4.0.5 (2021-03-31)
* using platform: x86_64-pc-linux-gnu (64-bit)
* using session charset: UTF-8
* using option ‘--no-vignettes’
* checking for file ‘Pigengene/DESCRIPTION’ ... OK
* checking extension type ... Package
* this is package ‘Pigengene’ version ‘1.16.0’
* checking package namespace information ... OK
* checking package dependencies ... OK
* checking if this is a source package ... OK
* checking if there is a namespace ... OK
* checking for hidden files and directories ... OK
* checking for portable file names ... OK
* checking for sufficient/correct file permissions ... OK
* checking whether package ‘Pigengene’ can be installed ... OK
* checking installed package size ... OK
* checking package directory ... OK
* checking ‘build’ directory ... OK
* checking DESCRIPTION meta-information ... OK
* checking top-level files ... OK
* checking for left-over files ... OK
* checking index information ... OK
* checking package subdirectories ... OK
* checking R files for non-ASCII characters ... OK
* checking R files for syntax errors ... OK
* checking whether the package can be loaded ... OK
* checking whether the package can be loaded with stated dependencies ... OK
* checking whether the package can be unloaded cleanly ... OK
* checking whether the namespace can be loaded with stated dependencies ... OK
* checking whether the namespace can be unloaded cleanly ... OK
* checking dependencies in R code ... NOTE
'library' or 'require' calls in package code:
‘AnnotationDbi’ ‘biomaRt’ ‘energy’ ‘org.Hs.eg.db’ ‘org.Mm.eg.db’
Please use :: or requireNamespace() instead.
See section 'Suggested packages' in the 'Writing R Extensions' manual.
* checking S3 generic/method consistency ... OK
* checking replacement functions ... OK
* checking foreign function calls ... OK
* checking R code for possible problems ... NOTE
Found the following possibly unsafe calls:
File ‘Pigengene/R/bn.calculation.R’:
assignInNamespace("supported.clusters", fixArgs, "bnlearn")
combine.networks: no visible binding for global variable ‘netwok’
Undefined global functions or variables:
netwok
* checking Rd files ... OK
* checking Rd metadata ... OK
* checking Rd cross-references ... OK
* checking for missing documentation entries ... OK
* checking for code/documentation mismatches ... OK
* checking Rd \usage sections ... OK
* checking Rd contents ... OK
* checking for unstated dependencies in examples ... OK
* checking contents of ‘data’ directory ... NOTE
Output for data("pigengene", package = "Pigengene"):
* checking data for non-ASCII characters ... OK
* checking data for ASCII and uncompressed saves ... OK
* checking files in ‘vignettes’ ... OK
* checking examples ... OK
Examples with CPU (user + system) or elapsed time > 5s
user system elapsed
Pigengene-package 75.884 0.840 76.886
one.step.pigengene 75.612 0.740 76.516
module.heatmap 49.636 0.060 49.827
learn.bn 14.364 0.476 14.870
make.decision.tree 14.136 0.068 14.219
compact.tree 13.408 0.048 13.480
gene.mapping 11.548 0.236 19.135
combine.networks 10.712 0.136 10.869
wgcna.one.step 8.900 0.012 8.943
plot.pigengene 7.456 0.024 7.492
compute.pigengene 7.392 0.080 7.490
pigengene 6.420 0.100 6.527
project.eigen 5.500 0.028 5.535
* checking for unstated dependencies in vignettes ... OK
* checking package vignettes in ‘inst/doc’ ... OK
* checking running R code from vignettes ... SKIPPED
* checking re-building of vignette outputs ... SKIPPED
* checking PDF version of manual ... OK
* DONE
Status: 3 NOTEs
See
‘/home/biocbuild/bbs-3.12-bioc/meat/Pigengene.Rcheck/00check.log’
for details.
Pigengene.Rcheck/00install.out
############################################################################## ############################################################################## ### ### Running command: ### ### /home/biocbuild/bbs-3.12-bioc/R/bin/R CMD INSTALL Pigengene ### ############################################################################## ############################################################################## * installing to library ‘/home/biocbuild/bbs-3.12-bioc/R/library’ * installing *source* package ‘Pigengene’ ... ** using staged installation ** R ** data ** inst ** byte-compile and prepare package for lazy loading ** help *** installing help indices ** building package indices ** installing vignettes ** testing if installed package can be loaded from temporary location ** testing if installed package can be loaded from final location ** testing if installed package keeps a record of temporary installation path * DONE (Pigengene)
Pigengene.Rcheck/Pigengene-Ex.timings
| name | user | system | elapsed | |
| Pigengene-package | 75.884 | 0.840 | 76.886 | |
| aml | 0.156 | 0.000 | 0.155 | |
| balance | 0.376 | 0.044 | 0.420 | |
| calculate.beta | 1.108 | 0.008 | 1.115 | |
| check.nas | 0.040 | 0.000 | 0.042 | |
| check.pigengene.input | 0.068 | 0.000 | 0.069 | |
| combine.networks | 10.712 | 0.136 | 10.869 | |
| compact.tree | 13.408 | 0.048 | 13.480 | |
| compute.pigengene | 7.392 | 0.080 | 7.490 | |
| dcor.matrix | 0.212 | 0.004 | 0.222 | |
| draw.bn | 0 | 0 | 0 | |
| eigengenes33 | 0.116 | 0.004 | 0.120 | |
| gene.mapping | 11.548 | 0.236 | 19.135 | |
| get.fitted.leaf | 0.524 | 0.012 | 0.535 | |
| get.genes | 0.632 | 0.004 | 0.639 | |
| get.used.features | 0.492 | 0.020 | 0.510 | |
| learn.bn | 14.364 | 0.476 | 14.870 | |
| make.decision.tree | 14.136 | 0.068 | 14.219 | |
| mds | 0.148 | 0.008 | 0.155 | |
| message.if | 0.004 | 0.000 | 0.001 | |
| module.heatmap | 49.636 | 0.060 | 49.827 | |
| one.step.pigengene | 75.612 | 0.740 | 76.516 | |
| pheatmap.type | 0.208 | 0.000 | 0.206 | |
| pigengene | 6.420 | 0.100 | 6.527 | |
| plot.pigengene | 7.456 | 0.024 | 7.492 | |
| preds.at | 0.724 | 0.000 | 0.725 | |
| project.eigen | 5.500 | 0.028 | 5.535 | |
| pvalues.manova | 0.072 | 0.004 | 0.079 | |
| save.if | 0.544 | 0.008 | 0.555 | |
| wgcna.one.step | 8.900 | 0.012 | 8.943 | |