| Back to Multiple platform build/check report for BioC 3.12 |
|
This page was generated on 2021-05-06 12:32:45 -0400 (Thu, 06 May 2021).
|
To the developers/maintainers of the PhosR package: Please make sure to use the following settings in order to reproduce any error or warning you see on this page. |
| Package 1342/1974 | Hostname | OS / Arch | INSTALL | BUILD | CHECK | BUILD BIN | ||||||||
| PhosR 1.0.0 (landing page) Taiyun Kim
| malbec1 | Linux (Ubuntu 18.04.5 LTS) / x86_64 | OK | OK | OK | |||||||||
| tokay1 | Windows Server 2012 R2 Standard / x64 | OK | OK | OK | OK | |||||||||
| merida1 | macOS 10.14.6 Mojave / x86_64 | OK | OK | OK | OK | |||||||||
| Package: PhosR |
| Version: 1.0.0 |
| Command: rm -rf PhosR.buildbin-libdir && mkdir PhosR.buildbin-libdir && C:\Users\biocbuild\bbs-3.12-bioc\R\bin\R.exe CMD INSTALL --merge-multiarch --build --library=PhosR.buildbin-libdir PhosR_1.0.0.tar.gz |
| StartedAt: 2021-05-06 09:45:36 -0400 (Thu, 06 May 2021) |
| EndedAt: 2021-05-06 09:46:09 -0400 (Thu, 06 May 2021) |
| EllapsedTime: 32.4 seconds |
| RetCode: 0 |
| Status: OK |
| PackageFile: PhosR_1.0.0.zip |
| PackageFileSize: 3.572 MiB |
##############################################################################
##############################################################################
###
### Running command:
###
### rm -rf PhosR.buildbin-libdir && mkdir PhosR.buildbin-libdir && C:\Users\biocbuild\bbs-3.12-bioc\R\bin\R.exe CMD INSTALL --merge-multiarch --build --library=PhosR.buildbin-libdir PhosR_1.0.0.tar.gz
###
##############################################################################
##############################################################################
install for i386
* installing *source* package 'PhosR' ...
** using staged installation
** R
** data
*** moving datasets to lazyload DB
** inst
** byte-compile and prepare package for lazy loading
** help
*** installing help indices
converting help for package 'PhosR'
finding HTML links ... done
KinaseFamily html
Pathways.KEGG html
Pathways.reactome html
PhosphoSite.human html
PhosphoSite.mouse html
PhosphoSite.rat html
RUVphospho html
SPSs html
Signalomes html
createFrequencyMat html
frequencyScoring html
kinaseSubstrateHeatmap html
kinaseSubstratePred html
kinaseSubstrateProfile html
kinaseSubstrateScore html
mIntersect html
matANOVA html
meanAbundance html
medianScaling html
minmax html
motif.human.list html
motif.mouse.list html
motif.rat.list html
pathwayOverrepresent html
pathwayRankBasedEnrichment html
phosCollapse html
phospho.L6.ratio html
phospho.cells.Ins html
phospho.liver.Ins.TC.ratio.RUV html
plotQC html
ptImpute html
scImpute html
selectGrps html
selectOverallPercent html
selectTimes html
siteAnnotate html
standardise html
tImpute html
** building package indices
** installing vignettes
** testing if installed package can be loaded from temporary location
** testing if installed package can be loaded from final location
** testing if installed package keeps a record of temporary installation path
install for x64
* installing *source* package 'PhosR' ...
** testing if installed package can be loaded
* MD5 sums
packaged installation of 'PhosR' as PhosR_1.0.0.zip
* DONE (PhosR)