| Back to Multiple platform build/check report for BioC 3.12 |
|
This page was generated on 2021-05-06 12:36:06 -0400 (Thu, 06 May 2021).
|
To the developers/maintainers of the PhenStat package: Please make sure to use the following settings in order to reproduce any error or warning you see on this page. |
| Package 1339/1974 | Hostname | OS / Arch | INSTALL | BUILD | CHECK | BUILD BIN | ||||||||
| PhenStat 2.26.0 (landing page) Hamed Haselimashhadi
| malbec1 | Linux (Ubuntu 18.04.5 LTS) / x86_64 | OK | OK | OK | |||||||||
| tokay1 | Windows Server 2012 R2 Standard / x64 | OK | OK | OK | OK | |||||||||
| merida1 | macOS 10.14.6 Mojave / x86_64 | OK | OK | OK | OK | |||||||||
| Package: PhenStat |
| Version: 2.26.0 |
| Command: /Library/Frameworks/R.framework/Versions/Current/Resources/bin/R CMD check --install=check:PhenStat.install-out.txt --library=/Library/Frameworks/R.framework/Versions/Current/Resources/library --no-vignettes --timings PhenStat_2.26.0.tar.gz |
| StartedAt: 2021-05-06 04:39:49 -0400 (Thu, 06 May 2021) |
| EndedAt: 2021-05-06 04:43:05 -0400 (Thu, 06 May 2021) |
| EllapsedTime: 195.8 seconds |
| RetCode: 0 |
| Status: OK |
| CheckDir: PhenStat.Rcheck |
| Warnings: 0 |
##############################################################################
##############################################################################
###
### Running command:
###
### /Library/Frameworks/R.framework/Versions/Current/Resources/bin/R CMD check --install=check:PhenStat.install-out.txt --library=/Library/Frameworks/R.framework/Versions/Current/Resources/library --no-vignettes --timings PhenStat_2.26.0.tar.gz
###
##############################################################################
##############################################################################
* using log directory ‘/Users/biocbuild/bbs-3.12-bioc/meat/PhenStat.Rcheck’
* using R version 4.0.5 (2021-03-31)
* using platform: x86_64-apple-darwin17.0 (64-bit)
* using session charset: UTF-8
* using option ‘--no-vignettes’
* checking for file ‘PhenStat/DESCRIPTION’ ... OK
* checking extension type ... Package
* this is package ‘PhenStat’ version ‘2.26.0’
* checking package namespace information ... OK
* checking package dependencies ... OK
* checking if this is a source package ... OK
* checking if there is a namespace ... OK
* checking for hidden files and directories ... OK
* checking for portable file names ... OK
* checking for sufficient/correct file permissions ... OK
* checking whether package ‘PhenStat’ can be installed ... OK
* checking installed package size ... OK
* checking package directory ... OK
* checking ‘build’ directory ... OK
* checking DESCRIPTION meta-information ... OK
* checking top-level files ... OK
* checking for left-over files ... OK
* checking index information ... OK
* checking package subdirectories ... OK
* checking R files for non-ASCII characters ... OK
* checking R files for syntax errors ... OK
* checking whether the package can be loaded ... OK
* checking whether the package can be loaded with stated dependencies ... OK
* checking whether the package can be unloaded cleanly ... OK
* checking whether the namespace can be loaded with stated dependencies ... OK
* checking whether the namespace can be unloaded cleanly ... OK
* checking dependencies in R code ... NOTE
Namespace in Imports field not imported from: ‘SmoothWin’
All declared Imports should be used.
* checking S3 generic/method consistency ... OK
* checking replacement functions ... OK
* checking foreign function calls ... OK
* checking R code for possible problems ... OK
* checking Rd files ... OK
* checking Rd metadata ... OK
* checking Rd cross-references ... OK
* checking for missing documentation entries ... OK
* checking for code/documentation mismatches ... OK
* checking Rd \usage sections ... OK
* checking Rd contents ... OK
* checking for unstated dependencies in examples ... OK
* checking sizes of PDF files under ‘inst/doc’ ... OK
* checking installed files from ‘inst/doc’ ... OK
* checking files in ‘vignettes’ ... OK
* checking examples ... OK
Examples with CPU (user + system) or elapsed time > 5s
user system elapsed
qqplotRotatedResiduals 5.154 0.041 5.201
* checking for unstated dependencies in ‘tests’ ... OK
* checking tests ...
Running ‘runTests.R’
OK
* checking for unstated dependencies in vignettes ... OK
* checking package vignettes in ‘inst/doc’ ... OK
* checking running R code from vignettes ... SKIPPED
* checking re-building of vignette outputs ... SKIPPED
* checking PDF version of manual ... OK
* DONE
Status: 1 NOTE
See
‘/Users/biocbuild/bbs-3.12-bioc/meat/PhenStat.Rcheck/00check.log’
for details.
PhenStat.Rcheck/00install.out
############################################################################## ############################################################################## ### ### Running command: ### ### /Library/Frameworks/R.framework/Versions/Current/Resources/bin/R CMD INSTALL PhenStat ### ############################################################################## ############################################################################## * installing to library ‘/Library/Frameworks/R.framework/Versions/4.0/Resources/library’ * installing *source* package ‘PhenStat’ ... ** using staged installation ** R ** inst ** byte-compile and prepare package for lazy loading ** help *** installing help indices ** building package indices ** installing vignettes ** testing if installed package can be loaded from temporary location ** testing if installed package can be loaded from final location ** testing if installed package keeps a record of temporary installation path * DONE (PhenStat)
PhenStat.Rcheck/tests/runTests.Rout
R version 4.0.5 (2021-03-31) -- "Shake and Throw"
Copyright (C) 2021 The R Foundation for Statistical Computing
Platform: x86_64-apple-darwin17.0 (64-bit)
R is free software and comes with ABSOLUTELY NO WARRANTY.
You are welcome to redistribute it under certain conditions.
Type 'license()' or 'licence()' for distribution details.
R is a collaborative project with many contributors.
Type 'contributors()' for more information and
'citation()' on how to cite R or R packages in publications.
Type 'demo()' for some demos, 'help()' for on-line help, or
'help.start()' for an HTML browser interface to help.
Type 'q()' to quit R.
> BiocGenerics:::testPackage("PhenStat")
>=========================================================================<
This version of PhenStat includes *FEWER* functions than the previous ones
You *still* can use the previous functions by using `:::`. For example :
PhenStat:::boxplotSexGenotype or PhenStat:::FisherExactTest
*** Want to know what is new in this version? run PhenStat:::WhatIsNew()
>=========================================================================<
RUNIT TEST PROTOCOL -- Thu May 6 04:42:55 2021
***********************************************
Number of test functions: 0
Number of errors: 0
Number of failures: 0
1 Test Suite :
PhenStat RUnit Tests - 0 test functions, 0 errors, 0 failures
Number of test functions: 0
Number of errors: 0
Number of failures: 0
>
> proc.time()
user system elapsed
4.549 0.338 4.869
PhenStat.Rcheck/PhenStat-Ex.timings
| name | user | system | elapsed | |
| FisherExactTest | 0.241 | 0.022 | 0.263 | |
| JSONOutput | 1.700 | 0.037 | 1.740 | |
| LRDataset | 0.071 | 0.002 | 0.074 | |
| PhenList-class | 0.316 | 0.017 | 0.335 | |
| PhenList | 0.270 | 0.007 | 0.278 | |
| PhenStatReport | 0.059 | 0.001 | 0.062 | |
| PhenTestResult-class | 1.532 | 0.014 | 1.548 | |
| PhenTestResult | 1.244 | 0.010 | 1.254 | |
| RRTest | 0.123 | 0.004 | 0.126 | |
| TFDataset | 0.454 | 0.007 | 0.462 | |
| analysedDataset | 1.550 | 0.011 | 1.587 | |
| analysisResults | 1.596 | 0.016 | 1.613 | |
| boxplotResidualBatch | 1.503 | 0.017 | 1.521 | |
| boxplotSexGenotype | 0.114 | 0.005 | 0.118 | |
| boxplotSexGenotypeBatch | 0.219 | 0.005 | 0.225 | |
| boxplotSexGenotypeBatchAdjusted | 0.098 | 0.005 | 0.103 | |
| boxplotSexGenotypeResult | 1.810 | 0.021 | 1.839 | |
| boxplotSexGenotypeWeightBatchAdjusted | 0.096 | 0.002 | 0.098 | |
| categoricalBarplot | 0.198 | 0.004 | 0.203 | |
| checkDataset | 0.064 | 0.001 | 0.065 | |
| classificationTag | 1.508 | 0.015 | 1.525 | |
| determiningLambda | 0.885 | 0.212 | 1.099 | |
| dim | 0.053 | 0.002 | 0.055 | |
| finalLRModel | 0.692 | 0.009 | 0.702 | |
| finalModel | 1.086 | 0.003 | 1.089 | |
| finalTFModel | 0.812 | 0.011 | 0.824 | |
| htestPhenStat-class | 0.203 | 0.004 | 0.208 | |
| modelFormula | 0.001 | 0.000 | 0.000 | |
| modelFormulaLR | 0.001 | 0.000 | 0.001 | |
| parserOutputSummary | 1.334 | 0.007 | 1.342 | |
| parserOutputSummaryLR | 0.612 | 0.013 | 0.626 | |
| parserOutputTFSummary | 0.169 | 0.002 | 0.171 | |
| performReverseTransformation | 0.001 | 0.000 | 0.001 | |
| performTransformation | 0.000 | 0.000 | 0.001 | |
| plot.PhenList | 3.786 | 0.061 | 3.853 | |
| plot.PhenTestResult | 3.754 | 0.067 | 3.874 | |
| plotResidualPredicted | 1.406 | 0.013 | 1.422 | |
| printLROutput | 0.452 | 0.010 | 0.463 | |
| printTabStyle | 0.001 | 0.001 | 0.002 | |
| qqplotGenotype | 1.398 | 0.016 | 1.415 | |
| qqplotRandomEffects | 1.228 | 0.010 | 1.240 | |
| qqplotRotatedResiduals | 5.154 | 0.041 | 5.201 | |
| recommendMethod | 0.309 | 0.002 | 0.310 | |
| scatterplotGenotypeWeight | 0.194 | 0.008 | 0.204 | |
| scatterplotGenotypeWeightResult | 1.769 | 0.012 | 1.785 | |
| scatterplotSexGenotypeBatch | 0.122 | 0.006 | 0.130 | |
| scatterplotSexGenotypeBatchResult | 1.459 | 0.013 | 1.474 | |
| startLRModel | 0.502 | 0.008 | 0.511 | |
| startModel | 1.399 | 0.005 | 1.406 | |
| startTFModel | 0.739 | 0.008 | 0.748 | |
| summaryOutput | 1.415 | 0.019 | 1.435 | |
| summaryPhenListResult | 1.335 | 0.022 | 1.362 | |
| testDataset | 3.513 | 0.057 | 3.580 | |
| testFinalLRModel | 0.571 | 0.007 | 0.581 | |
| testFinalModel | 1.513 | 0.012 | 1.531 | |
| vectorOutput | 1.432 | 0.019 | 1.458 | |
| vectorOutputMatrices | 0.191 | 0.004 | 0.195 | |