| Back to Multiple platform build/check report for BioC 3.12 |
|
This page was generated on 2021-05-06 12:28:30 -0400 (Thu, 06 May 2021).
|
To the developers/maintainers of the PathoStat package: Please make sure to use the following settings in order to reproduce any error or warning you see on this page. |
| Package 1305/1974 | Hostname | OS / Arch | INSTALL | BUILD | CHECK | BUILD BIN | ||||||||
| PathoStat 1.16.0 (landing page) Solaiappan Manimaran
| malbec1 | Linux (Ubuntu 18.04.5 LTS) / x86_64 | OK | OK | OK | |||||||||
| tokay1 | Windows Server 2012 R2 Standard / x64 | OK | OK | OK | OK | |||||||||
| merida1 | macOS 10.14.6 Mojave / x86_64 | OK | OK | OK | OK | |||||||||
| Package: PathoStat |
| Version: 1.16.0 |
| Command: /home/biocbuild/bbs-3.12-bioc/R/bin/R CMD check --install=check:PathoStat.install-out.txt --library=/home/biocbuild/bbs-3.12-bioc/R/library --no-vignettes --timings PathoStat_1.16.0.tar.gz |
| StartedAt: 2021-05-06 04:19:55 -0400 (Thu, 06 May 2021) |
| EndedAt: 2021-05-06 04:25:52 -0400 (Thu, 06 May 2021) |
| EllapsedTime: 357.0 seconds |
| RetCode: 0 |
| Status: OK |
| CheckDir: PathoStat.Rcheck |
| Warnings: 0 |
##############################################################################
##############################################################################
###
### Running command:
###
### /home/biocbuild/bbs-3.12-bioc/R/bin/R CMD check --install=check:PathoStat.install-out.txt --library=/home/biocbuild/bbs-3.12-bioc/R/library --no-vignettes --timings PathoStat_1.16.0.tar.gz
###
##############################################################################
##############################################################################
* using log directory ‘/home/biocbuild/bbs-3.12-bioc/meat/PathoStat.Rcheck’
* using R version 4.0.5 (2021-03-31)
* using platform: x86_64-pc-linux-gnu (64-bit)
* using session charset: UTF-8
* using option ‘--no-vignettes’
* checking for file ‘PathoStat/DESCRIPTION’ ... OK
* checking extension type ... Package
* this is package ‘PathoStat’ version ‘1.16.0’
* package encoding: UTF-8
* checking package namespace information ... OK
* checking package dependencies ... OK
* checking if this is a source package ... OK
* checking if there is a namespace ... OK
* checking for hidden files and directories ... OK
* checking for portable file names ... OK
* checking for sufficient/correct file permissions ... OK
* checking whether package ‘PathoStat’ can be installed ... OK
* checking installed package size ... OK
* checking package directory ... OK
* checking ‘build’ directory ... OK
* checking DESCRIPTION meta-information ... OK
* checking top-level files ... OK
* checking for left-over files ... OK
* checking index information ... OK
* checking package subdirectories ... OK
* checking R files for non-ASCII characters ... OK
* checking R files for syntax errors ... OK
* checking whether the package can be loaded ... OK
* checking whether the package can be loaded with stated dependencies ... OK
* checking whether the package can be unloaded cleanly ... OK
* checking whether the namespace can be loaded with stated dependencies ... OK
* checking whether the namespace can be unloaded cleanly ... OK
* checking dependencies in R code ... NOTE
Namespaces in Imports field not imported from:
‘ComplexHeatmap’ ‘RColorBrewer’
All declared Imports should be used.
* checking S3 generic/method consistency ... OK
* checking replacement functions ... OK
* checking foreign function calls ... OK
* checking R code for possible problems ... OK
* checking Rd files ... OK
* checking Rd metadata ... OK
* checking Rd cross-references ... OK
* checking for missing documentation entries ... OK
* checking for code/documentation mismatches ... OK
* checking Rd \usage sections ... OK
* checking Rd contents ... OK
* checking for unstated dependencies in examples ... OK
* checking contents of ‘data’ directory ... OK
* checking data for non-ASCII characters ... OK
* checking data for ASCII and uncompressed saves ... OK
* checking files in ‘vignettes’ ... OK
* checking examples ... OK
Examples with CPU (user + system) or elapsed time > 5s
user system elapsed
Bootstrap_LOOCV_LR_AUC 18.876 0.096 18.988
getSignatureFromMultipleGlmnet 14.864 0.012 14.942
* checking for unstated dependencies in ‘tests’ ... OK
* checking tests ...
Running ‘testthat.R’
OK
* checking for unstated dependencies in vignettes ... OK
* checking package vignettes in ‘inst/doc’ ... OK
* checking running R code from vignettes ... SKIPPED
* checking re-building of vignette outputs ... SKIPPED
* checking PDF version of manual ... OK
* DONE
Status: 1 NOTE
See
‘/home/biocbuild/bbs-3.12-bioc/meat/PathoStat.Rcheck/00check.log’
for details.
PathoStat.Rcheck/00install.out
############################################################################## ############################################################################## ### ### Running command: ### ### /home/biocbuild/bbs-3.12-bioc/R/bin/R CMD INSTALL PathoStat ### ############################################################################## ############################################################################## * installing to library ‘/home/biocbuild/bbs-3.12-bioc/R/library’ * installing *source* package ‘PathoStat’ ... ** using staged installation ** R ** data ** inst ** byte-compile and prepare package for lazy loading ** help *** installing help indices ** building package indices ** installing vignettes ** testing if installed package can be loaded from temporary location ** testing if installed package can be loaded from final location ** testing if installed package keeps a record of temporary installation path * DONE (PathoStat)
PathoStat.Rcheck/tests/testthat.Rout
R version 4.0.5 (2021-03-31) -- "Shake and Throw"
Copyright (C) 2021 The R Foundation for Statistical Computing
Platform: x86_64-pc-linux-gnu (64-bit)
R is free software and comes with ABSOLUTELY NO WARRANTY.
You are welcome to redistribute it under certain conditions.
Type 'license()' or 'licence()' for distribution details.
R is a collaborative project with many contributors.
Type 'contributors()' for more information and
'citation()' on how to cite R or R packages in publications.
Type 'demo()' for some demos, 'help()' for on-line help, or
'help.start()' for an HTML browser interface to help.
Type 'q()' to quit R.
> library(testthat)
> library(PathoStat)
>
> test_check("PathoStat")
[ FAIL 0 | WARN 0 | SKIP 0 | PASS 1 ]
>
> proc.time()
user system elapsed
16.588 0.364 17.177
PathoStat.Rcheck/PathoStat-Ex.timings
| name | user | system | elapsed | |
| Bootstrap_LOOCV_LR_AUC | 18.876 | 0.096 | 18.988 | |
| Chisq_Test_Pam | 0.004 | 0.000 | 0.005 | |
| Fisher_Test_Pam | 0.004 | 0.000 | 0.004 | |
| GET_PAM | 0.004 | 0.000 | 0.002 | |
| LOOAUC_simple_multiple_noplot_one_df | 4.252 | 0.000 | 4.263 | |
| LOOAUC_simple_multiple_one_df | 4.272 | 0.000 | 4.279 | |
| PathoStat-class | 0.084 | 0.000 | 0.083 | |
| TranslateIdToTaxLevel | 0.004 | 0.000 | 0.004 | |
| Wilcox_Test_df | 0.016 | 0.000 | 0.017 | |
| findRAfromCount | 0.300 | 0.000 | 0.303 | |
| findTaxonMat | 0.160 | 0.008 | 0.289 | |
| findTaxonomy | 0.132 | 0.000 | 0.133 | |
| findTaxonomy300 | 0.132 | 0.000 | 0.133 | |
| getShinyInput | 0 | 0 | 0 | |
| getShinyInputCombat | 0.000 | 0.000 | 0.001 | |
| getShinyInputOrig | 0 | 0 | 0 | |
| getSignatureFromMultipleGlmnet | 14.864 | 0.012 | 14.942 | |
| grepTid | 0 | 0 | 0 | |
| loadPathoscopeReports | 0.000 | 0.000 | 0.001 | |
| loadPstat | 0.000 | 0.000 | 0.002 | |
| log2CPM | 0.000 | 0.000 | 0.001 | |
| percent | 0.000 | 0.000 | 0.001 | |
| phyloseq_to_edgeR | 0.056 | 0.000 | 0.055 | |
| plotPCAPlotly | 0.244 | 0.016 | 0.259 | |
| plotPCoAPlotly | 0.240 | 0.012 | 0.253 | |
| readPathoscopeData | 0.076 | 0.000 | 0.073 | |
| runPathoStat | 0.136 | 0.000 | 0.135 | |
| savePstat | 0.004 | 0.000 | 0.006 | |
| setShinyInput | 0 | 0 | 0 | |
| setShinyInputCombat | 0 | 0 | 0 | |
| setShinyInputOrig | 0 | 0 | 0 | |
| summarizeTable | 0.004 | 0.000 | 0.003 | |