| Back to Multiple platform build/check report for BioC 3.12 | 
  | 
This page was generated on 2021-05-06 12:36:13 -0400 (Thu, 06 May 2021).
| 
To the developers/maintainers of the PSICQUIC package: Please make sure to use the following settings in order to reproduce any error or warning you see on this page.  | 
| Package 1409/1974 | Hostname | OS / Arch | INSTALL | BUILD | CHECK | BUILD BIN | ||||||||
| PSICQUIC 1.28.0  (landing page) Paul Shannon 
  | malbec1 | Linux (Ubuntu 18.04.5 LTS) / x86_64 | OK | OK | WARNINGS | |||||||||
| tokay1 | Windows Server 2012 R2 Standard / x64 | OK | OK | WARNINGS | OK | |||||||||
| merida1 | macOS 10.14.6 Mojave / x86_64 | OK | OK | WARNINGS | OK | |||||||||
| Package: PSICQUIC | 
| Version: 1.28.0 | 
| Command: /Library/Frameworks/R.framework/Versions/Current/Resources/bin/R CMD build --keep-empty-dirs --no-resave-data PSICQUIC | 
| StartedAt: 2021-05-05 21:26:36 -0400 (Wed, 05 May 2021) | 
| EndedAt: 2021-05-05 21:28:29 -0400 (Wed, 05 May 2021) | 
| EllapsedTime: 113.0 seconds | 
| RetCode: 0 | 
| Status: OK | 
| PackageFile: PSICQUIC_1.28.0.tar.gz | 
| PackageFileSize: 227.9 KiB | 
############################################################################## ############################################################################## ### ### Running command: ### ### /Library/Frameworks/R.framework/Versions/Current/Resources/bin/R CMD build --keep-empty-dirs --no-resave-data PSICQUIC ### ############################################################################## ############################################################################## * checking for file ‘PSICQUIC/DESCRIPTION’ ... OK * preparing ‘PSICQUIC’: * checking DESCRIPTION meta-information ... OK * installing the package to build vignettes * creating vignettes ... OK * checking for LF line-endings in source and make files and shell scripts * checking for empty or unneeded directories * building ‘PSICQUIC_1.28.0.tar.gz’