| Back to Multiple platform build/check report for BioC 3.12 |
|
This page was generated on 2021-05-06 12:32:47 -0400 (Thu, 06 May 2021).
|
To the developers/maintainers of the PLPE package: Please make sure to use the following settings in order to reproduce any error or warning you see on this page. |
| Package 1359/1974 | Hostname | OS / Arch | INSTALL | BUILD | CHECK | BUILD BIN | ||||||||
| PLPE 1.50.0 (landing page) Soo-heang Eo
| malbec1 | Linux (Ubuntu 18.04.5 LTS) / x86_64 | OK | OK | OK | |||||||||
| tokay1 | Windows Server 2012 R2 Standard / x64 | OK | OK | OK | OK | |||||||||
| merida1 | macOS 10.14.6 Mojave / x86_64 | OK | OK | OK | OK | |||||||||
| Package: PLPE |
| Version: 1.50.0 |
| Command: rm -rf PLPE.buildbin-libdir && mkdir PLPE.buildbin-libdir && C:\Users\biocbuild\bbs-3.12-bioc\R\bin\R.exe CMD INSTALL --merge-multiarch --build --library=PLPE.buildbin-libdir PLPE_1.50.0.tar.gz |
| StartedAt: 2021-05-06 09:46:35 -0400 (Thu, 06 May 2021) |
| EndedAt: 2021-05-06 09:47:10 -0400 (Thu, 06 May 2021) |
| EllapsedTime: 35.1 seconds |
| RetCode: 0 |
| Status: OK |
| PackageFile: PLPE_1.50.0.zip |
| PackageFileSize: 212.2 KiB |
##############################################################################
##############################################################################
###
### Running command:
###
### rm -rf PLPE.buildbin-libdir && mkdir PLPE.buildbin-libdir && C:\Users\biocbuild\bbs-3.12-bioc\R\bin\R.exe CMD INSTALL --merge-multiarch --build --library=PLPE.buildbin-libdir PLPE_1.50.0.tar.gz
###
##############################################################################
##############################################################################
install for i386
* installing *source* package 'PLPE' ...
** using staged installation
** R
** data
*** moving datasets to lazyload DB
** inst
** byte-compile and prepare package for lazy loading
** help
*** installing help indices
converting help for package 'PLPE'
finding HTML links ... done
am.trans.paired html
base.error.paired html
generate.null html
lpe.paired html
lpe.paired.default html
lpe.paired.fdr html
lpe.paired.fdr.default html
plateletSet html
print.lpe.paired html
print.lpe.paired.fdr html
summary.lpe.paired html
summary.lpe.paired.fdr html
** building package indices
** installing vignettes
** testing if installed package can be loaded from temporary location
** testing if installed package can be loaded from final location
** testing if installed package keeps a record of temporary installation path
install for x64
* installing *source* package 'PLPE' ...
** testing if installed package can be loaded
* MD5 sums
packaged installation of 'PLPE' as PLPE_1.50.0.zip
* DONE (PLPE)