| Back to Multiple platform build/check report for BioC 3.12 |
|
This page was generated on 2021-05-06 12:32:44 -0400 (Thu, 06 May 2021).
|
To the developers/maintainers of the PGSEA package: Please make sure to use the following settings in order to reproduce any error or warning you see on this page. |
| Package 1333/1974 | Hostname | OS / Arch | INSTALL | BUILD | CHECK | BUILD BIN | ||||||||
Karl Dykema
| malbec1 | Linux (Ubuntu 18.04.5 LTS) / x86_64 | OK | OK | ERROR | |||||||||
| tokay1 | Windows Server 2012 R2 Standard / x64 | OK | OK | ERROR | OK | |||||||||
| merida1 | macOS 10.14.6 Mojave / x86_64 | OK | OK | ERROR | OK | |||||||||
| Package: PGSEA |
| Version: 1.64.0 |
| Command: rm -rf PGSEA.buildbin-libdir && mkdir PGSEA.buildbin-libdir && C:\Users\biocbuild\bbs-3.12-bioc\R\bin\R.exe CMD INSTALL --merge-multiarch --build --library=PGSEA.buildbin-libdir PGSEA_1.64.0.tar.gz |
| StartedAt: 2021-05-06 09:45:05 -0400 (Thu, 06 May 2021) |
| EndedAt: 2021-05-06 09:45:47 -0400 (Thu, 06 May 2021) |
| EllapsedTime: 42.7 seconds |
| RetCode: 0 |
| Status: OK |
| PackageFile: PGSEA_1.64.0.zip |
| PackageFileSize: 1.225 MiB |
##############################################################################
##############################################################################
###
### Running command:
###
### rm -rf PGSEA.buildbin-libdir && mkdir PGSEA.buildbin-libdir && C:\Users\biocbuild\bbs-3.12-bioc\R\bin\R.exe CMD INSTALL --merge-multiarch --build --library=PGSEA.buildbin-libdir PGSEA_1.64.0.tar.gz
###
##############################################################################
##############################################################################
install for i386
* installing *source* package 'PGSEA' ...
** using staged installation
** R
** data
** inst
** byte-compile and prepare package for lazy loading
Warning message:
Package 'KEGG.db' is deprecated and will be removed from Bioconductor
version 3.12
** help
*** installing help indices
converting help for package 'PGSEA'
finding HTML links ... done
GOLUBmcs html
PGSEA html
VAIgsc html
VAImcs html
aggregateExprs html
convertSmc html
editSmc html
go2smc html
kegg2smc html
nbEset html
readGmt html
readSmc html
scanSmc html
smcPlot html
writeGmt html
writeSmc html
** building package indices
** installing vignettes
** testing if installed package can be loaded from temporary location
Warning: Package 'KEGG.db' is deprecated and will be removed from Bioconductor
version 3.12
Warning: Package 'PGSEA' is deprecated and will be removed from Bioconductor
version 3.13
** testing if installed package can be loaded from final location
Warning: Package 'KEGG.db' is deprecated and will be removed from Bioconductor
version 3.12
Warning: Package 'PGSEA' is deprecated and will be removed from Bioconductor
version 3.13
** testing if installed package keeps a record of temporary installation path
install for x64
* installing *source* package 'PGSEA' ...
** testing if installed package can be loaded
Warning: Package 'KEGG.db' is deprecated and will be removed from Bioconductor
version 3.12
Warning: Package 'PGSEA' is deprecated and will be removed from Bioconductor
version 3.13
* MD5 sums
packaged installation of 'PGSEA' as PGSEA_1.64.0.zip
* DONE (PGSEA)