| Back to Multiple platform build/check report for BioC 3.12 |
|
This page was generated on 2021-05-06 12:32:44 -0400 (Thu, 06 May 2021).
|
To the developers/maintainers of the PERFect package: Please make sure to use the following settings in order to reproduce any error or warning you see on this page. |
| Package 1328/1974 | Hostname | OS / Arch | INSTALL | BUILD | CHECK | BUILD BIN | ||||||||
| PERFect 1.4.0 (landing page) Quy Cao
| malbec1 | Linux (Ubuntu 18.04.5 LTS) / x86_64 | OK | OK | OK | |||||||||
| tokay1 | Windows Server 2012 R2 Standard / x64 | OK | OK | OK | OK | |||||||||
| merida1 | macOS 10.14.6 Mojave / x86_64 | OK | OK | OK | OK | |||||||||
| Package: PERFect |
| Version: 1.4.0 |
| Command: C:\cygwin\bin\curl.exe -O http://172.29.0.3/BBS/3.12/bioc/src/contrib/PERFect_1.4.0.tar.gz && rm -rf PERFect.buildbin-libdir && mkdir PERFect.buildbin-libdir && C:\Users\biocbuild\bbs-3.12-bioc\R\bin\R.exe CMD INSTALL --merge-multiarch --build --library=PERFect.buildbin-libdir PERFect_1.4.0.tar.gz && C:\Users\biocbuild\bbs-3.12-bioc\R\bin\R.exe CMD INSTALL PERFect_1.4.0.zip && rm PERFect_1.4.0.tar.gz PERFect_1.4.0.zip |
| StartedAt: 2021-05-05 17:52:32 -0400 (Wed, 05 May 2021) |
| EndedAt: 2021-05-05 17:53:25 -0400 (Wed, 05 May 2021) |
| EllapsedTime: 53.4 seconds |
| RetCode: 0 |
| Status: OK |
##############################################################################
##############################################################################
###
### Running command:
###
### C:\cygwin\bin\curl.exe -O http://172.29.0.3/BBS/3.12/bioc/src/contrib/PERFect_1.4.0.tar.gz && rm -rf PERFect.buildbin-libdir && mkdir PERFect.buildbin-libdir && C:\Users\biocbuild\bbs-3.12-bioc\R\bin\R.exe CMD INSTALL --merge-multiarch --build --library=PERFect.buildbin-libdir PERFect_1.4.0.tar.gz && C:\Users\biocbuild\bbs-3.12-bioc\R\bin\R.exe CMD INSTALL PERFect_1.4.0.zip && rm PERFect_1.4.0.tar.gz PERFect_1.4.0.zip
###
##############################################################################
##############################################################################
% Total % Received % Xferd Average Speed Time Time Time Current
Dload Upload Total Spent Left Speed
0 0 0 0 0 0 0 0 --:--:-- --:--:-- --:--:-- 0
100 319k 100 319k 0 0 9.9M 0 --:--:-- --:--:-- --:--:-- 10.4M
install for i386
* installing *source* package 'PERFect' ...
** using staged installation
** R
** data
** inst
** byte-compile and prepare package for lazy loading
** help
*** installing help indices
converting help for package 'PERFect'
finding HTML links ... done
DiffFiltLoss html
FL_J html
FiltLoss html
NC_Order html
NCw_Order html
NP_Order html
PERFect_perm html
PERFect_perm_reorder html
PERFect_sim html
TraditR1 html
TraditR2 html
mock2 html
pvals_Order html
pvals_Plots html
** building package indices
** installing vignettes
** testing if installed package can be loaded from temporary location
** testing if installed package can be loaded from final location
** testing if installed package keeps a record of temporary installation path
install for x64
* installing *source* package 'PERFect' ...
** testing if installed package can be loaded
* MD5 sums
packaged installation of 'PERFect' as PERFect_1.4.0.zip
* DONE (PERFect)
* installing to library 'C:/Users/biocbuild/bbs-3.12-bioc/R/library'
package 'PERFect' successfully unpacked and MD5 sums checked