| Back to Multiple platform build/check report for BioC 3.12 |
|
This page was generated on 2021-05-06 12:32:43 -0400 (Thu, 06 May 2021).
|
To the developers/maintainers of the PCAN package: Please make sure to use the following settings in order to reproduce any error or warning you see on this page. |
| Package 1315/1974 | Hostname | OS / Arch | INSTALL | BUILD | CHECK | BUILD BIN | ||||||||
| PCAN 1.18.0 (landing page) Matthew Page
| malbec1 | Linux (Ubuntu 18.04.5 LTS) / x86_64 | OK | OK | OK | |||||||||
| tokay1 | Windows Server 2012 R2 Standard / x64 | OK | OK | TIMEOUT | OK | |||||||||
| merida1 | macOS 10.14.6 Mojave / x86_64 | OK | OK | OK | OK | |||||||||
| Package: PCAN |
| Version: 1.18.0 |
| Command: rm -rf PCAN.buildbin-libdir && mkdir PCAN.buildbin-libdir && C:\Users\biocbuild\bbs-3.12-bioc\R\bin\R.exe CMD INSTALL --merge-multiarch --build --library=PCAN.buildbin-libdir PCAN_1.18.0.tar.gz |
| StartedAt: 2021-05-06 09:44:04 -0400 (Thu, 06 May 2021) |
| EndedAt: 2021-05-06 09:44:43 -0400 (Thu, 06 May 2021) |
| EllapsedTime: 39.3 seconds |
| RetCode: 0 |
| Status: OK |
| PackageFile: PCAN_1.18.0.zip |
| PackageFileSize: 2.251 MiB |
##############################################################################
##############################################################################
###
### Running command:
###
### rm -rf PCAN.buildbin-libdir && mkdir PCAN.buildbin-libdir && C:\Users\biocbuild\bbs-3.12-bioc\R\bin\R.exe CMD INSTALL --merge-multiarch --build --library=PCAN.buildbin-libdir PCAN_1.18.0.tar.gz
###
##############################################################################
##############################################################################
install for i386
* installing *source* package 'PCAN' ...
** using staged installation
** R
** data
** inst
** byte-compile and prepare package for lazy loading
** help
*** installing help indices
converting help for package 'PCAN'
finding HTML links ... done
calcHpSim html
compareHPSets html
finding level-2 HTML links ... done
computeHpIC html
geneByHp html
geneByTrait html
geneDef html
hpByTrait html
hpDef html
hpGeneHeatmap html
hpGeneListComp html
hpSetCompBestMatch html
hpSetCompSummary html
hp_ancestors html
hp_class html
hp_descendants html
hqStrNw html
hsEntrezByRPath html
rPath html
traitDef html
** building package indices
** installing vignettes
** testing if installed package can be loaded from temporary location
** testing if installed package can be loaded from final location
** testing if installed package keeps a record of temporary installation path
install for x64
* installing *source* package 'PCAN' ...
** testing if installed package can be loaded
* MD5 sums
packaged installation of 'PCAN' as PCAN_1.18.0.zip
* DONE (PCAN)