| Back to Multiple platform build/check report for BioC 3.12 |
|
This page was generated on 2021-05-06 12:32:41 -0400 (Thu, 06 May 2021).
|
To the developers/maintainers of the PANR package: Please make sure to use the following settings in order to reproduce any error or warning you see on this page. |
| Package 1297/1974 | Hostname | OS / Arch | INSTALL | BUILD | CHECK | BUILD BIN | ||||||||
| PANR 1.36.0 (landing page) Xin Wang
| malbec1 | Linux (Ubuntu 18.04.5 LTS) / x86_64 | OK | OK | OK | |||||||||
| tokay1 | Windows Server 2012 R2 Standard / x64 | OK | OK | WARNINGS | OK | |||||||||
| merida1 | macOS 10.14.6 Mojave / x86_64 | OK | OK | OK | OK | |||||||||
| Package: PANR |
| Version: 1.36.0 |
| Command: rm -rf PANR.buildbin-libdir && mkdir PANR.buildbin-libdir && C:\Users\biocbuild\bbs-3.12-bioc\R\bin\R.exe CMD INSTALL --merge-multiarch --build --library=PANR.buildbin-libdir PANR_1.36.0.tar.gz |
| StartedAt: 2021-05-06 09:43:07 -0400 (Thu, 06 May 2021) |
| EndedAt: 2021-05-06 09:43:32 -0400 (Thu, 06 May 2021) |
| EllapsedTime: 24.7 seconds |
| RetCode: 0 |
| Status: OK |
| PackageFile: PANR_1.36.0.zip |
| PackageFileSize: 2.014 MiB |
##############################################################################
##############################################################################
###
### Running command:
###
### rm -rf PANR.buildbin-libdir && mkdir PANR.buildbin-libdir && C:\Users\biocbuild\bbs-3.12-bioc\R\bin\R.exe CMD INSTALL --merge-multiarch --build --library=PANR.buildbin-libdir PANR_1.36.0.tar.gz
###
##############################################################################
##############################################################################
install for i386
* installing *source* package 'PANR' ...
** using staged installation
** R
** data
** inst
** byte-compile and prepare package for lazy loading
** help
*** installing help indices
converting help for package 'PANR'
finding HTML links ... done
BetaMixture-class html
PAN-class html
Rd warning: C:/Users/biocbuild/bbs-3.12-bioc/tmpdir/RtmpwbzAmg/R.INSTALL3ca8a28593c/PANR/man/PAN-class.Rd:21: file link 'BetaMixture' in package 'PANR' does not exist and so has been treated as a topic
Rd warning: C:/Users/biocbuild/bbs-3.12-bioc/tmpdir/RtmpwbzAmg/R.INSTALL3ca8a28593c/PANR/man/PAN-class.Rd:85: file link 'igraph' in package 'igraph' does not exist and so has been treated as a topic
Rd warning: C:/Users/biocbuild/bbs-3.12-bioc/tmpdir/RtmpwbzAmg/R.INSTALL3ca8a28593c/PANR/man/PAN-class.Rd:85: file link 'RedeR' in package 'RedeR' does not exist and so has been treated as a topic
Rd warning: C:/Users/biocbuild/bbs-3.12-bioc/tmpdir/RtmpwbzAmg/R.INSTALL3ca8a28593c/PANR/man/PAN-class.Rd:89: file link 'igraph' in package 'igraph' does not exist and so has been treated as a topic
Rd warning: C:/Users/biocbuild/bbs-3.12-bioc/tmpdir/RtmpwbzAmg/R.INSTALL3ca8a28593c/PANR/man/PAN-class.Rd:89: file link 'RedeR' in package 'RedeR' does not exist and so has been treated as a topic
SNR2p html
assoScore html
buildPAN html
Rd warning: C:/Users/biocbuild/bbs-3.12-bioc/tmpdir/RtmpwbzAmg/R.INSTALL3ca8a28593c/PANR/man/buildPAN.Rd:9: file link 'igraph' in package 'igraph' does not exist and so has been treated as a topic
Rd warning: C:/Users/biocbuild/bbs-3.12-bioc/tmpdir/RtmpwbzAmg/R.INSTALL3ca8a28593c/PANR/man/buildPAN.Rd:9: file link 'RedeR' in package 'RedeR' does not exist and so has been treated as a topic
Rd warning: C:/Users/biocbuild/bbs-3.12-bioc/tmpdir/RtmpwbzAmg/R.INSTALL3ca8a28593c/PANR/man/buildPAN.Rd:40: file link 'BetaMixture' in package 'PANR' does not exist and so has been treated as a topic
Rd warning: C:/Users/biocbuild/bbs-3.12-bioc/tmpdir/RtmpwbzAmg/R.INSTALL3ca8a28593c/PANR/man/buildPAN.Rd:44: file link 'BetaMixture' in package 'PANR' does not exist and so has been treated as a topic
cosineSim html
data-Bakal2007 html
Rd warning: C:/Users/biocbuild/bbs-3.12-bioc/tmpdir/RtmpwbzAmg/R.INSTALL3ca8a28593c/PANR/man/data-Bakal2007.Rd:29: file link 'BetaMixture' in package 'PANR' does not exist and so has been treated as a topic
edgeWeight html
exportPAN html
Rd warning: C:/Users/biocbuild/bbs-3.12-bioc/tmpdir/RtmpwbzAmg/R.INSTALL3ca8a28593c/PANR/man/exportPAN.Rd:8: file link 'write.graph' in package 'igraph' does not exist and so has been treated as a topic
Rd warning: C:/Users/biocbuild/bbs-3.12-bioc/tmpdir/RtmpwbzAmg/R.INSTALL3ca8a28593c/PANR/man/exportPAN.Rd:8: file link 'igraph' in package 'igraph' does not exist and so has been treated as a topic
Rd warning: C:/Users/biocbuild/bbs-3.12-bioc/tmpdir/RtmpwbzAmg/R.INSTALL3ca8a28593c/PANR/man/exportPAN.Rd:31: file link 'write.graph' in package 'igraph' does not exist and so has been treated as a topic
fitBM html
Rd warning: C:/Users/biocbuild/bbs-3.12-bioc/tmpdir/RtmpwbzAmg/R.INSTALL3ca8a28593c/PANR/man/fitBM.Rd:40: file link 'BetaMixture' in package 'PANR' does not exist and so has been treated as a topic
fitNULL html
Rd warning: C:/Users/biocbuild/bbs-3.12-bioc/tmpdir/RtmpwbzAmg/R.INSTALL3ca8a28593c/PANR/man/fitNULL.Rd:25: file link 'dbeta' in package 'stats' does not exist and so has been treated as a topic
infer html
p2SNR html
permNULL html
Rd warning: C:/Users/biocbuild/bbs-3.12-bioc/tmpdir/RtmpwbzAmg/R.INSTALL3ca8a28593c/PANR/man/permNULL.Rd:28: file link 'BetaMixture' in package 'PANR' does not exist and so has been treated as a topic
pvclustModule html
sigModules html
summarize html
view html
viewLegend html
viewNestedModules html
Rd warning: C:/Users/biocbuild/bbs-3.12-bioc/tmpdir/RtmpwbzAmg/R.INSTALL3ca8a28593c/PANR/man/viewNestedModules.Rd:9: file link 'RedeR' in package 'RedeR' does not exist and so has been treated as a topic
Rd warning: C:/Users/biocbuild/bbs-3.12-bioc/tmpdir/RtmpwbzAmg/R.INSTALL3ca8a28593c/PANR/man/viewNestedModules.Rd:38: file link 'RedeR' in package 'RedeR' does not exist and so has been treated as a topic
viewPAN html
Rd warning: C:/Users/biocbuild/bbs-3.12-bioc/tmpdir/RtmpwbzAmg/R.INSTALL3ca8a28593c/PANR/man/viewPAN.Rd:10: file link 'RedeR' in package 'RedeR' does not exist and so has been treated as a topic
Rd warning: C:/Users/biocbuild/bbs-3.12-bioc/tmpdir/RtmpwbzAmg/R.INSTALL3ca8a28593c/PANR/man/viewPAN.Rd:28: file link 'layout' in package 'igraph' does not exist and so has been treated as a topic
Rd warning: C:/Users/biocbuild/bbs-3.12-bioc/tmpdir/RtmpwbzAmg/R.INSTALL3ca8a28593c/PANR/man/viewPAN.Rd:42: file link 'RedeR' in package 'RedeR' does not exist and so has been treated as a topic
Rd warning: C:/Users/biocbuild/bbs-3.12-bioc/tmpdir/RtmpwbzAmg/R.INSTALL3ca8a28593c/PANR/man/viewPAN.Rd:60: file link 'layout' in package 'igraph' does not exist and so has been treated as a topic
** building package indices
** installing vignettes
** testing if installed package can be loaded from temporary location
** testing if installed package can be loaded from final location
** testing if installed package keeps a record of temporary installation path
install for x64
* installing *source* package 'PANR' ...
** testing if installed package can be loaded
* MD5 sums
packaged installation of 'PANR' as PANR_1.36.0.zip
* DONE (PANR)