| Back to Multiple platform build/check report for BioC 3.12 |
|
This page was generated on 2021-05-06 12:32:40 -0400 (Thu, 06 May 2021).
|
To the developers/maintainers of the PAIRADISE package: Please make sure to use the following settings in order to reproduce any error or warning you see on this page. |
| Package 1292/1974 | Hostname | OS / Arch | INSTALL | BUILD | CHECK | BUILD BIN | ||||||||
| PAIRADISE 1.6.0 (landing page) Qiang Hu
| malbec1 | Linux (Ubuntu 18.04.5 LTS) / x86_64 | OK | OK | OK | |||||||||
| tokay1 | Windows Server 2012 R2 Standard / x64 | OK | OK | OK | OK | |||||||||
| merida1 | macOS 10.14.6 Mojave / x86_64 | OK | OK | OK | OK | |||||||||
| Package: PAIRADISE |
| Version: 1.6.0 |
| Command: rm -rf PAIRADISE.buildbin-libdir && mkdir PAIRADISE.buildbin-libdir && C:\Users\biocbuild\bbs-3.12-bioc\R\bin\R.exe CMD INSTALL --merge-multiarch --build --library=PAIRADISE.buildbin-libdir PAIRADISE_1.6.0.tar.gz |
| StartedAt: 2021-05-06 09:42:44 -0400 (Thu, 06 May 2021) |
| EndedAt: 2021-05-06 09:43:21 -0400 (Thu, 06 May 2021) |
| EllapsedTime: 37.2 seconds |
| RetCode: 0 |
| Status: OK |
| PackageFile: PAIRADISE_1.6.0.zip |
| PackageFileSize: 383.7 KiB |
##############################################################################
##############################################################################
###
### Running command:
###
### rm -rf PAIRADISE.buildbin-libdir && mkdir PAIRADISE.buildbin-libdir && C:\Users\biocbuild\bbs-3.12-bioc\R\bin\R.exe CMD INSTALL --merge-multiarch --build --library=PAIRADISE.buildbin-libdir PAIRADISE_1.6.0.tar.gz
###
##############################################################################
##############################################################################
install for i386
* installing *source* package 'PAIRADISE' ...
** using staged installation
** R
** data
** inst
** byte-compile and prepare package for lazy loading
** help
*** installing help indices
converting help for package 'PAIRADISE'
finding HTML links ... done
PAIRADISE html
PDseDataSet html
PDseDataSetFromMat html
clean.data html
counts html
load.data html
logit html
loglikelihood html
optimize1 html
optimize2 html
pairadise-FUN html
results html
sample_dataset html
sigmoid html
** building package indices
** installing vignettes
** testing if installed package can be loaded from temporary location
** testing if installed package can be loaded from final location
** testing if installed package keeps a record of temporary installation path
install for x64
* installing *source* package 'PAIRADISE' ...
** testing if installed package can be loaded
* MD5 sums
packaged installation of 'PAIRADISE' as PAIRADISE_1.6.0.zip
* DONE (PAIRADISE)