| Back to Multiple platform build/check report for BioC 3.12 |
|
This page was generated on 2021-05-06 12:32:40 -0400 (Thu, 06 May 2021).
|
To the developers/maintainers of the Oscope package: Please make sure to use the following settings in order to reproduce any error or warning you see on this page. |
| Package 1282/1974 | Hostname | OS / Arch | INSTALL | BUILD | CHECK | BUILD BIN | ||||||||
| Oscope 1.20.0 (landing page) Ning Leng
| malbec1 | Linux (Ubuntu 18.04.5 LTS) / x86_64 | OK | OK | OK | |||||||||
| tokay1 | Windows Server 2012 R2 Standard / x64 | OK | OK | OK | OK | |||||||||
| merida1 | macOS 10.14.6 Mojave / x86_64 | OK | OK | OK | OK | |||||||||
| Package: Oscope |
| Version: 1.20.0 |
| Command: rm -rf Oscope.buildbin-libdir && mkdir Oscope.buildbin-libdir && C:\Users\biocbuild\bbs-3.12-bioc\R\bin\R.exe CMD INSTALL --merge-multiarch --build --library=Oscope.buildbin-libdir Oscope_1.20.0.tar.gz |
| StartedAt: 2021-05-06 09:42:13 -0400 (Thu, 06 May 2021) |
| EndedAt: 2021-05-06 09:42:34 -0400 (Thu, 06 May 2021) |
| EllapsedTime: 20.7 seconds |
| RetCode: 0 |
| Status: OK |
| PackageFile: Oscope_1.20.0.zip |
| PackageFileSize: 866 KiB |
##############################################################################
##############################################################################
###
### Running command:
###
### rm -rf Oscope.buildbin-libdir && mkdir Oscope.buildbin-libdir && C:\Users\biocbuild\bbs-3.12-bioc\R\bin\R.exe CMD INSTALL --merge-multiarch --build --library=Oscope.buildbin-libdir Oscope_1.20.0.tar.gz
###
##############################################################################
##############################################################################
install for i386
* installing *source* package 'Oscope' ...
** using staged installation
** R
** data
** demo
** inst
** byte-compile and prepare package for lazy loading
** help
*** installing help indices
converting help for package 'Oscope'
finding HTML links ... done
AbsCor html
CalcMV html
FlagCluster html
FormatSineOut html
ImpShift html
NISFun html
NormForSine html
Opt2Shift html
Oscope-package html
OscopeENI html
OscopeExampleData html
OscopeKM html
OscopeSine html
PermuCut html
PipeR html
PipeShiftCDF html
SineFun html
SineOptim html
scanK html
** building package indices
** installing vignettes
** testing if installed package can be loaded from temporary location
** testing if installed package can be loaded from final location
** testing if installed package keeps a record of temporary installation path
install for x64
* installing *source* package 'Oscope' ...
** testing if installed package can be loaded
* MD5 sums
packaged installation of 'Oscope' as Oscope_1.20.0.zip
* DONE (Oscope)