| Back to Multiple platform build/check report for BioC 3.12 |
|
This page was generated on 2021-05-06 12:36:01 -0400 (Thu, 06 May 2021).
|
To the developers/maintainers of the OncoSimulR package: Please make sure to use the following settings in order to reproduce any error or warning you see on this page. |
| Package 1264/1974 | Hostname | OS / Arch | INSTALL | BUILD | CHECK | BUILD BIN | ||||||||
| OncoSimulR 2.20.0 (landing page) Ramon Diaz-Uriarte
| malbec1 | Linux (Ubuntu 18.04.5 LTS) / x86_64 | OK | OK | OK | |||||||||
| tokay1 | Windows Server 2012 R2 Standard / x64 | OK | OK | OK | OK | |||||||||
| merida1 | macOS 10.14.6 Mojave / x86_64 | OK | OK | OK | OK | |||||||||
| Package: OncoSimulR |
| Version: 2.20.0 |
| Command: rm -rf OncoSimulR.buildbin-libdir && mkdir OncoSimulR.buildbin-libdir && /Users/biocbuild/BBS/utils/build-universal.sh OncoSimulR_2.20.0.tar.gz /Library/Frameworks/R.framework/Versions/Current/Resources/bin/R OncoSimulR.buildbin-libdir |
| StartedAt: 2021-05-06 09:27:34 -0400 (Thu, 06 May 2021) |
| EndedAt: 2021-05-06 09:28:38 -0400 (Thu, 06 May 2021) |
| EllapsedTime: 63.5 seconds |
| RetCode: 0 |
| Status: OK |
| PackageFile: OncoSimulR_2.20.0.tgz |
| PackageFileSize: 4.151 MiB |
##############################################################################
##############################################################################
###
### Running command:
###
### rm -rf OncoSimulR.buildbin-libdir && mkdir OncoSimulR.buildbin-libdir && /Users/biocbuild/BBS/utils/build-universal.sh OncoSimulR_2.20.0.tar.gz /Library/Frameworks/R.framework/Versions/Current/Resources/bin/R OncoSimulR.buildbin-libdir
###
##############################################################################
##############################################################################
>>>>>>>
>>>>>>> INSTALLATION WITH 'R CMD INSTALL --preclean --no-multiarch --library=OncoSimulR.buildbin-libdir OncoSimulR_2.20.0.tar.gz'
>>>>>>>
* installing *source* package ‘OncoSimulR’ ...
** using staged installation
** libs
clang -mmacosx-version-min=10.13 -I"/Library/Frameworks/R.framework/Resources/include" -DNDEBUG -I'/Library/Frameworks/R.framework/Versions/4.0/Resources/library/Rcpp/include' -I/usr/local/include -fPIC -Wall -g -O2 -c FitnessLandscape/gamma.c -o FitnessLandscape/gamma.o
clang -mmacosx-version-min=10.13 -I"/Library/Frameworks/R.framework/Resources/include" -DNDEBUG -I'/Library/Frameworks/R.framework/Versions/4.0/Resources/library/Rcpp/include' -I/usr/local/include -fPIC -Wall -g -O2 -c FitnessLandscape/landscape.c -o FitnessLandscape/landscape.o
clang -mmacosx-version-min=10.13 -I"/Library/Frameworks/R.framework/Resources/include" -DNDEBUG -I'/Library/Frameworks/R.framework/Versions/4.0/Resources/library/Rcpp/include' -I/usr/local/include -fPIC -Wall -g -O2 -c FitnessLandscape/random.c -o FitnessLandscape/random.o
clang -mmacosx-version-min=10.13 -I"/Library/Frameworks/R.framework/Resources/include" -DNDEBUG -I'/Library/Frameworks/R.framework/Versions/4.0/Resources/library/Rcpp/include' -I/usr/local/include -fPIC -Wall -g -O2 -c FitnessLandscape/sort.c -o FitnessLandscape/sort.o
clang -mmacosx-version-min=10.13 -I"/Library/Frameworks/R.framework/Resources/include" -DNDEBUG -I'/Library/Frameworks/R.framework/Versions/4.0/Resources/library/Rcpp/include' -I/usr/local/include -fPIC -Wall -g -O2 -c FitnessLandscape/chain.c -o FitnessLandscape/chain.o
clang -mmacosx-version-min=10.13 -I"/Library/Frameworks/R.framework/Resources/include" -DNDEBUG -I'/Library/Frameworks/R.framework/Versions/4.0/Resources/library/Rcpp/include' -I/usr/local/include -fPIC -Wall -g -O2 -c FitnessLandscape/input.c -o FitnessLandscape/input.o
clang -mmacosx-version-min=10.13 -I"/Library/Frameworks/R.framework/Resources/include" -DNDEBUG -I'/Library/Frameworks/R.framework/Versions/4.0/Resources/library/Rcpp/include' -I/usr/local/include -fPIC -Wall -g -O2 -c FitnessLandscape/genotypes.c -o FitnessLandscape/genotypes.o
clang -mmacosx-version-min=10.13 -I"/Library/Frameworks/R.framework/Resources/include" -DNDEBUG -I'/Library/Frameworks/R.framework/Versions/4.0/Resources/library/Rcpp/include' -I/usr/local/include -fPIC -Wall -g -O2 -c FitnessLandscape/ordered_pairs.c -o FitnessLandscape/ordered_pairs.o
clang -mmacosx-version-min=10.13 -I"/Library/Frameworks/R.framework/Resources/include" -DNDEBUG -I'/Library/Frameworks/R.framework/Versions/4.0/Resources/library/Rcpp/include' -I/usr/local/include -fPIC -Wall -g -O2 -c FitnessLandscape/calculus.c -o FitnessLandscape/calculus.o
clang -mmacosx-version-min=10.13 -I"/Library/Frameworks/R.framework/Resources/include" -DNDEBUG -I'/Library/Frameworks/R.framework/Versions/4.0/Resources/library/Rcpp/include' -I/usr/local/include -fPIC -Wall -g -O2 -c FitnessLandscape/vector.c -o FitnessLandscape/vector.o
clang -mmacosx-version-min=10.13 -I"/Library/Frameworks/R.framework/Resources/include" -DNDEBUG -I'/Library/Frameworks/R.framework/Versions/4.0/Resources/library/Rcpp/include' -I/usr/local/include -fPIC -Wall -g -O2 -c FitnessLandscape/generalized_chain.c -o FitnessLandscape/generalized_chain.o
clang -mmacosx-version-min=10.13 -I"/Library/Frameworks/R.framework/Resources/include" -DNDEBUG -I'/Library/Frameworks/R.framework/Versions/4.0/Resources/library/Rcpp/include' -I/usr/local/include -fPIC -Wall -g -O2 -c FitnessLandscape/LinearAlgebra.c -o FitnessLandscape/LinearAlgebra.o
clang -mmacosx-version-min=10.13 -I"/Library/Frameworks/R.framework/Resources/include" -DNDEBUG -I'/Library/Frameworks/R.framework/Versions/4.0/Resources/library/Rcpp/include' -I/usr/local/include -fPIC -Wall -g -O2 -c FitnessLandscape/summary_statistics.c -o FitnessLandscape/summary_statistics.o
clang -mmacosx-version-min=10.13 -I"/Library/Frameworks/R.framework/Resources/include" -DNDEBUG -I'/Library/Frameworks/R.framework/Versions/4.0/Resources/library/Rcpp/include' -I/usr/local/include -fPIC -Wall -g -O2 -c FitnessLandscape/epistasis_type.c -o FitnessLandscape/epistasis_type.o
clang -mmacosx-version-min=10.13 -I"/Library/Frameworks/R.framework/Resources/include" -DNDEBUG -I'/Library/Frameworks/R.framework/Versions/4.0/Resources/library/Rcpp/include' -I/usr/local/include -fPIC -Wall -g -O2 -c FitnessLandscape/decomposition.c -o FitnessLandscape/decomposition.o
clang -mmacosx-version-min=10.13 -I"/Library/Frameworks/R.framework/Resources/include" -DNDEBUG -I'/Library/Frameworks/R.framework/Versions/4.0/Resources/library/Rcpp/include' -I/usr/local/include -fPIC -Wall -g -O2 -c FitnessLandscape/models.c -o FitnessLandscape/models.o
clang -mmacosx-version-min=10.13 -I"/Library/Frameworks/R.framework/Resources/include" -DNDEBUG -I'/Library/Frameworks/R.framework/Versions/4.0/Resources/library/Rcpp/include' -I/usr/local/include -fPIC -Wall -g -O2 -c FitnessLandscape/verbose.c -o FitnessLandscape/verbose.o
ar -r liblandscape.a FitnessLandscape/gamma.o FitnessLandscape/landscape.o FitnessLandscape/random.o FitnessLandscape/sort.o FitnessLandscape/chain.o FitnessLandscape/input.o FitnessLandscape/genotypes.o FitnessLandscape/ordered_pairs.o FitnessLandscape/calculus.o FitnessLandscape/vector.o FitnessLandscape/generalized_chain.o FitnessLandscape/LinearAlgebra.o FitnessLandscape/summary_statistics.o FitnessLandscape/epistasis_type.o FitnessLandscape/decomposition.o FitnessLandscape/models.o FitnessLandscape/verbose.o ;
ar: creating archive liblandscape.a
ranlib liblandscape.a;
clang -mmacosx-version-min=10.13 -O -Wall -o fl_statistics -I/FitnessLandscape/. -L. FitnessLandscape/main_fl_statistics.c -llandscape -lm;
clang -mmacosx-version-min=10.13 -O -Wall -o fl_generate -I/FitnessLandscape/. -L. FitnessLandscape/main_fl_generate.c -llandscape -lm;
clang++ -mmacosx-version-min=10.13 -std=gnu++11 -I"/Library/Frameworks/R.framework/Resources/include" -DNDEBUG -I'/Library/Frameworks/R.framework/Versions/4.0/Resources/library/Rcpp/include' -I/usr/local/include -fPIC -Wall -g -O2 -c BNB_nr.cpp -o BNB_nr.o
In file included from BNB_nr.cpp:21:
In file included from ./debug_common.h:4:
In file included from /Library/Frameworks/R.framework/Versions/4.0/Resources/library/Rcpp/include/Rcpp.h:57:
/Library/Frameworks/R.framework/Versions/4.0/Resources/library/Rcpp/include/Rcpp/DataFrame.h:136:18: warning: unused variable 'data' [-Wunused-variable]
SEXP data = Parent::get__();
^
1 warning generated.
clang++ -mmacosx-version-min=10.13 -std=gnu++11 -I"/Library/Frameworks/R.framework/Resources/include" -DNDEBUG -I'/Library/Frameworks/R.framework/Versions/4.0/Resources/library/Rcpp/include' -I/usr/local/include -fPIC -Wall -g -O2 -c BNB_v1.cpp -o BNB_v1.o
In file included from BNB_v1.cpp:17:
In file included from ./debug_common.h:4:
In file included from /Library/Frameworks/R.framework/Versions/4.0/Resources/library/Rcpp/include/Rcpp.h:57:
/Library/Frameworks/R.framework/Versions/4.0/Resources/library/Rcpp/include/Rcpp/DataFrame.h:136:18: warning: unused variable 'data' [-Wunused-variable]
SEXP data = Parent::get__();
^
1 warning generated.
clang -mmacosx-version-min=10.13 -I"/Library/Frameworks/R.framework/Resources/include" -DNDEBUG -I'/Library/Frameworks/R.framework/Versions/4.0/Resources/library/Rcpp/include' -I/usr/local/include -fPIC -Wall -g -O2 -c OncoSimulR_init.c -o OncoSimulR_init.o
clang++ -mmacosx-version-min=10.13 -std=gnu++11 -I"/Library/Frameworks/R.framework/Resources/include" -DNDEBUG -I'/Library/Frameworks/R.framework/Versions/4.0/Resources/library/Rcpp/include' -I/usr/local/include -fPIC -Wall -g -O2 -c RcppExports.cpp -o RcppExports.o
In file included from RcppExports.cpp:4:
In file included from /Library/Frameworks/R.framework/Versions/4.0/Resources/library/Rcpp/include/Rcpp.h:57:
/Library/Frameworks/R.framework/Versions/4.0/Resources/library/Rcpp/include/Rcpp/DataFrame.h:136:18: warning: unused variable 'data' [-Wunused-variable]
SEXP data = Parent::get__();
^
1 warning generated.
clang++ -mmacosx-version-min=10.13 -std=gnu++11 -I"/Library/Frameworks/R.framework/Resources/include" -DNDEBUG -I'/Library/Frameworks/R.framework/Versions/4.0/Resources/library/Rcpp/include' -I/usr/local/include -fPIC -Wall -g -O2 -c accessible_genotypes.cpp -o accessible_genotypes.o
In file included from accessible_genotypes.cpp:16:
In file included from /Library/Frameworks/R.framework/Versions/4.0/Resources/library/Rcpp/include/Rcpp.h:57:
/Library/Frameworks/R.framework/Versions/4.0/Resources/library/Rcpp/include/Rcpp/DataFrame.h:136:18: warning: unused variable 'data' [-Wunused-variable]
SEXP data = Parent::get__();
^
1 warning generated.
clang++ -mmacosx-version-min=10.13 -std=gnu++11 -I"/Library/Frameworks/R.framework/Resources/include" -DNDEBUG -I'/Library/Frameworks/R.framework/Versions/4.0/Resources/library/Rcpp/include' -I/usr/local/include -fPIC -Wall -g -O2 -c bnb_common.cpp -o bnb_common.o
In file included from bnb_common.cpp:18:
In file included from ./bnb_common.h:21:
In file included from /Library/Frameworks/R.framework/Versions/4.0/Resources/library/Rcpp/include/Rcpp.h:57:
/Library/Frameworks/R.framework/Versions/4.0/Resources/library/Rcpp/include/Rcpp/DataFrame.h:136:18: warning: unused variable 'data' [-Wunused-variable]
SEXP data = Parent::get__();
^
1 warning generated.
clang++ -mmacosx-version-min=10.13 -std=gnu++11 -I"/Library/Frameworks/R.framework/Resources/include" -DNDEBUG -I'/Library/Frameworks/R.framework/Versions/4.0/Resources/library/Rcpp/include' -I/usr/local/include -fPIC -Wall -g -O2 -c new_restrict.cpp -o new_restrict.o
In file included from new_restrict.cpp:18:
In file included from ./debug_common.h:4:
In file included from /Library/Frameworks/R.framework/Versions/4.0/Resources/library/Rcpp/include/Rcpp.h:57:
/Library/Frameworks/R.framework/Versions/4.0/Resources/library/Rcpp/include/Rcpp/DataFrame.h:136:18: warning: unused variable 'data' [-Wunused-variable]
SEXP data = Parent::get__();
^
1 warning generated.
clang++ -mmacosx-version-min=10.13 -std=gnu++11 -dynamiclib -Wl,-headerpad_max_install_names -undefined dynamic_lookup -single_module -multiply_defined suppress -L/Library/Frameworks/R.framework/Resources/lib -L/usr/local/lib -o OncoSimulR.so BNB_nr.o BNB_v1.o OncoSimulR_init.o RcppExports.o accessible_genotypes.o bnb_common.o new_restrict.o -F/Library/Frameworks/R.framework/.. -framework R -Wl,-framework -Wl,CoreFoundation
installing via 'install.libs.R' to /Users/biocbuild/bbs-3.12-bioc/meat/OncoSimulR.buildbin-libdir/00LOCK-OncoSimulR/00new/OncoSimulR
[1] ""
Installing fl_statistics fl_generate to /Users/biocbuild/bbs-3.12-bioc/meat/OncoSimulR.buildbin-libdir/00LOCK-OncoSimulR/00new/OncoSimulR/exec
Installing library OncoSimulR.so to /Users/biocbuild/bbs-3.12-bioc/meat/OncoSimulR.buildbin-libdir/00LOCK-OncoSimulR/00new/OncoSimulR/libs
** R
** data
** inst
** byte-compile and prepare package for lazy loading
** help
*** installing help indices
** building package indices
** installing vignettes
** testing if installed package can be loaded from temporary location
** checking absolute paths in shared objects and dynamic libraries
** testing if installed package can be loaded from final location
** testing if installed package keeps a record of temporary installation path
* DONE (OncoSimulR)
>>>>>>>
>>>>>>> FIXING LINKS FOR OncoSimulR.buildbin-libdir/OncoSimulR/libs/OncoSimulR.so
>>>>>>>
install_name_tool -change "/usr/local/lib/libgcc_s.1.dylib" "/Library/Frameworks/R.framework/Versions/4.0/Resources/lib/libgcc_s.1.dylib" "OncoSimulR.buildbin-libdir/OncoSimulR/libs/OncoSimulR.so"
install_name_tool -change "/usr/local/lib/libgfortran.5.dylib" "/Library/Frameworks/R.framework/Versions/4.0/Resources/lib/libgfortran.5.dylib" "OncoSimulR.buildbin-libdir/OncoSimulR/libs/OncoSimulR.so"
install_name_tool -change "/usr/local/lib/libquadmath.0.dylib" "/Library/Frameworks/R.framework/Versions/4.0/Resources/lib/libquadmath.0.dylib" "OncoSimulR.buildbin-libdir/OncoSimulR/libs/OncoSimulR.so"