| Back to Multiple platform build/check report for BioC 3.12 |
|
This page was generated on 2021-05-06 12:28:27 -0400 (Thu, 06 May 2021).
|
To the developers/maintainers of the Omixer package: Please make sure to use the following settings in order to reproduce any error or warning you see on this page. |
| Package 1259/1974 | Hostname | OS / Arch | INSTALL | BUILD | CHECK | BUILD BIN | ||||||||
| Omixer 1.0.4 (landing page) Lucy Sinke
| malbec1 | Linux (Ubuntu 18.04.5 LTS) / x86_64 | OK | OK | OK | |||||||||
| tokay1 | Windows Server 2012 R2 Standard / x64 | OK | OK | OK | OK | |||||||||
| merida1 | macOS 10.14.6 Mojave / x86_64 | OK | OK | OK | OK | |||||||||
| Package: Omixer |
| Version: 1.0.4 |
| Command: /home/biocbuild/bbs-3.12-bioc/R/bin/R CMD build --keep-empty-dirs --no-resave-data Omixer |
| StartedAt: 2021-05-05 20:40:02 -0400 (Wed, 05 May 2021) |
| EndedAt: 2021-05-05 20:42:10 -0400 (Wed, 05 May 2021) |
| EllapsedTime: 128.4 seconds |
| RetCode: 0 |
| Status: OK |
| PackageFile: Omixer_1.0.4.tar.gz |
| PackageFileSize: 1.354 MiB |
############################################################################## ############################################################################## ### ### Running command: ### ### /home/biocbuild/bbs-3.12-bioc/R/bin/R CMD build --keep-empty-dirs --no-resave-data Omixer ### ############################################################################## ############################################################################## * checking for file ‘Omixer/DESCRIPTION’ ... OK * preparing ‘Omixer’: * checking DESCRIPTION meta-information ... OK * installing the package to build vignettes * creating vignettes ... OK * checking for LF line-endings in source and make files and shell scripts * checking for empty or unneeded directories * building ‘Omixer_1.0.4.tar.gz’