| Back to Multiple platform build/check report for BioC 3.12 |
|
This page was generated on 2021-05-06 12:32:37 -0400 (Thu, 06 May 2021).
|
To the developers/maintainers of the OmicsMarkeR package: Please make sure to use the following settings in order to reproduce any error or warning you see on this page. |
| Package 1256/1974 | Hostname | OS / Arch | INSTALL | BUILD | CHECK | BUILD BIN | ||||||||
Charles E. Determan Jr.
| malbec1 | Linux (Ubuntu 18.04.5 LTS) / x86_64 | OK | OK | ERROR | |||||||||
| tokay1 | Windows Server 2012 R2 Standard / x64 | OK | OK | ERROR | OK | |||||||||
| merida1 | macOS 10.14.6 Mojave / x86_64 | OK | OK | ERROR | OK | |||||||||
| Package: OmicsMarkeR |
| Version: 1.22.0 |
| Command: rm -rf OmicsMarkeR.buildbin-libdir && mkdir OmicsMarkeR.buildbin-libdir && C:\Users\biocbuild\bbs-3.12-bioc\R\bin\R.exe CMD INSTALL --merge-multiarch --build --library=OmicsMarkeR.buildbin-libdir OmicsMarkeR_1.22.0.tar.gz |
| StartedAt: 2021-05-06 09:40:40 -0400 (Thu, 06 May 2021) |
| EndedAt: 2021-05-06 09:41:11 -0400 (Thu, 06 May 2021) |
| EllapsedTime: 31.2 seconds |
| RetCode: 0 |
| Status: OK |
| PackageFile: OmicsMarkeR_1.22.0.zip |
| PackageFileSize: 615.7 KiB |
##############################################################################
##############################################################################
###
### Running command:
###
### rm -rf OmicsMarkeR.buildbin-libdir && mkdir OmicsMarkeR.buildbin-libdir && C:\Users\biocbuild\bbs-3.12-bioc\R\bin\R.exe CMD INSTALL --merge-multiarch --build --library=OmicsMarkeR.buildbin-libdir OmicsMarkeR_1.22.0.tar.gz
###
##############################################################################
##############################################################################
install for i386
* installing *source* package 'OmicsMarkeR' ...
** using staged installation
** R
** inst
** byte-compile and prepare package for lazy loading
** help
*** installing help indices
converting help for package 'OmicsMarkeR'
finding HTML links ... done
CLA html
EE html
EM html
ES html
RPT html
aggregation html
bagging.wrapper html
canberra html
canberra_stability html
create.corr.matrix html
create.discr.matrix html
create.random.matrix html
denovo.grid html
extract.args html
extract.features html
feature.table html
fit.only.model html
fs.ensembl.stability html
fs.stability html
jaccard html
kuncheva html
modelList html
modelTuner html
modelTuner_loo html
noise.matrix html
ochiai html
optimize.model html
pairwise.model.stability html
pairwise.stability html
params html
perf.calc html
finding level-2 HTML links ... done
performance.metrics html
performance.stats html
perm.class html
perm.features html
pof html
predictNewClasses html
predicting html
prediction.metrics html
sequester html
sorensen html
spearman html
svm.weights html
svmrfeFeatureRanking html
svmrfeFeatureRankingForMulticlass html
training html
tune.instructions html
** building package indices
** installing vignettes
** testing if installed package can be loaded from temporary location
Warning: Package 'OmicsMarkeR' is deprecated and will be removed from
Bioconductor version 3.13
** testing if installed package can be loaded from final location
Warning: Package 'OmicsMarkeR' is deprecated and will be removed from
Bioconductor version 3.13
** testing if installed package keeps a record of temporary installation path
install for x64
* installing *source* package 'OmicsMarkeR' ...
** testing if installed package can be loaded
Warning: Package 'OmicsMarkeR' is deprecated and will be removed from
Bioconductor version 3.13
* MD5 sums
packaged installation of 'OmicsMarkeR' as OmicsMarkeR_1.22.0.zip
* DONE (OmicsMarkeR)