| Back to Multiple platform build/check report for BioC 3.12 |
|
This page was generated on 2021-05-06 12:32:36 -0400 (Thu, 06 May 2021).
|
To the developers/maintainers of the OmicCircos package: Please make sure to use the following settings in order to reproduce any error or warning you see on this page. |
| Package 1252/1974 | Hostname | OS / Arch | INSTALL | BUILD | CHECK | BUILD BIN | ||||||||
| OmicCircos 1.28.0 (landing page) Ying Hu
| malbec1 | Linux (Ubuntu 18.04.5 LTS) / x86_64 | OK | OK | WARNINGS | |||||||||
| tokay1 | Windows Server 2012 R2 Standard / x64 | OK | OK | WARNINGS | OK | |||||||||
| merida1 | macOS 10.14.6 Mojave / x86_64 | OK | OK | WARNINGS | OK | |||||||||
| Package: OmicCircos |
| Version: 1.28.0 |
| Command: rm -rf OmicCircos.buildbin-libdir && mkdir OmicCircos.buildbin-libdir && C:\Users\biocbuild\bbs-3.12-bioc\R\bin\R.exe CMD INSTALL --merge-multiarch --build --library=OmicCircos.buildbin-libdir OmicCircos_1.28.0.tar.gz |
| StartedAt: 2021-05-06 09:40:25 -0400 (Thu, 06 May 2021) |
| EndedAt: 2021-05-06 09:41:00 -0400 (Thu, 06 May 2021) |
| EllapsedTime: 35.5 seconds |
| RetCode: 0 |
| Status: OK |
| PackageFile: OmicCircos_1.28.0.zip |
| PackageFileSize: 3.821 MiB |
##############################################################################
##############################################################################
###
### Running command:
###
### rm -rf OmicCircos.buildbin-libdir && mkdir OmicCircos.buildbin-libdir && C:\Users\biocbuild\bbs-3.12-bioc\R\bin\R.exe CMD INSTALL --merge-multiarch --build --library=OmicCircos.buildbin-libdir OmicCircos_1.28.0.tar.gz
###
##############################################################################
##############################################################################
install for i386
* installing *source* package 'OmicCircos' ...
** using staged installation
** R
** data
** demo
** inst
** byte-compile and prepare package for lazy loading
** help
*** installing help indices
converting help for package 'OmicCircos'
finding HTML links ... done
OmicCircos html
TCGA.BC.cnv.2k.60 html
TCGA.BC.fus html
TCGA.BC.gene.exp.2k.60 html
TCGA.BC.sample60 html
TCGA.BC_Her2_cnv_exp html
TCGA.PAM50_genefu_hg18 html
UCSC.chr.colors html
UCSC.hg18 html
UCSC.hg18.chr html
UCSC.hg19 html
UCSC.hg19.chr html
UCSC.mm10 html
UCSC.mm10.chr html
UCSC.mm9 html
UCSC.mm9.chr html
circos html
segAnglePo-methods html
segAnglePo html
sim.circos html
** building package indices
** installing vignettes
** testing if installed package can be loaded from temporary location
** testing if installed package can be loaded from final location
** testing if installed package keeps a record of temporary installation path
install for x64
* installing *source* package 'OmicCircos' ...
** testing if installed package can be loaded
* MD5 sums
packaged installation of 'OmicCircos' as OmicCircos_1.28.0.zip
* DONE (OmicCircos)