| Back to Multiple platform build/check report for BioC 3.12 |
|
This page was generated on 2021-05-06 12:32:36 -0400 (Thu, 06 May 2021).
|
To the developers/maintainers of the OmaDB package: Please make sure to use the following settings in order to reproduce any error or warning you see on this page. |
| Package 1250/1974 | Hostname | OS / Arch | INSTALL | BUILD | CHECK | BUILD BIN | ||||||||
| OmaDB 2.6.1 (landing page) Klara Kaleb
| malbec1 | Linux (Ubuntu 18.04.5 LTS) / x86_64 | OK | OK | WARNINGS | |||||||||
| tokay1 | Windows Server 2012 R2 Standard / x64 | OK | OK | WARNINGS | OK | |||||||||
| merida1 | macOS 10.14.6 Mojave / x86_64 | OK | OK | WARNINGS | OK | |||||||||
| Package: OmaDB |
| Version: 2.6.1 |
| Command: rm -rf OmaDB.buildbin-libdir && mkdir OmaDB.buildbin-libdir && C:\Users\biocbuild\bbs-3.12-bioc\R\bin\R.exe CMD INSTALL --merge-multiarch --build --library=OmaDB.buildbin-libdir OmaDB_2.6.1.tar.gz |
| StartedAt: 2021-05-06 09:40:18 -0400 (Thu, 06 May 2021) |
| EndedAt: 2021-05-06 09:40:53 -0400 (Thu, 06 May 2021) |
| EllapsedTime: 35.8 seconds |
| RetCode: 0 |
| Status: OK |
| PackageFile: OmaDB_2.6.1.zip |
| PackageFileSize: 230 KiB |
##############################################################################
##############################################################################
###
### Running command:
###
### rm -rf OmaDB.buildbin-libdir && mkdir OmaDB.buildbin-libdir && C:\Users\biocbuild\bbs-3.12-bioc\R\bin\R.exe CMD INSTALL --merge-multiarch --build --library=OmaDB.buildbin-libdir OmaDB_2.6.1.tar.gz
###
##############################################################################
##############################################################################
install for i386
* installing *source* package 'OmaDB' ...
** using staged installation
** R
** data
*** moving datasets to lazyload DB
** inst
** byte-compile and prepare package for lazy loading
** help
*** installing help indices
converting help for package 'OmaDB'
finding HTML links ... done
OmaDB-deprecated html
OmaDB-package html
annotateSequence html
cash-.omadb_obj html
formatTopGO html
getAnnotation-deprecated html
getAttribute html
getData-deprecated html
getGenome html
getGenomeAlignment-deprecated html
getGenomePairs html
getHOG html
getLocus html
getOMAGroup html
getObjectAttributes html
getProtein html
getTaxonomy html
getTopGO html
getTree html
getVersion html
getXref-deprecated html
group html
hog html
mapSequence html
orthologs html
pairs html
protein html
resolveURL html
searchProtein html
sequence_annotation html
sequence_map html
setAPI html
taxonomy html
xref html
** building package indices
** installing vignettes
** testing if installed package can be loaded from temporary location
** testing if installed package can be loaded from final location
** testing if installed package keeps a record of temporary installation path
install for x64
* installing *source* package 'OmaDB' ...
** testing if installed package can be loaded
* MD5 sums
packaged installation of 'OmaDB' as OmaDB_2.6.1.zip
* DONE (OmaDB)