| Back to Multiple platform build/check report for BioC 3.12 |
|
This page was generated on 2021-05-06 12:32:40 -0400 (Thu, 06 May 2021).
|
To the developers/maintainers of the OTUbase package: Please make sure to use the following settings in order to reproduce any error or warning you see on this page. |
| Package 1283/1974 | Hostname | OS / Arch | INSTALL | BUILD | CHECK | BUILD BIN | ||||||||
| OTUbase 1.40.0 (landing page) Daniel Beck
| malbec1 | Linux (Ubuntu 18.04.5 LTS) / x86_64 | OK | OK | OK | |||||||||
| tokay1 | Windows Server 2012 R2 Standard / x64 | OK | OK | OK | OK | |||||||||
| merida1 | macOS 10.14.6 Mojave / x86_64 | OK | OK | OK | OK | |||||||||
| Package: OTUbase |
| Version: 1.40.0 |
| Command: rm -rf OTUbase.buildbin-libdir && mkdir OTUbase.buildbin-libdir && C:\Users\biocbuild\bbs-3.12-bioc\R\bin\R.exe CMD INSTALL --merge-multiarch --build --library=OTUbase.buildbin-libdir OTUbase_1.40.0.tar.gz |
| StartedAt: 2021-05-06 09:42:16 -0400 (Thu, 06 May 2021) |
| EndedAt: 2021-05-06 09:43:07 -0400 (Thu, 06 May 2021) |
| EllapsedTime: 51.2 seconds |
| RetCode: 0 |
| Status: OK |
| PackageFile: OTUbase_1.40.0.zip |
| PackageFileSize: 601.8 KiB |
##############################################################################
##############################################################################
###
### Running command:
###
### rm -rf OTUbase.buildbin-libdir && mkdir OTUbase.buildbin-libdir && C:\Users\biocbuild\bbs-3.12-bioc\R\bin\R.exe CMD INSTALL --merge-multiarch --build --library=OTUbase.buildbin-libdir OTUbase_1.40.0.tar.gz
###
##############################################################################
##############################################################################
install for i386
* installing *source* package 'OTUbase' ...
** using staged installation
** R
** inst
** byte-compile and prepare package for lazy loading
** help
*** installing help indices
converting help for package 'OTUbase'
finding HTML links ... done
OTUbase-package html
OTUset-class html
TAXset-class html
abundance html
accessors html
finding level-2 HTML links ... done
assignmentData html
clusterSamples html
other_functions html
other_generics html
readOTUset html
readTAXset html
sampleData html
subOTUset html
subTAXset html
** building package indices
** installing vignettes
** testing if installed package can be loaded from temporary location
** testing if installed package can be loaded from final location
** testing if installed package keeps a record of temporary installation path
install for x64
* installing *source* package 'OTUbase' ...
** testing if installed package can be loaded
* MD5 sums
packaged installation of 'OTUbase' as OTUbase_1.40.0.zip
* DONE (OTUbase)