| Back to Multiple platform build/check report for BioC 3.12 |
|
This page was generated on 2021-05-06 12:28:28 -0400 (Thu, 06 May 2021).
|
To the developers/maintainers of the ORFik package: Please make sure to use the following settings in order to reproduce any error or warning you see on this page. |
| Package 1278/1974 | Hostname | OS / Arch | INSTALL | BUILD | CHECK | BUILD BIN | ||||||||
| ORFik 1.10.13 (landing page) Haakon Tjeldnes
| malbec1 | Linux (Ubuntu 18.04.5 LTS) / x86_64 | OK | OK | OK | |||||||||
| tokay1 | Windows Server 2012 R2 Standard / x64 | OK | OK | WARNINGS | OK | |||||||||
| merida1 | macOS 10.14.6 Mojave / x86_64 | OK | OK | OK | OK | |||||||||
| Package: ORFik |
| Version: 1.10.13 |
| Command: /home/biocbuild/bbs-3.12-bioc/R/bin/R CMD check --install=check:ORFik.install-out.txt --library=/home/biocbuild/bbs-3.12-bioc/R/library --no-vignettes --timings ORFik_1.10.13.tar.gz |
| StartedAt: 2021-05-06 04:13:59 -0400 (Thu, 06 May 2021) |
| EndedAt: 2021-05-06 04:23:16 -0400 (Thu, 06 May 2021) |
| EllapsedTime: 557.0 seconds |
| RetCode: 0 |
| Status: OK |
| CheckDir: ORFik.Rcheck |
| Warnings: 0 |
##############################################################################
##############################################################################
###
### Running command:
###
### /home/biocbuild/bbs-3.12-bioc/R/bin/R CMD check --install=check:ORFik.install-out.txt --library=/home/biocbuild/bbs-3.12-bioc/R/library --no-vignettes --timings ORFik_1.10.13.tar.gz
###
##############################################################################
##############################################################################
* using log directory ‘/home/biocbuild/bbs-3.12-bioc/meat/ORFik.Rcheck’
* using R version 4.0.5 (2021-03-31)
* using platform: x86_64-pc-linux-gnu (64-bit)
* using session charset: UTF-8
* using option ‘--no-vignettes’
* checking for file ‘ORFik/DESCRIPTION’ ... OK
* checking extension type ... Package
* this is package ‘ORFik’ version ‘1.10.13’
* package encoding: UTF-8
* checking package namespace information ... OK
* checking package dependencies ... OK
* checking if this is a source package ... OK
* checking if there is a namespace ... OK
* checking for hidden files and directories ... OK
* checking for portable file names ... OK
* checking for sufficient/correct file permissions ... OK
* checking whether package ‘ORFik’ can be installed ... OK
* checking installed package size ... NOTE
installed size is 5.2Mb
sub-directories of 1Mb or more:
libs 2.8Mb
* checking package directory ... OK
* checking ‘build’ directory ... OK
* checking DESCRIPTION meta-information ... OK
* checking top-level files ... OK
* checking for left-over files ... OK
* checking index information ... OK
* checking package subdirectories ... OK
* checking R files for non-ASCII characters ... OK
* checking R files for syntax errors ... OK
* checking whether the package can be loaded ... OK
* checking whether the package can be loaded with stated dependencies ... OK
* checking whether the package can be unloaded cleanly ... OK
* checking whether the namespace can be loaded with stated dependencies ... OK
* checking whether the namespace can be unloaded cleanly ... OK
* checking dependencies in R code ... NOTE
Unexported objects imported by ':::' calls:
‘GenomicFeatures:::.merge_seqinfo_and_infer_missing_seqlengths’
‘IRanges:::regroupBySupergroup’ ‘S4Vectors:::normarg_mcols’
‘biomartr:::getENSEMBL.Seq’ ‘biomartr:::getENSEMBL.gtf’
See the note in ?`:::` about the use of this operator.
There are ::: calls to the package's namespace in its code. A package
almost never needs to use ::: for its own objects:
‘findFa’ ‘find_url_ebi’ ‘hasHits’ ‘trimming.table’
* checking S3 generic/method consistency ... OK
* checking replacement functions ... OK
* checking foreign function calls ... OK
* checking R code for possible problems ... NOTE
DTEG.plot: no visible binding for global variable ‘rna’
DTEG.plot: no visible binding for global variable ‘rfp’
DTEG.plot: no visible binding for global variable ‘Regulation’
QC_count_tables: no visible binding for global variable ‘leaders’
QC_count_tables : <anonymous>: no visible binding for global variable
‘percentage_mrna_aligned’
QC_count_tables : <anonymous>: no visible binding for global variable
‘mRNA’
QC_count_tables : <anonymous>: no visible binding for global variable
‘ratio_cds_mrna’
QC_count_tables : <anonymous>: no visible binding for global variable
‘CDS’
QC_count_tables : <anonymous>: no visible binding for global variable
‘ratio_cds_leader’
QC_count_tables : <anonymous>: no visible binding for global variable
‘LEADERS’
QC_count_tables: no visible binding for global variable ‘tx’
QCplots: no visible binding for global variable ‘leaders’
QCplots: no visible binding for global variable ‘trailers’
QCstats.plot: no visible binding for global variable ‘variable’
QCstats.plot: no visible binding for global variable ‘sample_total’
QCstats.plot: no visible binding for global variable ‘value’
QCstats.plot: no visible global function definition for ‘.’
QCstats.plot: no visible binding for global variable ‘sample_id’
QCstats.plot: no visible binding for global variable ‘percentage’
QCstats.plot: no visible binding for global variable
‘perc_of_counts_per_sample’
QCstats.plot: no visible binding for global variable ‘read length’
RiboQC.plot: no visible binding for global variable ‘variable’
RiboQC.plot: no visible binding for global variable ‘sample_total’
RiboQC.plot: no visible binding for global variable ‘value’
RiboQC.plot: no visible global function definition for ‘.’
RiboQC.plot: no visible binding for global variable ‘sample_id’
RiboQC.plot: no visible binding for global variable ‘percentage’
RiboQC.plot : <anonymous>: no visible binding for global variable
‘fraction’
RiboQC.plot: no visible binding for global variable ‘percent’
RiboQC.plot: no visible binding for global variable ‘fraction’
RiboQC.plot: no visible binding for global variable ‘frame’
STAR.align.folder: no visible global function definition for
‘detectCores’
STAR.align.single: no visible global function definition for
‘detectCores’
STAR.index: no visible global function definition for ‘detectCores’
STAR.multiQC: no visible binding for global variable ‘sample_id’
STAR.multiQC: no visible binding for global variable ‘value’
TOP.Motif.ecdf: no visible binding for global variable ‘seq1’
TOP.Motif.ecdf: no visible binding for global variable ‘TOP’
allFeaturesHelper: no visible binding for global variable ‘te’
allFeaturesHelper: no visible binding for global variable ‘fpkmRFP’
allFeaturesHelper: no visible binding for global variable ‘fpkmRNA’
allFeaturesHelper: no visible binding for global variable ‘countRFP’
allFeaturesHelper: no visible binding for global variable ‘entropyRFP’
allFeaturesHelper: no visible binding for global variable
‘disengagementScores’
allFeaturesHelper: no visible binding for global variable ‘RRS’
allFeaturesHelper: no visible binding for global variable ‘RSS’
allFeaturesHelper: no visible binding for global variable ‘ORFScores’
allFeaturesHelper: no visible binding for global variable ‘ioScore’
allFeaturesHelper: no visible binding for global variable
‘startCodonCoverage’
allFeaturesHelper: no visible binding for global variable
‘startRegionRelative’
allFeaturesHelper: no visible binding for global variable ‘kozak’
allFeaturesHelper: no visible binding for global variable ‘StartCodons’
allFeaturesHelper: no visible binding for global variable ‘StopCodons’
allFeaturesHelper: no visible binding for global variable
‘fractionLengths’
allFeaturesHelper: no visible binding for global variable ‘distORFCDS’
allFeaturesHelper: no visible binding for global variable ‘inFrameCDS’
allFeaturesHelper: no visible binding for global variable
‘isOverlappingCds’
allFeaturesHelper: no visible binding for global variable ‘rankInTx’
artificial.orfs: no visible binding for global variable ‘random’
artificial.orfs: no visible binding for global variable ‘pick’
artificial.orfs: no visible global function definition for ‘.’
collapse.by.scores: no visible global function definition for ‘.’
coverageHeatMap: no visible binding for global variable ‘position’
coverageHeatMap: no visible binding for global variable ‘fraction’
coveragePerTiling: no visible binding for global variable ‘ones’
coveragePerTiling: no visible binding for global variable ‘position’
coveragePerTiling: no visible binding for global variable ‘frame’
coverageScorings: no visible binding for global variable ‘count’
coverageScorings: no visible binding for global variable ‘zscore’
coverageScorings: no visible binding for global variable ‘windowMean’
coverageScorings: no visible binding for global variable ‘windowSD’
coverageScorings: no visible global function definition for ‘.’
coverageScorings: no visible binding for global variable ‘gene_sum’
detectRibosomeShifts: no visible global function definition for ‘.’
detectRibosomeShifts: no visible binding for global variable ‘size’
detectRibosomeShifts: no visible binding for global variable ‘pShifted’
detectRibosomeShifts: no visible binding for global variable
‘sum.count’
detectRibosomeShifts: no visible binding for global variable ‘count’
detectRibosomeShifts: no visible binding for global variable ‘fraction’
download.SRA.metadata: no visible binding for global variable ‘spots’
download.SRA.metadata: no visible binding for global variable ‘Run’
entropy: no visible binding for global variable ‘Hx’
entropy: no visible binding for global variable ‘codonSums’
entropy: no visible global function definition for ‘.’
filterExtremePeakGenes: no visible binding for global variable ‘count’
filterExtremePeakGenes: no visible binding for global variable
‘median_per_gene’
filterExtremePeakGenes: no visible global function definition for ‘.’
filterTranscripts: no visible binding for global variable ‘utr5_len’
filterTranscripts: no visible binding for global variable ‘utr3_len’
filterTranscripts: no visible binding for global variable ‘tx_len’
findNGSPairs: no visible global function definition for ‘.’
findNGSPairs: no visible binding for global variable ‘forward’
findPeaksPerGene: no visible binding for global variable ‘sum_per_gene’
findPeaksPerGene: no visible binding for global variable ‘count’
findPeaksPerGene: no visible binding for global variable
‘mean_per_gene’
findPeaksPerGene: no visible binding for global variable ‘sd_per_gene’
findPeaksPerGene: no visible binding for global variable ‘zscore’
findPeaksPerGene: no visible binding for global variable ‘gene_id’
floss: no visible binding for global variable ‘ORFGrouping’
floss: no visible binding for global variable ‘widths’
floss: no visible global function definition for ‘.’
floss: no visible binding for global variable ‘CDSGrouping’
floss: no visible binding for global variable ‘fraction.x’
floss: no visible binding for global variable ‘fraction.y’
gSort: no visible binding for global variable ‘grnames’
getNGenesCoverage: no visible global function definition for ‘.’
getNGenesCoverage: no visible binding for global variable ‘fraction’
initiationScore: no visible global function definition for ‘.’
initiationScore: no visible binding for global variable ‘dif’
initiationScore: no visible binding for global variable ‘fraction’
initiationScore: no visible binding for global variable ‘difPer’
kozakHeatmap: no visible global function definition for ‘.’
kozakHeatmap: no visible binding for global variable ‘variable’
kozakHeatmap: no visible binding for global variable ‘value’
kozakHeatmap: no visible binding for global variable
‘count_seq_pos_with_count’
kozakHeatmap: no visible binding for global variable ‘median_score’
kozak_IR_ranking: no visible global function definition for ‘.’
kozak_IR_ranking: no visible binding for global variable ‘IR’
kozak_IR_ranking: no visible binding for global variable
‘upstream_kozak_strength’
kozak_IR_ranking: no visible binding for global variable ‘count’
kozak_IR_ranking: no visible binding for global variable ‘mean_IR’
list.experiments: no visible binding for global variable ‘name’
longestORFs: no visible global function definition for ‘.’
metaWindow: no visible binding for global variable ‘position’
metaWindow: no visible binding for global variable ‘frame’
orfScore: no visible binding for global variable ‘frame’
orfScore: no visible binding for global variable ‘frame_one_RP’
orfScore: no visible binding for global variable ‘frame_two_RP’
pSitePlot: no visible binding for global variable ‘count’
pSitePlot: no visible binding for global variable ‘frame’
pSitePlot: no visible binding for global variable ‘position’
readLengthTable: no visible binding for global variable
‘counts_per_sample’
readLengthTable: no visible binding for global variable
‘perc_of_counts_per_sample’
regionPerReadLength : <anonymous>: no visible binding for global
variable ‘fraction’
remakeTxdbExonIds: no visible global function definition for ‘.’
remakeTxdbExonIds: no visible binding for global variable ‘chr’
removeTxdbExons: no visible binding for global variable ‘exon_rank’
removeTxdbExons: no visible binding for global variable ‘ranks’
rnaNormalize: no visible binding for global variable ‘feature’
scaledWindowPositions: no visible binding for global variable
‘scalingFactor’
scaledWindowPositions: no visible binding for global variable
‘position’
scaledWindowPositions: no visible global function definition for ‘.’
scoreSummarizedExperiment: no visible global function definition for
‘rowSums2’
te.plot: no visible global function definition for ‘rowMin’
te.plot: no visible binding for global variable ‘variable’
te.plot: no visible binding for global variable ‘LFC_TE’
te.plot: no visible binding for global variable ‘rfp_log2’
te.plot: no visible binding for global variable ‘rna_log2’
te.plot: no visible binding for global variable ‘rna_log10’
te.table: no visible global function definition for ‘rowMin’
te.table: no visible binding for global variable ‘variable’
te.table: no visible binding for global variable ‘TE_log2’
te.table: no visible binding for global variable ‘rfp_log2’
te.table: no visible binding for global variable ‘rna_log2’
te_rna.plot: no visible binding for global variable ‘df.rfp’
te_rna.plot: no visible binding for global variable ‘df.rna’
te_rna.plot: no visible binding for global variable ‘subtitle’
te_rna.plot: no visible binding for global variable ‘rna_log10’
te_rna.plot: no visible binding for global variable ‘TE_log2’
topMotif: no visible binding for global variable ‘seq1’
topMotif: no visible binding for global variable ‘seq2’
topMotif: no visible binding for global variable ‘seq3’
topMotif: no visible binding for global variable ‘seq4’
topMotif: no visible binding for global variable ‘seq5’
transcriptWindow: no visible binding for global variable ‘fractions’
transcriptWindow1: no visible binding for global variable ‘leaders’
windowCoveragePlot: no visible binding for global variable ‘feature’
windowCoveragePlot: no visible binding for global variable ‘fraction’
windowCoveragePlot: no visible binding for global variable
‘fraction_min’
windowCoveragePlot: no visible binding for global variable ‘position’
collapseDuplicatedReads,GAlignmentPairs: no visible global function
definition for ‘.’
collapseDuplicatedReads,GAlignmentPairs: no visible binding for global
variable ‘start1’
collapseDuplicatedReads,GAlignmentPairs: no visible binding for global
variable ‘start2’
collapseDuplicatedReads,GAlignmentPairs: no visible binding for global
variable ‘cigar1’
collapseDuplicatedReads,GAlignmentPairs: no visible binding for global
variable ‘cigar2’
collapseDuplicatedReads,GAlignments: no visible global function
definition for ‘.’
collapseDuplicatedReads,GRanges: no visible binding for global variable
‘size’
collapseDuplicatedReads,GRanges: no visible global function definition
for ‘.’
Undefined global functions or variables:
. CDS CDSGrouping Hx IR LEADERS LFC_TE ORFGrouping ORFScores RRS RSS
Regulation Run StartCodons StopCodons TE_log2 TOP chr cigar1 cigar2
codonSums count countRFP count_seq_pos_with_count counts_per_sample
detectCores df.rfp df.rna dif difPer disengagementScores distORFCDS
entropyRFP exon_rank feature forward fpkmRFP fpkmRNA fraction
fraction.x fraction.y fractionLengths fraction_min fractions frame
frame_one_RP frame_two_RP gene_id gene_sum grnames inFrameCDS ioScore
isOverlappingCds kozak leaders mRNA mean_IR mean_per_gene
median_per_gene median_score name ones pShifted
perc_of_counts_per_sample percent percentage percentage_mrna_aligned
pick position random rankInTx ranks ratio_cds_leader ratio_cds_mrna
read length rfp rfp_log2 rna rna_log10 rna_log2 rowMin rowSums2
sample_id sample_total scalingFactor sd_per_gene seq1 seq2 seq3 seq4
seq5 size spots start1 start2 startCodonCoverage startRegionRelative
subtitle sum.count sum_per_gene te trailers tx tx_len
upstream_kozak_strength utr3_len utr5_len value variable widths
windowMean windowSD zscore
Consider adding
importFrom("base", "length")
importFrom("graphics", "frame")
to your NAMESPACE file.
* checking Rd files ... OK
* checking Rd metadata ... OK
* checking Rd cross-references ... OK
* checking for missing documentation entries ... OK
* checking for code/documentation mismatches ... OK
* checking Rd \usage sections ... OK
* checking Rd contents ... OK
* checking for unstated dependencies in examples ... OK
* checking line endings in C/C++/Fortran sources/headers ... OK
* checking line endings in Makefiles ... OK
* checking compilation flags in Makevars ... OK
* checking for GNU extensions in Makefiles ... OK
* checking for portable use of $(BLAS_LIBS) and $(LAPACK_LIBS) ... OK
* checking use of PKG_*FLAGS in Makefiles ... OK
* checking compiled code ... NOTE
Note: information on .o files is not available
* checking files in ‘vignettes’ ... OK
* checking examples ... OK
Examples with CPU (user + system) or elapsed time > 5s
user system elapsed
shiftFootprintsByExperiment 5.836 0.064 5.919
computeFeatures 5.288 0.012 5.310
* checking for unstated dependencies in ‘tests’ ... OK
* checking tests ...
Running ‘testthat.R’
OK
* checking for unstated dependencies in vignettes ... OK
* checking package vignettes in ‘inst/doc’ ... OK
* checking running R code from vignettes ... SKIPPED
* checking re-building of vignette outputs ... SKIPPED
* checking PDF version of manual ... OK
* DONE
Status: 4 NOTEs
See
‘/home/biocbuild/bbs-3.12-bioc/meat/ORFik.Rcheck/00check.log’
for details.
ORFik.Rcheck/00install.out
##############################################################################
##############################################################################
###
### Running command:
###
### /home/biocbuild/bbs-3.12-bioc/R/bin/R CMD INSTALL ORFik
###
##############################################################################
##############################################################################
* installing to library ‘/home/biocbuild/bbs-3.12-bioc/R/library’
* installing *source* package ‘ORFik’ ...
** using staged installation
** libs
g++ -std=gnu++11 -I"/home/biocbuild/bbs-3.12-bioc/R/include" -DNDEBUG -I'/home/biocbuild/bbs-3.12-bioc/R/library/Rcpp/include' -I/usr/local/include -fpic -g -O2 -Wall -c RcppExports.cpp -o RcppExports.o
g++ -std=gnu++11 -I"/home/biocbuild/bbs-3.12-bioc/R/include" -DNDEBUG -I'/home/biocbuild/bbs-3.12-bioc/R/library/Rcpp/include' -I/usr/local/include -fpic -g -O2 -Wall -c findORFsHelpers.cpp -o findORFsHelpers.o
findORFsHelpers.cpp: In function ‘Rcpp::IntegerMatrix orfs_as_matrix(std::__cxx11::string&, std::__cxx11::string, std::__cxx11::string, int)’:
findORFsHelpers.cpp:214:21: warning: comparison between signed and unsigned integer expressions [-Wsign-compare]
for (int i = 0; i < uorfSize/2; i++) {
~~^~~~~~~~~~~~
g++ -std=gnu++11 -I"/home/biocbuild/bbs-3.12-bioc/R/include" -DNDEBUG -I'/home/biocbuild/bbs-3.12-bioc/R/library/Rcpp/include' -I/usr/local/include -fpic -g -O2 -Wall -c findOrfs.cpp -o findOrfs.o
g++ -std=gnu++11 -I"/home/biocbuild/bbs-3.12-bioc/R/include" -DNDEBUG -I'/home/biocbuild/bbs-3.12-bioc/R/library/Rcpp/include' -I/usr/local/include -fpic -g -O2 -Wall -c findOrfsFasta.cpp -o findOrfsFasta.o
g++ -std=gnu++11 -I"/home/biocbuild/bbs-3.12-bioc/R/include" -DNDEBUG -I'/home/biocbuild/bbs-3.12-bioc/R/library/Rcpp/include' -I/usr/local/include -fpic -g -O2 -Wall -c pmapFromTranscripts.cpp -o pmapFromTranscripts.o
pmapFromTranscripts.cpp: In function ‘Rcpp::List pmapFromTranscriptsCPP(const std::vector<int>&, const std::vector<int>&, const std::vector<int>&, const std::vector<int>&, const std::vector<int>&, const char&, bool)’:
pmapFromTranscripts.cpp:151:20: warning: comparison between signed and unsigned integer expressions [-Wsign-compare]
for(auto i = 0;i < xSize; i++){
~~^~~~~~~
pmapFromTranscripts.cpp:155:21: warning: comparison between signed and unsigned integer expressions [-Wsign-compare]
for(auto i = 0; i < indexSize; i++){
~~^~~~~~~~~~~
pmapFromTranscripts.cpp:161:21: warning: comparison between signed and unsigned integer expressions [-Wsign-compare]
for(auto i = 1; i < indexSize; i++){
~~^~~~~~~~~~~
g++ -std=gnu++11 -I"/home/biocbuild/bbs-3.12-bioc/R/include" -DNDEBUG -I'/home/biocbuild/bbs-3.12-bioc/R/library/Rcpp/include' -I/usr/local/include -fpic -g -O2 -Wall -c pmapToTranscripts.cpp -o pmapToTranscripts.o
pmapToTranscripts.cpp: In function ‘void pmapToPositive(vi&, const int&, int&, const vi&, const vi&, const vi&, const vi&, const vi&, const vi&, const vi&, const vi&)’:
pmapToTranscripts.cpp:22:7: warning: variable ‘currentWidth’ set but not used [-Wunused-but-set-variable]
int currentWidth = 0;
^~~~~~~~~~~~
pmapToTranscripts.cpp: In function ‘void pmapToNegative(vi&, const int&, int&, const vi&, const vi&, const vi&, const vi&, const vi&, const vi&, const vi&, const vi&)’:
pmapToTranscripts.cpp:68:7: warning: variable ‘currentWidth’ set but not used [-Wunused-but-set-variable]
int currentWidth = 0;
^~~~~~~~~~~~
pmapToTranscripts.cpp: In function ‘Rcpp::List pmapToTranscriptsCPP(const std::vector<int>&, const std::vector<int>&, const std::vector<int>&, const std::vector<int>&, const std::vector<int>&, const char&, const std::vector<int>&)’:
pmapToTranscripts.cpp:126:20: warning: comparison between signed and unsigned integer expressions [-Wsign-compare]
for(auto i = 0;i < xSize; i++){ // Width per exon in x
~~^~~~~~~
pmapToTranscripts.cpp:130:21: warning: comparison between signed and unsigned integer expressions [-Wsign-compare]
for(auto i = 0; i < indexSize; i++){ // Width per exon in tx
~~^~~~~~~~~~~
pmapToTranscripts.cpp:136:21: warning: comparison between signed and unsigned integer expressions [-Wsign-compare]
for(auto i = 1; i < indexSize; i++){
~~^~~~~~~~~~~
pmapToTranscripts.cpp:147:22: warning: comparison between signed and unsigned integer expressions [-Wsign-compare]
for (auto i = 1; i < 2 * xSize; i = i + 2) {
~~^~~~~~~~~~~
g++ -std=gnu++11 -shared -L/home/biocbuild/bbs-3.12-bioc/R/lib -L/usr/local/lib -o ORFik.so RcppExports.o findORFsHelpers.o findOrfs.o findOrfsFasta.o pmapFromTranscripts.o pmapToTranscripts.o -L/home/biocbuild/bbs-3.12-bioc/R/lib -lR
installing to /home/biocbuild/bbs-3.12-bioc/R/library/00LOCK-ORFik/00new/ORFik/libs
** R
** inst
** byte-compile and prepare package for lazy loading
** help
*** installing help indices
** building package indices
** installing vignettes
** testing if installed package can be loaded from temporary location
** checking absolute paths in shared objects and dynamic libraries
** testing if installed package can be loaded from final location
** testing if installed package keeps a record of temporary installation path
* DONE (ORFik)
ORFik.Rcheck/tests/testthat.Rout
R version 4.0.5 (2021-03-31) -- "Shake and Throw"
Copyright (C) 2021 The R Foundation for Statistical Computing
Platform: x86_64-pc-linux-gnu (64-bit)
R is free software and comes with ABSOLUTELY NO WARRANTY.
You are welcome to redistribute it under certain conditions.
Type 'license()' or 'licence()' for distribution details.
R is a collaborative project with many contributors.
Type 'contributors()' for more information and
'citation()' on how to cite R or R packages in publications.
Type 'demo()' for some demos, 'help()' for on-line help, or
'help.start()' for an HTML browser interface to help.
Type 'q()' to quit R.
> library(testthat)
> library(ORFik)
Loading required package: IRanges
Loading required package: BiocGenerics
Loading required package: parallel
Attaching package: 'BiocGenerics'
The following objects are masked from 'package:parallel':
clusterApply, clusterApplyLB, clusterCall, clusterEvalQ,
clusterExport, clusterMap, parApply, parCapply, parLapply,
parLapplyLB, parRapply, parSapply, parSapplyLB
The following objects are masked from 'package:stats':
IQR, mad, sd, var, xtabs
The following objects are masked from 'package:base':
Filter, Find, Map, Position, Reduce, anyDuplicated, append,
as.data.frame, basename, cbind, colnames, dirname, do.call,
duplicated, eval, evalq, get, grep, grepl, intersect, is.unsorted,
lapply, mapply, match, mget, order, paste, pmax, pmax.int, pmin,
pmin.int, rank, rbind, rownames, sapply, setdiff, sort, table,
tapply, union, unique, unsplit, which.max, which.min
Loading required package: S4Vectors
Loading required package: stats4
Attaching package: 'S4Vectors'
The following object is masked from 'package:base':
expand.grid
Loading required package: GenomicRanges
Loading required package: GenomeInfoDb
Loading required package: GenomicAlignments
Loading required package: SummarizedExperiment
Loading required package: MatrixGenerics
Loading required package: matrixStats
Attaching package: 'MatrixGenerics'
The following objects are masked from 'package:matrixStats':
colAlls, colAnyNAs, colAnys, colAvgsPerRowSet, colCollapse,
colCounts, colCummaxs, colCummins, colCumprods, colCumsums,
colDiffs, colIQRDiffs, colIQRs, colLogSumExps, colMadDiffs,
colMads, colMaxs, colMeans2, colMedians, colMins, colOrderStats,
colProds, colQuantiles, colRanges, colRanks, colSdDiffs, colSds,
colSums2, colTabulates, colVarDiffs, colVars, colWeightedMads,
colWeightedMeans, colWeightedMedians, colWeightedSds,
colWeightedVars, rowAlls, rowAnyNAs, rowAnys, rowAvgsPerColSet,
rowCollapse, rowCounts, rowCummaxs, rowCummins, rowCumprods,
rowCumsums, rowDiffs, rowIQRDiffs, rowIQRs, rowLogSumExps,
rowMadDiffs, rowMads, rowMaxs, rowMeans2, rowMedians, rowMins,
rowOrderStats, rowProds, rowQuantiles, rowRanges, rowRanks,
rowSdDiffs, rowSds, rowSums2, rowTabulates, rowVarDiffs, rowVars,
rowWeightedMads, rowWeightedMeans, rowWeightedMedians,
rowWeightedSds, rowWeightedVars
Loading required package: Biobase
Welcome to Bioconductor
Vignettes contain introductory material; view with
'browseVignettes()'. To cite Bioconductor, see
'citation("Biobase")', and for packages 'citation("pkgname")'.
Attaching package: 'Biobase'
The following object is masked from 'package:MatrixGenerics':
rowMedians
The following objects are masked from 'package:matrixStats':
anyMissing, rowMedians
Loading required package: Biostrings
Loading required package: XVector
Attaching package: 'Biostrings'
The following object is masked from 'package:base':
strsplit
Loading required package: Rsamtools
>
> test_check("ORFik")
widths group.size
Min. : 6 Min. :1.000
1st Qu.: 9 1st Qu.:1.000
Median :12 Median :1.000
Mean :12 Mean :1.667
3rd Qu.:15 3rd Qu.:2.000
Max. :18 Max. :3.000
[1] "CAGE_heart"
[1] "RFP_heart"
[1] "RFP"
[1] "RNA_heart"
[ FAIL 0 | WARN 0 | SKIP 0 | PASS 331 ]
>
> proc.time()
user system elapsed
101.648 2.612 104.625
ORFik.Rcheck/ORFik-Ex.timings
| name | user | system | elapsed | |
| DTEG.analysis | 0 | 0 | 0 | |
| DTEG.plot | 0 | 0 | 0 | |
| ORFik.template.experiment | 0.576 | 0.040 | 0.617 | |
| ORFikQC | 0.356 | 0.016 | 0.374 | |
| QCreport | 0.296 | 0.020 | 0.318 | |
| QCstats | 1.456 | 0.096 | 1.559 | |
| QCstats.plot | 0.428 | 0.004 | 0.432 | |
| RiboQC.plot | 0.428 | 0.000 | 0.429 | |
| STAR.align.folder | 0 | 0 | 0 | |
| STAR.align.single | 0 | 0 | 0 | |
| STAR.index | 0 | 0 | 0 | |
| STAR.install | 0 | 0 | 0 | |
| STAR.remove.crashed.genome | 0 | 0 | 0 | |
| TOP.Motif.ecdf | 0 | 0 | 0 | |
| assignTSSByCage | 0.000 | 0.004 | 0.003 | |
| bamVarName | 0.708 | 0.000 | 0.710 | |
| collapse.by.scores | 0.240 | 0.000 | 0.239 | |
| collapse.fastq | 0 | 0 | 0 | |
| collapseDuplicatedReads-GAlignmentPairs-method | 0.080 | 0.004 | 0.085 | |
| collapseDuplicatedReads-GAlignments-method | 0.044 | 0.000 | 0.046 | |
| collapseDuplicatedReads-GRanges-method | 0.028 | 0.000 | 0.028 | |
| collapseDuplicatedReads | 0.028 | 0.004 | 0.030 | |
| computeFeatures | 5.288 | 0.012 | 5.310 | |
| computeFeaturesCage | 0 | 0 | 0 | |
| config.exper | 0 | 0 | 0 | |
| convertLibs | 0.244 | 0.000 | 0.240 | |
| convertToOneBasedRanges | 0.128 | 0.000 | 0.129 | |
| countOverlapsW | 0.088 | 0.004 | 0.090 | |
| countTable | 0.240 | 0.000 | 0.239 | |
| coverageHeatMap | 1.176 | 0.000 | 1.177 | |
| coveragePerTiling | 0.740 | 0.004 | 0.746 | |
| coverageScorings | 0.012 | 0.000 | 0.008 | |
| create.experiment | 0.244 | 0.000 | 0.242 | |
| defineTrailer | 0.208 | 0.000 | 0.208 | |
| detectRibosomeShifts | 0.004 | 0.000 | 0.002 | |
| disengagementScore | 0.816 | 0.000 | 0.819 | |
| distToCds | 0.240 | 0.000 | 0.241 | |
| distToTSS | 0.204 | 0.004 | 0.208 | |
| download.SRA | 0 | 0 | 0 | |
| download.SRA.metadata | 0 | 0 | 0 | |
| entropy | 1.396 | 0.000 | 1.400 | |
| experiment-class | 0.468 | 0.000 | 0.470 | |
| export.bed12 | 0.040 | 0.000 | 0.039 | |
| export.ofst-GAlignmentPairs-method | 0.124 | 0.000 | 0.123 | |
| export.ofst-GAlignments-method | 0.116 | 0.000 | 0.114 | |
| export.ofst-GRanges-method | 0.116 | 0.000 | 0.117 | |
| export.ofst | 0.096 | 0.000 | 0.096 | |
| export.wiggle | 0.044 | 0.004 | 0.051 | |
| extendLeaders | 1.592 | 0.016 | 1.660 | |
| extendTrailers | 0.856 | 0.000 | 0.857 | |
| filepath | 0.236 | 0.000 | 0.237 | |
| filterTranscripts | 1.404 | 0.000 | 1.407 | |
| fimport | 0.464 | 0.012 | 0.491 | |
| findFa | 0.008 | 0.000 | 0.006 | |
| findMapORFs | 0.756 | 0.000 | 0.754 | |
| findORFs | 0.200 | 0.000 | 0.201 | |
| findORFsFasta | 0.096 | 0.004 | 0.142 | |
| findPeaksPerGene | 1.764 | 0.000 | 1.766 | |
| findUORFs | 0.000 | 0.000 | 0.001 | |
| firstEndPerGroup | 0.084 | 0.000 | 0.083 | |
| firstExonPerGroup | 0.088 | 0.000 | 0.087 | |
| firstStartPerGroup | 0.068 | 0.004 | 0.071 | |
| floss | 0.292 | 0.000 | 0.284 | |
| fpkm | 0.116 | 0.000 | 0.116 | |
| fractionLength | 0.056 | 0.000 | 0.056 | |
| fread.bed | 0.060 | 0.052 | 0.126 | |
| gcContent | 0.496 | 0.032 | 0.528 | |
| getGenomeAndAnnotation | 0 | 0 | 0 | |
| get_genome_fasta | 0 | 0 | 0 | |
| get_genome_gtf | 0 | 0 | 0 | |
| get_noncoding_rna | 0 | 0 | 0 | |
| get_phix_genome | 0.000 | 0.000 | 0.001 | |
| get_silva_rRNA | 0 | 0 | 0 | |
| groupGRangesBy | 0.1 | 0.0 | 0.1 | |
| groupings | 0.088 | 0.000 | 0.091 | |
| heatMapRegion | 0.312 | 0.004 | 0.316 | |
| import.ofst | 0.072 | 0.000 | 0.074 | |
| initiationScore | 0.884 | 0.000 | 0.884 | |
| insideOutsideORF | 0.928 | 0.000 | 0.929 | |
| install.fastp | 0 | 0 | 0 | |
| install.sratoolkit | 0.000 | 0.000 | 0.001 | |
| isInFrame | 0.228 | 0.000 | 0.228 | |
| isOverlapping | 0.252 | 0.000 | 0.252 | |
| kozakHeatmap | 0 | 0 | 0 | |
| kozakSequenceScore | 0.560 | 0.000 | 0.563 | |
| lastExonEndPerGroup | 0.120 | 0.000 | 0.124 | |
| lastExonPerGroup | 0.140 | 0.004 | 0.144 | |
| lastExonStartPerGroup | 0.076 | 0.000 | 0.076 | |
| list.experiments | 0.028 | 0.000 | 0.027 | |
| loadRegion | 2.012 | 0.004 | 2.023 | |
| loadRegions | 1.088 | 0.000 | 1.094 | |
| loadTxdb | 0.152 | 0.000 | 0.151 | |
| longestORFs | 0.152 | 0.000 | 0.153 | |
| makeORFNames | 0.1 | 0.0 | 0.1 | |
| makeSummarizedExperimentFromBam | 0.268 | 0.000 | 0.268 | |
| mergeFastq | 0 | 0 | 0 | |
| metaWindow | 0.308 | 0.000 | 0.309 | |
| numExonsPerGroup | 0.1 | 0.0 | 0.1 | |
| orfScore | 0.968 | 0.004 | 0.968 | |
| organism.df | 0.328 | 0.000 | 0.329 | |
| outputLibs | 0.256 | 0.004 | 0.258 | |
| pSitePlot | 0.512 | 0.000 | 0.513 | |
| pmapFromTranscriptF | 0.112 | 0.000 | 0.111 | |
| pmapToTranscriptF | 0.120 | 0.000 | 0.121 | |
| rankOrder | 0.156 | 0.000 | 0.156 | |
| read.experiment | 0.340 | 0.000 | 0.344 | |
| readBam | 0.184 | 0.000 | 0.187 | |
| readWidths | 0.016 | 0.000 | 0.016 | |
| reassignTSSbyCage | 0.640 | 0.000 | 0.641 | |
| reassignTxDbByCage | 0 | 0 | 0 | |
| reduceKeepAttr | 0.152 | 0.000 | 0.151 | |
| regionPerReadLength | 2.716 | 0.496 | 3.230 | |
| remove.experiments | 0.268 | 0.000 | 0.266 | |
| ribosomeReleaseScore | 0.204 | 0.000 | 0.207 | |
| ribosomeStallingScore | 0.356 | 0.012 | 0.367 | |
| save.experiment | 0.272 | 0.008 | 0.279 | |
| scaledWindowPositions | 0.420 | 0.000 | 0.416 | |
| seqnamesPerGroup | 0.076 | 0.000 | 0.077 | |
| shiftFootprints | 0.004 | 0.000 | 0.001 | |
| shiftFootprintsByExperiment | 5.836 | 0.064 | 5.919 | |
| shiftPlots | 0.408 | 0.000 | 0.411 | |
| shifts.load | 0.344 | 0.000 | 0.346 | |
| simpleLibs | 0.236 | 0.000 | 0.234 | |
| sortPerGroup | 0.384 | 0.000 | 0.383 | |
| startCodons | 1.036 | 0.004 | 1.045 | |
| startDefinition | 0 | 0 | 0 | |
| startRegion | 0.604 | 0.000 | 0.606 | |
| startSites | 0.360 | 0.000 | 0.363 | |
| stopCodons | 0.672 | 0.000 | 0.674 | |
| stopDefinition | 0 | 0 | 0 | |
| stopRegion | 0.640 | 0.000 | 0.641 | |
| stopSites | 0.484 | 0.000 | 0.482 | |
| strandBool | 0.008 | 0.000 | 0.009 | |
| strandPerGroup | 0.068 | 0.004 | 0.070 | |
| te.plot | 0.000 | 0.000 | 0.001 | |
| te.table | 0 | 0 | 0 | |
| te_rna.plot | 0 | 0 | 0 | |
| tile1 | 0.24 | 0.00 | 0.24 | |
| topMotif | 0 | 0 | 0 | |
| transcriptWindow | 1.268 | 0.000 | 1.270 | |
| translationalEff | 0.188 | 0.000 | 0.186 | |
| txNames | 0.096 | 0.000 | 0.095 | |
| txNamesToGeneNames | 1.200 | 0.000 | 1.206 | |
| uORFSearchSpace | 0.632 | 0.000 | 0.630 | |
| uniqueGroups | 0.164 | 0.000 | 0.166 | |
| uniqueOrder | 0.204 | 0.000 | 0.207 | |
| unlistGrl | 0.04 | 0.00 | 0.04 | |
| widthPerGroup | 0.052 | 0.000 | 0.054 | |
| windowCoveragePlot | 0.564 | 0.000 | 0.562 | |
| windowPerGroup | 0.364 | 0.000 | 0.367 | |
| windowPerReadLength | 1.140 | 0.000 | 1.138 | |