| Back to Multiple platform build/check report for BioC 3.12 |
|
This page was generated on 2021-05-06 12:32:30 -0400 (Thu, 06 May 2021).
|
To the developers/maintainers of the NewWave package: Please make sure to use the following settings in order to reproduce any error or warning you see on this page. |
| Package 1225/1974 | Hostname | OS / Arch | INSTALL | BUILD | CHECK | BUILD BIN | ||||||||
| NewWave 1.0.2 (landing page) Federico Agostinis
| malbec1 | Linux (Ubuntu 18.04.5 LTS) / x86_64 | OK | ERROR | skipped | |||||||||
| tokay1 | Windows Server 2012 R2 Standard / x64 | OK | OK | OK | OK | |||||||||
| merida1 | macOS 10.14.6 Mojave / x86_64 | OK | OK | OK | OK | |||||||||
| Package: NewWave |
| Version: 1.0.2 |
| Command: rm -rf NewWave.buildbin-libdir && mkdir NewWave.buildbin-libdir && C:\Users\biocbuild\bbs-3.12-bioc\R\bin\R.exe CMD INSTALL --merge-multiarch --build --library=NewWave.buildbin-libdir NewWave_1.0.2.tar.gz |
| StartedAt: 2021-05-06 09:38:47 -0400 (Thu, 06 May 2021) |
| EndedAt: 2021-05-06 09:39:38 -0400 (Thu, 06 May 2021) |
| EllapsedTime: 51.0 seconds |
| RetCode: 0 |
| Status: OK |
| PackageFile: NewWave_1.0.2.zip |
| PackageFileSize: 393.5 KiB |
##############################################################################
##############################################################################
###
### Running command:
###
### rm -rf NewWave.buildbin-libdir && mkdir NewWave.buildbin-libdir && C:\Users\biocbuild\bbs-3.12-bioc\R\bin\R.exe CMD INSTALL --merge-multiarch --build --library=NewWave.buildbin-libdir NewWave_1.0.2.tar.gz
###
##############################################################################
##############################################################################
install for i386
* installing *source* package 'NewWave' ...
** using staged installation
** R
** inst
** byte-compile and prepare package for lazy loading
** help
*** installing help indices
converting help for package 'NewWave'
finding HTML links ... done
delayed_initialization html
delayed_optimization html
initialization html
nb.loglik.matrix html
newAIC html
newAlpha html
newBIC html
newBeta html
newEpsilon_W html
newEpsilon_alpha html
newEpsilon_beta html
newEpsilon_gamma html
newEpsilon_zeta html
newFit html
newGamma html
newLogMu html
newMu html
newPhi html
newSim html
newTheta html
newV html
newW html
newWave html
newX html
newZeta html
newloglik html
newmodel-class html
newmodel html
newpenalty html
numberFactors html
numberFeatures html
numberParams html
numberSamples html
optimization html
setup html
** building package indices
** installing vignettes
** testing if installed package can be loaded from temporary location
** testing if installed package can be loaded from final location
** testing if installed package keeps a record of temporary installation path
install for x64
* installing *source* package 'NewWave' ...
** testing if installed package can be loaded
* MD5 sums
packaged installation of 'NewWave' as NewWave_1.0.2.zip
* DONE (NewWave)