| Back to Multiple platform build/check report for BioC 3.12 |
|
This page was generated on 2021-05-06 12:32:28 -0400 (Thu, 06 May 2021).
|
To the developers/maintainers of the NetSAM package: Please make sure to use the following settings in order to reproduce any error or warning you see on this page. |
| Package 1222/1974 | Hostname | OS / Arch | INSTALL | BUILD | CHECK | BUILD BIN | ||||||||
| NetSAM 1.30.0 (landing page) Bing Zhang
| malbec1 | Linux (Ubuntu 18.04.5 LTS) / x86_64 | OK | OK | OK | |||||||||
| tokay1 | Windows Server 2012 R2 Standard / x64 | OK | OK | OK | OK | |||||||||
| merida1 | macOS 10.14.6 Mojave / x86_64 | OK | OK | OK | OK | |||||||||
| Package: NetSAM |
| Version: 1.30.0 |
| Command: C:\cygwin\bin\curl.exe -O http://172.29.0.3/BBS/3.12/bioc/src/contrib/NetSAM_1.30.0.tar.gz && rm -rf NetSAM.buildbin-libdir && mkdir NetSAM.buildbin-libdir && C:\Users\biocbuild\bbs-3.12-bioc\R\bin\R.exe CMD INSTALL --merge-multiarch --build --library=NetSAM.buildbin-libdir NetSAM_1.30.0.tar.gz && C:\Users\biocbuild\bbs-3.12-bioc\R\bin\R.exe CMD INSTALL NetSAM_1.30.0.zip && rm NetSAM_1.30.0.tar.gz NetSAM_1.30.0.zip |
| StartedAt: 2021-05-05 17:29:16 -0400 (Wed, 05 May 2021) |
| EndedAt: 2021-05-05 17:29:38 -0400 (Wed, 05 May 2021) |
| EllapsedTime: 22.6 seconds |
| RetCode: 0 |
| Status: OK |
##############################################################################
##############################################################################
###
### Running command:
###
### C:\cygwin\bin\curl.exe -O http://172.29.0.3/BBS/3.12/bioc/src/contrib/NetSAM_1.30.0.tar.gz && rm -rf NetSAM.buildbin-libdir && mkdir NetSAM.buildbin-libdir && C:\Users\biocbuild\bbs-3.12-bioc\R\bin\R.exe CMD INSTALL --merge-multiarch --build --library=NetSAM.buildbin-libdir NetSAM_1.30.0.tar.gz && C:\Users\biocbuild\bbs-3.12-bioc\R\bin\R.exe CMD INSTALL NetSAM_1.30.0.zip && rm NetSAM_1.30.0.tar.gz NetSAM_1.30.0.zip
###
##############################################################################
##############################################################################
% Total % Received % Xferd Average Speed Time Time Time Current
Dload Upload Total Spent Left Speed
0 0 0 0 0 0 0 0 --:--:-- --:--:-- --:--:-- 0
100 31132 100 31132 0 0 2089k 0 --:--:-- --:--:-- --:--:-- 2338k
install for i386
* installing *source* package 'NetSAM' ...
** using staged installation
** R
** data
** inst
** byte-compile and prepare package for lazy loading
** help
*** installing help indices
converting help for package 'NetSAM'
finding HTML links ... done
NetSAM-package html
NetSAM html
inputNetwork html
** building package indices
** installing vignettes
** testing if installed package can be loaded from temporary location
******************************************
* *
* Welcome to use NetSAM ! *
* *
******************************************
** testing if installed package can be loaded from final location
******************************************
* *
* Welcome to use NetSAM ! *
* *
******************************************
** testing if installed package keeps a record of temporary installation path
install for x64
* installing *source* package 'NetSAM' ...
** testing if installed package can be loaded
******************************************
* *
* Welcome to use NetSAM ! *
* *
******************************************
* MD5 sums
packaged installation of 'NetSAM' as NetSAM_1.30.0.zip
* DONE (NetSAM)
* installing to library 'C:/Users/biocbuild/bbs-3.12-bioc/R/library'
package 'NetSAM' successfully unpacked and MD5 sums checked