| Back to Multiple platform build/check report for BioC 3.12 |
|
This page was generated on 2021-05-06 12:35:56 -0400 (Thu, 06 May 2021).
|
To the developers/maintainers of the NarrowPeaks package: Please make sure to use the following settings in order to reproduce any error or warning you see on this page. |
| Package 1201/1974 | Hostname | OS / Arch | INSTALL | BUILD | CHECK | BUILD BIN | ||||||||
Pedro Madrigal
| malbec1 | Linux (Ubuntu 18.04.5 LTS) / x86_64 | OK | OK | ERROR | |||||||||
| tokay1 | Windows Server 2012 R2 Standard / x64 | OK | OK | ERROR | OK | |||||||||
| merida1 | macOS 10.14.6 Mojave / x86_64 | OK | OK | ERROR | OK | |||||||||
| Package: NarrowPeaks |
| Version: 1.34.0 |
| Command: rm -rf NarrowPeaks.buildbin-libdir && mkdir NarrowPeaks.buildbin-libdir && /Users/biocbuild/BBS/utils/build-universal.sh NarrowPeaks_1.34.0.tar.gz /Library/Frameworks/R.framework/Versions/Current/Resources/bin/R NarrowPeaks.buildbin-libdir |
| StartedAt: 2021-05-06 09:23:00 -0400 (Thu, 06 May 2021) |
| EndedAt: 2021-05-06 09:23:43 -0400 (Thu, 06 May 2021) |
| EllapsedTime: 43.0 seconds |
| RetCode: 0 |
| Status: OK |
| PackageFile: NarrowPeaks_1.34.0.tgz |
| PackageFileSize: 424.9 KiB |
##############################################################################
##############################################################################
###
### Running command:
###
### rm -rf NarrowPeaks.buildbin-libdir && mkdir NarrowPeaks.buildbin-libdir && /Users/biocbuild/BBS/utils/build-universal.sh NarrowPeaks_1.34.0.tar.gz /Library/Frameworks/R.framework/Versions/Current/Resources/bin/R NarrowPeaks.buildbin-libdir
###
##############################################################################
##############################################################################
>>>>>>>
>>>>>>> INSTALLATION WITH 'R CMD INSTALL --preclean --no-multiarch --library=NarrowPeaks.buildbin-libdir NarrowPeaks_1.34.0.tar.gz'
>>>>>>>
* installing *source* package ‘NarrowPeaks’ ...
** using staged installation
** libs
clang -mmacosx-version-min=10.13 -I"/Library/Frameworks/R.framework/Resources/include" -DNDEBUG -I/usr/local/include -fPIC -Wall -g -O2 -c wig2CSARScore.c -o wig2CSARScore.o
wig2CSARScore.c:240:11: warning: explicitly assigning value of variable of type 'int' to itself [-Wself-assign]
for(i=i;i<x+span_c;i++){
~^~
wig2CSARScore.c:246:10: warning: explicitly assigning value of variable of type 'int' to itself [-Wself-assign]
for(i=i;i<=chrL[m];i++)
~^~
wig2CSARScore.c:267:11: warning: explicitly assigning value of variable of type 'int' to itself [-Wself-assign]
for(i=i;i<x+span_c;i++){
~^~
wig2CSARScore.c:273:10: warning: explicitly assigning value of variable of type 'int' to itself [-Wself-assign]
for(i=i;i<=chrL[m];i++)
~^~
wig2CSARScore.c:352:11: warning: explicitly assigning value of variable of type 'int' to itself [-Wself-assign]
for(i=i;i<start_c+span_c;i++){
~^~
wig2CSARScore.c:359:10: warning: explicitly assigning value of variable of type 'int' to itself [-Wself-assign]
for(i=i;i<=chrL[m];i++)
~^~
wig2CSARScore.c:380:11: warning: explicitly assigning value of variable of type 'int' to itself [-Wself-assign]
for(i=i;i<start_c+span_c;i++){
~^~
wig2CSARScore.c:387:10: warning: explicitly assigning value of variable of type 'int' to itself [-Wself-assign]
for(i=i;i<=chrL[m];i++)
~^~
8 warnings generated.
clang -mmacosx-version-min=10.13 -I"/Library/Frameworks/R.framework/Resources/include" -DNDEBUG -I/usr/local/include -fPIC -Wall -g -O2 -c wig2CSARScore_R_wrapper.c -o wig2CSARScore_R_wrapper.o
clang -mmacosx-version-min=10.13 -dynamiclib -Wl,-headerpad_max_install_names -undefined dynamic_lookup -single_module -multiply_defined suppress -L/Library/Frameworks/R.framework/Resources/lib -L/usr/local/lib -o NarrowPeaks.so wig2CSARScore.o wig2CSARScore_R_wrapper.o -F/Library/Frameworks/R.framework/.. -framework R -Wl,-framework -Wl,CoreFoundation
installing to /Users/biocbuild/bbs-3.12-bioc/meat/NarrowPeaks.buildbin-libdir/00LOCK-NarrowPeaks/00new/NarrowPeaks/libs
** R
** data
** inst
** byte-compile and prepare package for lazy loading
** help
*** installing help indices
** building package indices
** installing vignettes
** testing if installed package can be loaded from temporary location
Warning: Package 'NarrowPeaks' is deprecated and will be removed from
Bioconductor version 3.13
** checking absolute paths in shared objects and dynamic libraries
** testing if installed package can be loaded from final location
Warning: Package 'NarrowPeaks' is deprecated and will be removed from
Bioconductor version 3.13
** testing if installed package keeps a record of temporary installation path
* DONE (NarrowPeaks)
>>>>>>>
>>>>>>> FIXING LINKS FOR NarrowPeaks.buildbin-libdir/NarrowPeaks/libs/NarrowPeaks.so
>>>>>>>
install_name_tool -change "/usr/local/lib/libgcc_s.1.dylib" "/Library/Frameworks/R.framework/Versions/4.0/Resources/lib/libgcc_s.1.dylib" "NarrowPeaks.buildbin-libdir/NarrowPeaks/libs/NarrowPeaks.so"
install_name_tool -change "/usr/local/lib/libgfortran.5.dylib" "/Library/Frameworks/R.framework/Versions/4.0/Resources/lib/libgfortran.5.dylib" "NarrowPeaks.buildbin-libdir/NarrowPeaks/libs/NarrowPeaks.so"
install_name_tool -change "/usr/local/lib/libquadmath.0.dylib" "/Library/Frameworks/R.framework/Versions/4.0/Resources/lib/libquadmath.0.dylib" "NarrowPeaks.buildbin-libdir/NarrowPeaks/libs/NarrowPeaks.so"