| Back to Multiple platform build/check report for BioC 3.12 |
|
This page was generated on 2021-05-06 12:32:26 -0400 (Thu, 06 May 2021).
|
To the developers/maintainers of the NanoStringDiff package: Please make sure to use the following settings in order to reproduce any error or warning you see on this page. |
| Package 1198/1974 | Hostname | OS / Arch | INSTALL | BUILD | CHECK | BUILD BIN | ||||||||
| NanoStringDiff 1.20.0 (landing page) tingting zhai
| malbec1 | Linux (Ubuntu 18.04.5 LTS) / x86_64 | OK | OK | WARNINGS | |||||||||
| tokay1 | Windows Server 2012 R2 Standard / x64 | OK | OK | WARNINGS | OK | |||||||||
| merida1 | macOS 10.14.6 Mojave / x86_64 | OK | OK | WARNINGS | OK | |||||||||
| Package: NanoStringDiff |
| Version: 1.20.0 |
| Command: chmod a+r NanoStringDiff -R && C:\Users\biocbuild\bbs-3.12-bioc\R\bin\R.exe CMD build --keep-empty-dirs --no-resave-data NanoStringDiff |
| StartedAt: 2021-05-05 22:16:30 -0400 (Wed, 05 May 2021) |
| EndedAt: 2021-05-05 22:17:05 -0400 (Wed, 05 May 2021) |
| EllapsedTime: 34.8 seconds |
| RetCode: 0 |
| Status: OK |
| PackageFile: NanoStringDiff_1.20.0.tar.gz |
| PackageFileSize: 276.8 KiB |
##############################################################################
##############################################################################
###
### Running command:
###
### chmod a+r NanoStringDiff -R && C:\Users\biocbuild\bbs-3.12-bioc\R\bin\R.exe CMD build --keep-empty-dirs --no-resave-data NanoStringDiff
###
##############################################################################
##############################################################################
* checking for file 'NanoStringDiff/DESCRIPTION' ... OK
* preparing 'NanoStringDiff':
* checking DESCRIPTION meta-information ... OK
* cleaning src
* installing the package to build vignettes
* creating vignettes ... OK
Warning: 'inst/doc' files
'NanoStringDiff.Rnw', 'NanoStringDiff.pdf', 'NanoStringDiff.R'
ignored as vignettes have been rebuilt.
Run R CMD build with --no-build-vignettes to prevent rebuilding.
* cleaning src
* checking for LF line-endings in source and make files and shell scripts
* checking for empty or unneeded directories
* looking to see if a 'data/datalist' file should be added
* building 'NanoStringDiff_1.20.0.tar.gz'