| Back to Multiple platform build/check report for BioC 3.12 |
|
This page was generated on 2021-05-06 12:32:25 -0400 (Thu, 06 May 2021).
|
To the developers/maintainers of the NADfinder package: Please make sure to use the following settings in order to reproduce any error or warning you see on this page. |
| Package 1196/1974 | Hostname | OS / Arch | INSTALL | BUILD | CHECK | BUILD BIN | ||||||||
| NADfinder 1.14.0 (landing page) Jianhong Ou
| malbec1 | Linux (Ubuntu 18.04.5 LTS) / x86_64 | OK | OK | OK | |||||||||
| tokay1 | Windows Server 2012 R2 Standard / x64 | OK | OK | OK | OK | |||||||||
| merida1 | macOS 10.14.6 Mojave / x86_64 | OK | OK | OK | OK | |||||||||
| Package: NADfinder |
| Version: 1.14.0 |
| Command: rm -rf NADfinder.buildbin-libdir && mkdir NADfinder.buildbin-libdir && C:\Users\biocbuild\bbs-3.12-bioc\R\bin\R.exe CMD INSTALL --merge-multiarch --build --library=NADfinder.buildbin-libdir NADfinder_1.14.0.tar.gz |
| StartedAt: 2021-05-06 09:37:22 -0400 (Thu, 06 May 2021) |
| EndedAt: 2021-05-06 09:39:09 -0400 (Thu, 06 May 2021) |
| EllapsedTime: 106.9 seconds |
| RetCode: 0 |
| Status: OK |
| PackageFile: NADfinder_1.14.0.zip |
| PackageFileSize: 6.434 MiB |
##############################################################################
##############################################################################
###
### Running command:
###
### rm -rf NADfinder.buildbin-libdir && mkdir NADfinder.buildbin-libdir && C:\Users\biocbuild\bbs-3.12-bioc\R\bin\R.exe CMD INSTALL --merge-multiarch --build --library=NADfinder.buildbin-libdir NADfinder_1.14.0.tar.gz
###
##############################################################################
##############################################################################
install for i386
* installing *source* package 'NADfinder' ...
** using staged installation
** R
** data
*** moving datasets to lazyload DB
** inst
** byte-compile and prepare package for lazy loading
** help
*** installing help indices
converting help for package 'NADfinder'
finding HTML links ... done
IntersectionNotStrict html
NADfinder-package html
backgroundCorrection html
butterFilter html
callPeaks html
computeLibSizeChrom html
cumulativePercentage html
exportSignals html
getCorrelations html
groupZscores html
log2se html
peakdet html
plotSig html
single.count html
smoothRatiosByChromosome html
tileCount html
tileCount2 html
transformData html
trimPeaks html
triplicate.count html
zscoreOverBck html
** building package indices
** installing vignettes
** testing if installed package can be loaded from temporary location
** testing if installed package can be loaded from final location
** testing if installed package keeps a record of temporary installation path
install for x64
* installing *source* package 'NADfinder' ...
** testing if installed package can be loaded
* MD5 sums
packaged installation of 'NADfinder' as NADfinder_1.14.0.zip
* DONE (NADfinder)