| Back to Multiple platform build/check report for BioC 3.12 |
|
This page was generated on 2021-05-06 12:32:24 -0400 (Thu, 06 May 2021).
|
To the developers/maintainers of the MultiDataSet package: Please make sure to use the following settings in order to reproduce any error or warning you see on this page. |
| Package 1178/1974 | Hostname | OS / Arch | INSTALL | BUILD | CHECK | BUILD BIN | ||||||||
| MultiDataSet 1.18.2 (landing page) Xavier EscribĂ Montagut
| malbec1 | Linux (Ubuntu 18.04.5 LTS) / x86_64 | OK | OK | WARNINGS | |||||||||
| tokay1 | Windows Server 2012 R2 Standard / x64 | OK | OK | WARNINGS | OK | |||||||||
| merida1 | macOS 10.14.6 Mojave / x86_64 | OK | OK | WARNINGS | OK | |||||||||
| Package: MultiDataSet |
| Version: 1.18.2 |
| Command: C:\cygwin\bin\curl.exe -O http://172.29.0.3/BBS/3.12/bioc/src/contrib/MultiDataSet_1.18.2.tar.gz && rm -rf MultiDataSet.buildbin-libdir && mkdir MultiDataSet.buildbin-libdir && C:\Users\biocbuild\bbs-3.12-bioc\R\bin\R.exe CMD INSTALL --merge-multiarch --build --library=MultiDataSet.buildbin-libdir MultiDataSet_1.18.2.tar.gz && C:\Users\biocbuild\bbs-3.12-bioc\R\bin\R.exe CMD INSTALL MultiDataSet_1.18.2.zip && rm MultiDataSet_1.18.2.tar.gz MultiDataSet_1.18.2.zip |
| StartedAt: 2021-05-05 17:53:15 -0400 (Wed, 05 May 2021) |
| EndedAt: 2021-05-05 17:54:26 -0400 (Wed, 05 May 2021) |
| EllapsedTime: 70.9 seconds |
| RetCode: 0 |
| Status: OK |
##############################################################################
##############################################################################
###
### Running command:
###
### C:\cygwin\bin\curl.exe -O http://172.29.0.3/BBS/3.12/bioc/src/contrib/MultiDataSet_1.18.2.tar.gz && rm -rf MultiDataSet.buildbin-libdir && mkdir MultiDataSet.buildbin-libdir && C:\Users\biocbuild\bbs-3.12-bioc\R\bin\R.exe CMD INSTALL --merge-multiarch --build --library=MultiDataSet.buildbin-libdir MultiDataSet_1.18.2.tar.gz && C:\Users\biocbuild\bbs-3.12-bioc\R\bin\R.exe CMD INSTALL MultiDataSet_1.18.2.zip && rm MultiDataSet_1.18.2.tar.gz MultiDataSet_1.18.2.zip
###
##############################################################################
##############################################################################
% Total % Received % Xferd Average Speed Time Time Time Current
Dload Upload Total Spent Left Speed
0 0 0 0 0 0 0 0 --:--:-- --:--:-- --:--:-- 0
100 64201 100 64201 0 0 268k 0 --:--:-- --:--:-- --:--:-- 269k
install for i386
* installing *source* package 'MultiDataSet' ...
** using staged installation
Warning in .write_description(db, file.path(outDir, "DESCRIPTION")) :
Unknown encoding with non-ASCII data: converting to ASCII
** R
** data
*** moving datasets to lazyload DB
** inst
** byte-compile and prepare package for lazy loading
in method for 'add_methy' with signature '"MultiDataSet","GenomicRatioSet"': no definition for class "GenomicRatioSet"
** help
*** installing help indices
converting help for package 'MultiDataSet'
finding HTML links ... done
MultiDataSet-class html
MultiDataSet html
ResultSet-class html
add_eset html
add_genexp html
add_methy html
add_rnaseq-methods html
add_rse html
add_se html
add_snps html
add_table html
chrNumToChar html
commonIds html
commonSamples html
getAssociation-methods html
lambdaClayton html
mae2mds html
mds2mae html
opt-methods html
qq_plot html
rowRangesElements html
rset html
volcano_plot html
w_iclusterplus html
w_mcia html
** building package indices
** installing vignettes
** testing if installed package can be loaded from temporary location
** testing if installed package can be loaded from final location
** testing if installed package keeps a record of temporary installation path
install for x64
* installing *source* package 'MultiDataSet' ...
** testing if installed package can be loaded
* MD5 sums
packaged installation of 'MultiDataSet' as MultiDataSet_1.18.2.zip
* DONE (MultiDataSet)
* installing to library 'C:/Users/biocbuild/bbs-3.12-bioc/R/library'
package 'MultiDataSet' successfully unpacked and MD5 sums checked