| Back to Multiple platform build/check report for BioC 3.12 |
|
This page was generated on 2021-05-06 12:32:13 -0400 (Thu, 06 May 2021).
|
To the developers/maintainers of the MethReg package: Please make sure to use the following settings in order to reproduce any error or warning you see on this page. |
| Package 1068/1974 | Hostname | OS / Arch | INSTALL | BUILD | CHECK | BUILD BIN | ||||||||
| MethReg 1.0.0 (landing page) Tiago Silva
| malbec1 | Linux (Ubuntu 18.04.5 LTS) / x86_64 | OK | OK | OK | |||||||||
| tokay1 | Windows Server 2012 R2 Standard / x64 | OK | OK | OK | OK | |||||||||
| merida1 | macOS 10.14.6 Mojave / x86_64 | OK | OK | OK | OK | |||||||||
| Package: MethReg |
| Version: 1.0.0 |
| Command: rm -rf MethReg.buildbin-libdir && mkdir MethReg.buildbin-libdir && C:\Users\biocbuild\bbs-3.12-bioc\R\bin\R.exe CMD INSTALL --merge-multiarch --build --library=MethReg.buildbin-libdir MethReg_1.0.0.tar.gz |
| StartedAt: 2021-05-06 09:30:09 -0400 (Thu, 06 May 2021) |
| EndedAt: 2021-05-06 09:30:59 -0400 (Thu, 06 May 2021) |
| EllapsedTime: 50.5 seconds |
| RetCode: 0 |
| Status: OK |
| PackageFile: MethReg_1.0.0.zip |
| PackageFileSize: 4.132 MiB |
##############################################################################
##############################################################################
###
### Running command:
###
### rm -rf MethReg.buildbin-libdir && mkdir MethReg.buildbin-libdir && C:\Users\biocbuild\bbs-3.12-bioc\R\bin\R.exe CMD INSTALL --merge-multiarch --build --library=MethReg.buildbin-libdir MethReg_1.0.0.tar.gz
###
##############################################################################
##############################################################################
install for i386
* installing *source* package 'MethReg' ...
** using staged installation
** R
** data
*** moving datasets to lazyload DB
** inst
** byte-compile and prepare package for lazy loading
** help
*** installing help indices
converting help for package 'MethReg'
finding HTML links ... done
MethReg html
clinical html
cor_dnam_target_gene html
cor_tf_target_gene html
create_triplet_distance_based html
create_triplet_regulon_based html
dna.met.chr21 html
filter_dnam_by_quant_diff html
filter_exp_by_quant_mean_FC html
filter_genes_zero_expression html
gene.exp.chr21.log2 html
get_human_tfs html
get_met_probes_info html
get_promoter_avg html
get_region_target_gene html
get_residuals html
get_tf_ES html
get_tf_in_region html
interaction_model html
make_dnam_se html
make_exp_se html
make_granges_from_names html
make_names_from_granges html
plot_interaction_model html
plot_stratified_model html
stratified_model html
** building package indices
** installing vignettes
** testing if installed package can be loaded from temporary location
** testing if installed package can be loaded from final location
** testing if installed package keeps a record of temporary installation path
install for x64
* installing *source* package 'MethReg' ...
** testing if installed package can be loaded
* MD5 sums
packaged installation of 'MethReg' as MethReg_1.0.0.zip
* DONE (MethReg)