| Back to Multiple platform build/check report for BioC 3.12 |
|
This page was generated on 2021-05-06 12:32:10 -0400 (Thu, 06 May 2021).
|
To the developers/maintainers of the MesKit package: Please make sure to use the following settings in order to reproduce any error or warning you see on this page. |
| Package 1041/1974 | Hostname | OS / Arch | INSTALL | BUILD | CHECK | BUILD BIN | ||||||||
| MesKit 1.0.1 (landing page) Mengni Liu
| malbec1 | Linux (Ubuntu 18.04.5 LTS) / x86_64 | OK | OK | WARNINGS | |||||||||
| tokay1 | Windows Server 2012 R2 Standard / x64 | OK | OK | WARNINGS | OK | |||||||||
| merida1 | macOS 10.14.6 Mojave / x86_64 | OK | OK | WARNINGS | OK | |||||||||
| Package: MesKit |
| Version: 1.0.1 |
| Command: rm -rf MesKit.buildbin-libdir && mkdir MesKit.buildbin-libdir && C:\Users\biocbuild\bbs-3.12-bioc\R\bin\R.exe CMD INSTALL --merge-multiarch --build --library=MesKit.buildbin-libdir MesKit_1.0.1.tar.gz |
| StartedAt: 2021-05-06 09:28:45 -0400 (Thu, 06 May 2021) |
| EndedAt: 2021-05-06 09:29:23 -0400 (Thu, 06 May 2021) |
| EllapsedTime: 38.4 seconds |
| RetCode: 0 |
| Status: OK |
| PackageFile: MesKit_1.0.1.zip |
| PackageFileSize: 2.55 MiB |
##############################################################################
##############################################################################
###
### Running command:
###
### rm -rf MesKit.buildbin-libdir && mkdir MesKit.buildbin-libdir && C:\Users\biocbuild\bbs-3.12-bioc\R\bin\R.exe CMD INSTALL --merge-multiarch --build --library=MesKit.buildbin-libdir MesKit_1.0.1.tar.gz
###
##############################################################################
##############################################################################
install for i386
* installing *source* package 'MesKit' ...
** using staged installation
** R
** inst
** byte-compile and prepare package for lazy loading
** help
*** installing help indices
converting help for package 'MesKit'
finding HTML links ... done
Maf-class html
MafList-class html
calFst html
calJSI html
calNeiDist html
ccfAUC html
classifyMut html
cna2gene html
compareCCF html
compareTree html
fitSignatures html
getBinaryMatrix html
getBootstrapValue html
getBranchType html
getCCFMatrix html
getMafData html
getMafPatient html
getMafRef html
getMutBranches html
getNonSyn_vc html
getPhyloTree html
getPhyloTreePatient html
getPhyloTreeRef html
getPhyloTreeTsbLabel html
getSampleInfo html
getTree html
getTreeMethod html
mathScore html
mutCluster html
mutHeatmap html
mutTrunkBranch html
phyloTree-class html
phyloTreeList-class html
plotCNA html
plotMutProfile html
plotMutSigProfile html
plotPhyloTree html
readMaf html
readSegment html
runMesKit html
subMaf html
testNeutral html
triMatrix html
** building package indices
** installing vignettes
** testing if installed package can be loaded from temporary location
** testing if installed package can be loaded from final location
** testing if installed package keeps a record of temporary installation path
install for x64
* installing *source* package 'MesKit' ...
** testing if installed package can be loaded
* MD5 sums
packaged installation of 'MesKit' as MesKit_1.0.1.zip
* DONE (MesKit)