| Back to Multiple platform build/check report for BioC 3.12 |
|
This page was generated on 2021-05-06 12:35:38 -0400 (Thu, 06 May 2021).
|
To the developers/maintainers of the Mergeomics package: Please make sure to use the following settings in order to reproduce any error or warning you see on this page. |
| Package 1037/1974 | Hostname | OS / Arch | INSTALL | BUILD | CHECK | BUILD BIN | ||||||||
| Mergeomics 1.18.0 (landing page) Zeyneb Kurt
| malbec1 | Linux (Ubuntu 18.04.5 LTS) / x86_64 | OK | OK | OK | |||||||||
| tokay1 | Windows Server 2012 R2 Standard / x64 | OK | OK | OK | OK | |||||||||
| merida1 | macOS 10.14.6 Mojave / x86_64 | OK | OK | OK | OK | |||||||||
| Package: Mergeomics |
| Version: 1.18.0 |
| Command: /Library/Frameworks/R.framework/Versions/Current/Resources/bin/R CMD check --install=check:Mergeomics.install-out.txt --library=/Library/Frameworks/R.framework/Versions/Current/Resources/library --no-vignettes --timings Mergeomics_1.18.0.tar.gz |
| StartedAt: 2021-05-06 03:24:35 -0400 (Thu, 06 May 2021) |
| EndedAt: 2021-05-06 03:36:32 -0400 (Thu, 06 May 2021) |
| EllapsedTime: 717.3 seconds |
| RetCode: 0 |
| Status: OK |
| CheckDir: Mergeomics.Rcheck |
| Warnings: 0 |
##############################################################################
##############################################################################
###
### Running command:
###
### /Library/Frameworks/R.framework/Versions/Current/Resources/bin/R CMD check --install=check:Mergeomics.install-out.txt --library=/Library/Frameworks/R.framework/Versions/Current/Resources/library --no-vignettes --timings Mergeomics_1.18.0.tar.gz
###
##############################################################################
##############################################################################
* using log directory ‘/Users/biocbuild/bbs-3.12-bioc/meat/Mergeomics.Rcheck’
* using R version 4.0.5 (2021-03-31)
* using platform: x86_64-apple-darwin17.0 (64-bit)
* using session charset: UTF-8
* using option ‘--no-vignettes’
* checking for file ‘Mergeomics/DESCRIPTION’ ... OK
* checking extension type ... Package
* this is package ‘Mergeomics’ version ‘1.18.0’
* checking package namespace information ... OK
* checking package dependencies ... OK
* checking if this is a source package ... OK
* checking if there is a namespace ... OK
* checking for hidden files and directories ... OK
* checking for portable file names ... OK
* checking for sufficient/correct file permissions ... OK
* checking whether package ‘Mergeomics’ can be installed ... OK
* checking installed package size ... NOTE
installed size is 8.4Mb
sub-directories of 1Mb or more:
extdata 7.5Mb
* checking package directory ... OK
* checking ‘build’ directory ... OK
* checking DESCRIPTION meta-information ... OK
* checking top-level files ... OK
* checking for left-over files ... OK
* checking index information ... OK
* checking package subdirectories ... OK
* checking R files for non-ASCII characters ... OK
* checking R files for syntax errors ... OK
* checking whether the package can be loaded ... OK
* checking whether the package can be loaded with stated dependencies ... OK
* checking whether the package can be unloaded cleanly ... OK
* checking whether the namespace can be loaded with stated dependencies ... OK
* checking whether the namespace can be unloaded cleanly ... OK
* checking dependencies in R code ... OK
* checking S3 generic/method consistency ... OK
* checking replacement functions ... OK
* checking foreign function calls ... OK
* checking R code for possible problems ... NOTE
kda.analyze: no visible global function definition for ‘p.adjust’
kda.analyze.exec: no visible global function definition for ‘pnorm’
kda.analyze.simulate: no visible global function definition for ‘rnorm’
kda.prepare: no visible global function definition for ‘quantile’
kda.prepare: no visible global function definition for ‘object.size’
kda.prepare.screen: no visible global function definition for
‘quantile’
kda.prepare.screen: no visible global function definition for ‘median’
kda.start: no visible global function definition for ‘object.size’
kda2cytoscape: no visible global function definition for ‘write.table’
kda2cytoscape.colormap: no visible global function definition for
‘rainbow’
kda2cytoscape.colormap: no visible global function definition for
‘col2rgb’
kda2himmeli: no visible global function definition for ‘quantile’
kda2himmeli: no visible global function definition for ‘write.table’
kda2himmeli.colormap: no visible global function definition for
‘rainbow’
kda2himmeli.colormap: no visible global function definition for
‘col2rgb’
ssea.analyze: no visible global function definition for ‘qnorm’
ssea.analyze: no visible global function definition for ‘approx’
ssea.analyze: no visible global function definition for ‘pnorm’
ssea.analyze.simulate: no visible global function definition for
‘quantile’
ssea.control: no visible global function definition for ‘median’
ssea.control: no visible global function definition for ‘object.size’
ssea.meta: no visible global function definition for ‘qnorm’
ssea.meta: no visible global function definition for ‘quantile’
ssea.meta: no visible global function definition for ‘pnorm’
ssea.meta: no visible global function definition for ‘median’
ssea.meta: no visible global function definition for ‘na.omit’
ssea.prepare: no visible global function definition for ‘median’
ssea.prepare: no visible global function definition for ‘object.size’
ssea.start: no visible global function definition for ‘na.omit’
ssea.start: no visible global function definition for ‘object.size’
ssea.start.configure: no visible global function definition for
‘write.table’
ssea2kda: no visible global function definition for ‘na.omit’
ssea2kda.import: no visible global function definition for ‘na.omit’
tool.aggregate: no visible global function definition for ‘na.omit’
tool.cluster: no visible global function definition for ‘as.dist’
tool.cluster: no visible global function definition for ‘hclust’
tool.fdr.bh: no visible global function definition for ‘qnorm’
tool.fdr.bh: no visible global function definition for ‘p.adjust’
tool.fdr.bh: no visible global function definition for ‘approx’
tool.fdr.empirical: no visible global function definition for ‘qnorm’
tool.fdr.empirical: no visible global function definition for ‘approx’
tool.metap: no visible global function definition for ‘qnorm’
tool.metap: no visible global function definition for ‘pnorm’
tool.normalize: no visible global function definition for ‘sd’
tool.normalize: no visible global function definition for ‘median’
tool.normalize: no visible global function definition for ‘optim’
tool.normalize: no visible global function definition for ‘ks.test’
tool.normalize.quality: no visible global function definition for ‘sd’
tool.normalize.quality: no visible global function definition for
‘ks.test’
tool.overlap: no visible global function definition for ‘phyper’
tool.read: no visible global function definition for ‘read.delim’
tool.read: no visible global function definition for ‘na.omit’
tool.save: no visible global function definition for ‘write.table’
tool.unify: no visible global function definition for ‘sd’
tool.unify: no visible global function definition for ‘quantile’
tool.unify: no visible global function definition for ‘approx’
Undefined global functions or variables:
approx as.dist col2rgb hclust ks.test median na.omit object.size
optim p.adjust phyper pnorm qnorm quantile rainbow read.delim rnorm
sd write.table
Consider adding
importFrom("grDevices", "col2rgb", "rainbow")
importFrom("stats", "approx", "as.dist", "hclust", "ks.test", "median",
"na.omit", "optim", "p.adjust", "phyper", "pnorm", "qnorm",
"quantile", "rnorm", "sd")
importFrom("utils", "object.size", "read.delim", "write.table")
to your NAMESPACE file.
* checking Rd files ... OK
* checking Rd metadata ... OK
* checking Rd cross-references ... OK
* checking for missing documentation entries ... OK
* checking for code/documentation mismatches ... OK
* checking Rd \usage sections ... OK
* checking Rd contents ... OK
* checking for unstated dependencies in examples ... OK
* checking contents of ‘data’ directory ... OK
* checking data for non-ASCII characters ... OK
* checking data for ASCII and uncompressed saves ... OK
* checking sizes of PDF files under ‘inst/doc’ ... OK
* checking files in ‘vignettes’ ... OK
* checking examples ... OK
Examples with CPU (user + system) or elapsed time > 5s
user system elapsed
kda.analyze.exec 11.166 0.274 11.454
kda.analyze.simulate 11.068 0.225 11.307
kda.analyze.test 10.799 0.199 11.014
kda.prepare 10.189 0.168 10.373
ssea2kda 8.293 0.249 8.552
ssea2kda.analyze 7.834 0.241 8.084
ssea.meta 6.597 0.114 6.717
ssea.finish.details 6.302 0.143 6.458
ssea.analyze 6.241 0.194 6.452
ssea.finish.genes 6.276 0.133 6.417
ssea.finish.fdr 6.167 0.152 6.327
ssea2kda.import 6.160 0.157 6.372
ssea.analyze.simulate 5.328 0.124 5.462
ssea.finish 5.307 0.131 5.444
* checking for unstated dependencies in ‘tests’ ... OK
* checking tests ...
Running ‘runTests.R’
OK
* checking for unstated dependencies in vignettes ... OK
* checking package vignettes in ‘inst/doc’ ... OK
* checking running R code from vignettes ... SKIPPED
* checking re-building of vignette outputs ... SKIPPED
* checking PDF version of manual ... OK
* DONE
Status: 2 NOTEs
See
‘/Users/biocbuild/bbs-3.12-bioc/meat/Mergeomics.Rcheck/00check.log’
for details.
Mergeomics.Rcheck/00install.out
############################################################################## ############################################################################## ### ### Running command: ### ### /Library/Frameworks/R.framework/Versions/Current/Resources/bin/R CMD INSTALL Mergeomics ### ############################################################################## ############################################################################## * installing to library ‘/Library/Frameworks/R.framework/Versions/4.0/Resources/library’ * installing *source* package ‘Mergeomics’ ... ** using staged installation ** R ** data ** inst ** byte-compile and prepare package for lazy loading ** help *** installing help indices ** building package indices ** installing vignettes ** testing if installed package can be loaded from temporary location ** testing if installed package can be loaded from final location ** testing if installed package keeps a record of temporary installation path * DONE (Mergeomics)
Mergeomics.Rcheck/tests/runTests.Rout
R version 4.0.5 (2021-03-31) -- "Shake and Throw"
Copyright (C) 2021 The R Foundation for Statistical Computing
Platform: x86_64-apple-darwin17.0 (64-bit)
R is free software and comes with ABSOLUTELY NO WARRANTY.
You are welcome to redistribute it under certain conditions.
Type 'license()' or 'licence()' for distribution details.
R is a collaborative project with many contributors.
Type 'contributors()' for more information and
'citation()' on how to cite R or R packages in publications.
Type 'demo()' for some demos, 'help()' for on-line help, or
'help.start()' for an HTML browser interface to help.
Type 'q()' to quit R.
> BiocGenerics:::testPackage("Mergeomics")
KDA Version:12.7.2015
Parameters:
Search depth: 1
Search direction: 1
Maximum overlap: 0.33
Minimum module size: 20
Minimum degree: automatic
Maximum degree: automatic
Edge factor: 0
Random seed: 1
Importing edges...
TAIL HEAD WEIGHT
Length:140663 Length:140663 Min. :1
Class :character Class :character 1st Qu.:1
Mode :character Mode :character Median :1
Mean :1
3rd Qu.:1
Max. :1
Importing modules...
MODULE NODE
Length:1643 Length:1643
Class :character Class :character
Mode :character Mode :character
Graph: 7.694687 Mb
Minimum degree set to 20
Maximum degree set to 278
Collecting hubs...
4876 hubs (25.21%)
Graph: 13.28496 Mb
Analyzing network...
6675: Dhcr7, n=114, p=2.24e-17
6648: Cit, n=20, p=7.89e-01
6643: Pbx4, n=23, p=2.32e-05
5582: Sypl, n=319, p=2.02e-02
4746: Tcf7l2, n=73, p=2.63e-02
4708: Tpte, n=86, p=5.05e-02
4511: Pzp, n=160, p=8.85e-03
4464: Tsc22d3, n=487, p=4.28e-13
4407: Dntt, n=93, p=2.40e-20
4360: Amica1, n=132, p=1.06e-06
4588,..: Lrg1, n=86, p=5.76e-12
MSEA Version:01.04.2016
Parameters:
Permutation type: gene
Permutations: 100
Random seed: 1
Minimum gene count: 10
Maximum gene count: 500
Maximum overlap between genes: 0.33
Importing modules...
MODULE DESCR
Length:20 Length:20
Class :character Class :character
Mode :character Mode :character
MODULE GENE
Length:2906 Length:2906
Class :character Class :character
Mode :character Mode :character
Importing marker values...
MARKER VALUE
Length:76866 Min. : 0.8094
Class :character 1st Qu.: 0.9450
Mode :character Median : 1.1374
Mean : 1.3944
3rd Qu.: 1.4688
Max. :323.0100
Importing mapping data...
GENE MARKER
Length:132705 Length:132705
Class :character Class :character
Mode :character Mode :character
Merging genes containing shared markers...
WARNING! Limited overlap analysis due to large number of groups.
106208/1673535
213484/1673535
322254/1673535
427721/1673535
530366/1673535
632132/1673535
743800/1673535
843558/1673535
954068/1673535
1065796/1673535
1168600/1673535
1279225/1673535
1388739/1673535
1492895/1673535
1594697/1673535
1673535 comparisons
21115 comparisons
13861 comparisons
12880 comparisons
Job: 11.66891 Mb
Preparing data structures...
Job: 17.11776 Mb
Adding positive controls...
Job: 17.42039 Mb
Estimating enrichment...
100/100 cycles
Normalizing scores...
RUNIT TEST PROTOCOL -- Thu May 6 03:36:22 2021
***********************************************
Number of test functions: 2
Number of errors: 0
Number of failures: 0
1 Test Suite :
Mergeomics RUnit Tests - 2 test functions, 0 errors, 0 failures
Number of test functions: 2
Number of errors: 0
Number of failures: 0
>
> proc.time()
user system elapsed
502.585 10.929 514.100
Mergeomics.Rcheck/Mergeomics-Ex.timings
| name | user | system | elapsed | |
| MSEA.KDA.onestep | 0.003 | 0.001 | 0.004 | |
| job.kda | 0.016 | 0.003 | 0.020 | |
| kda.analyze | 0.021 | 0.005 | 0.026 | |
| kda.analyze.exec | 11.166 | 0.274 | 11.454 | |
| kda.analyze.simulate | 11.068 | 0.225 | 11.307 | |
| kda.analyze.test | 10.799 | 0.199 | 11.014 | |
| kda.configure | 0.001 | 0.000 | 0.002 | |
| kda.finish | 0.148 | 0.016 | 0.165 | |
| kda.finish.estimate | 0.089 | 0.002 | 0.090 | |
| kda.finish.save | 0.109 | 0.002 | 0.110 | |
| kda.finish.summarize | 0.113 | 0.002 | 0.116 | |
| kda.finish.trim | 0.116 | 0.003 | 0.119 | |
| kda.prepare | 10.189 | 0.168 | 10.373 | |
| kda.prepare.overlap | 0.000 | 0.002 | 0.001 | |
| kda.prepare.screen | 0.001 | 0.001 | 0.002 | |
| kda.start | 1.643 | 0.045 | 1.691 | |
| kda.start.edges | 0.002 | 0.001 | 0.002 | |
| kda.start.identify | 0.006 | 0.001 | 0.006 | |
| kda.start.modules | 0.002 | 0.002 | 0.003 | |
| kda2cytoscape | 0.491 | 0.011 | 0.503 | |
| kda2cytoscape.colorize | 0 | 0 | 0 | |
| kda2cytoscape.colormap | 0.000 | 0.000 | 0.001 | |
| kda2cytoscape.drivers | 0.180 | 0.007 | 0.187 | |
| kda2cytoscape.edges | 0.170 | 0.006 | 0.176 | |
| kda2cytoscape.exec | 0.195 | 0.007 | 0.202 | |
| kda2cytoscape.identify | 0.004 | 0.001 | 0.005 | |
| kda2himmeli | 0.491 | 0.011 | 0.503 | |
| kda2himmeli.colorize | 0.001 | 0.000 | 0.001 | |
| kda2himmeli.colormap | 0.001 | 0.000 | 0.001 | |
| kda2himmeli.drivers | 0.165 | 0.006 | 0.171 | |
| kda2himmeli.edges | 0.175 | 0.007 | 0.183 | |
| kda2himmeli.exec | 0.279 | 0.008 | 0.288 | |
| kda2himmeli.identify | 0.004 | 0.000 | 0.005 | |
| ssea.analyze | 6.241 | 0.194 | 6.452 | |
| ssea.analyze.observe | 4.610 | 0.040 | 4.658 | |
| ssea.analyze.randgenes | 4.848 | 0.032 | 4.886 | |
| ssea.analyze.randloci | 4.442 | 0.037 | 4.486 | |
| ssea.analyze.simulate | 5.328 | 0.124 | 5.462 | |
| ssea.analyze.statistic | 0.001 | 0.000 | 0.001 | |
| ssea.control | 3.970 | 0.036 | 4.010 | |
| ssea.finish | 5.307 | 0.131 | 5.444 | |
| ssea.finish.details | 6.302 | 0.143 | 6.458 | |
| ssea.finish.fdr | 6.167 | 0.152 | 6.327 | |
| ssea.finish.genes | 6.276 | 0.133 | 6.417 | |
| ssea.meta | 6.597 | 0.114 | 6.717 | |
| ssea.prepare | 4.203 | 0.033 | 4.243 | |
| ssea.prepare.counts | 3.754 | 0.038 | 3.838 | |
| ssea.prepare.structure | 4.063 | 0.041 | 4.115 | |
| ssea.start | 4.247 | 0.034 | 4.287 | |
| ssea.start.configure | 0.402 | 0.016 | 0.417 | |
| ssea.start.identify | 0.007 | 0.001 | 0.007 | |
| ssea.start.relabel | 4.362 | 0.035 | 4.401 | |
| ssea2kda | 8.293 | 0.249 | 8.552 | |
| ssea2kda.analyze | 7.834 | 0.241 | 8.084 | |
| ssea2kda.import | 6.160 | 0.157 | 6.372 | |
| tool.aggregate | 0.002 | 0.001 | 0.004 | |
| tool.cluster | 0.018 | 0.001 | 0.019 | |
| tool.cluster.static | 0.001 | 0.001 | 0.002 | |
| tool.coalesce | 0.065 | 0.001 | 0.066 | |
| tool.coalesce.exec | 0.124 | 0.001 | 0.125 | |
| tool.coalesce.find | 0.151 | 0.001 | 0.152 | |
| tool.coalesce.merge | 0.162 | 0.002 | 0.164 | |
| tool.fdr | 0.001 | 0.001 | 0.001 | |
| tool.fdr.bh | 0.001 | 0.000 | 0.001 | |
| tool.fdr.empirical | 0.001 | 0.000 | 0.001 | |
| tool.graph | 1.557 | 0.028 | 1.589 | |
| tool.graph.degree | 1.697 | 0.038 | 1.739 | |
| tool.graph.list | 1.517 | 0.029 | 1.548 | |
| tool.metap | 0.005 | 0.001 | 0.005 | |
| tool.normalize | 0.023 | 0.001 | 0.024 | |
| tool.normalize.quality | 0.017 | 0.001 | 0.017 | |
| tool.overlap | 0.011 | 0.001 | 0.013 | |
| tool.read | 0.271 | 0.006 | 0.278 | |
| tool.save | 0.002 | 0.002 | 0.003 | |
| tool.subgraph | 0.110 | 0.003 | 0.112 | |
| tool.subgraph.find | 0.131 | 0.003 | 0.135 | |
| tool.subgraph.search | 0.109 | 0.003 | 0.112 | |
| tool.subgraph.stats | 0.131 | 0.003 | 0.135 | |
| tool.translate | 0.117 | 0.007 | 0.124 | |
| tool.unify | 0.002 | 0.000 | 0.002 | |