| Back to Multiple platform build/check report for BioC 3.12 |
|
This page was generated on 2021-05-06 12:32:10 -0400 (Thu, 06 May 2021).
|
To the developers/maintainers of the MeSHDbi package: Please make sure to use the following settings in order to reproduce any error or warning you see on this page. |
| Package 1038/1974 | Hostname | OS / Arch | INSTALL | BUILD | CHECK | BUILD BIN | ||||||||
| MeSHDbi 1.26.0 (landing page) Koki Tsuyuzaki
| malbec1 | Linux (Ubuntu 18.04.5 LTS) / x86_64 | OK | OK | OK | |||||||||
| tokay1 | Windows Server 2012 R2 Standard / x64 | OK | OK | OK | OK | |||||||||
| merida1 | macOS 10.14.6 Mojave / x86_64 | OK | OK | OK | OK | |||||||||
| Package: MeSHDbi |
| Version: 1.26.0 |
| Command: rm -rf MeSHDbi.buildbin-libdir && mkdir MeSHDbi.buildbin-libdir && C:\Users\biocbuild\bbs-3.12-bioc\R\bin\R.exe CMD INSTALL --merge-multiarch --build --library=MeSHDbi.buildbin-libdir MeSHDbi_1.26.0.tar.gz |
| StartedAt: 2021-05-06 09:28:34 -0400 (Thu, 06 May 2021) |
| EndedAt: 2021-05-06 09:29:16 -0400 (Thu, 06 May 2021) |
| EllapsedTime: 42.0 seconds |
| RetCode: 0 |
| Status: OK |
| PackageFile: MeSHDbi_1.26.0.zip |
| PackageFileSize: 392.4 KiB |
##############################################################################
##############################################################################
###
### Running command:
###
### rm -rf MeSHDbi.buildbin-libdir && mkdir MeSHDbi.buildbin-libdir && C:\Users\biocbuild\bbs-3.12-bioc\R\bin\R.exe CMD INSTALL --merge-multiarch --build --library=MeSHDbi.buildbin-libdir MeSHDbi_1.26.0.tar.gz
###
##############################################################################
##############################################################################
install for i386
* installing *source* package 'MeSHDbi' ...
** using staged installation
** R
** data
** inst
** byte-compile and prepare package for lazy loading
Creating a new generic function for 'packageName' in package 'MeSHDbi'
** help
*** installing help indices
converting help for package 'MeSHDbi'
finding HTML links ... done
MeSHDb html
PAO1 html
listDatabases html
makeMeSHPackage html
meshVersion html
metaPAO1 html
nomenclature html
packageName html
** building package indices
** installing vignettes
** testing if installed package can be loaded from temporary location
** testing if installed package can be loaded from final location
** testing if installed package keeps a record of temporary installation path
install for x64
* installing *source* package 'MeSHDbi' ...
** testing if installed package can be loaded
* MD5 sums
packaged installation of 'MeSHDbi' as MeSHDbi_1.26.0.zip
* DONE (MeSHDbi)